BEGIN:VCALENDAR
VERSION:2.0
PRODID:-//Akademia Muzyczna im. Krzysztofa Pendereckiego w Krakowie - ECPv6.15.20//NONSGML v1.0//EN
CALSCALE:GREGORIAN
METHOD:PUBLISH
X-WR-CALNAME:Akademia Muzyczna im. Krzysztofa Pendereckiego w Krakowie
X-ORIGINAL-URL:https://www.amuz.krakow.pl
X-WR-CALDESC:Wydarzenia dla Akademia Muzyczna im. Krzysztofa Pendereckiego w Krakowie
REFRESH-INTERVAL;VALUE=DURATION:PT1H
X-Robots-Tag:noindex
X-PUBLISHED-TTL:PT1H
BEGIN:VTIMEZONE
TZID:Europe/Warsaw
BEGIN:DAYLIGHT
TZOFFSETFROM:+0100
TZOFFSETTO:+0200
TZNAME:CEST
DTSTART:20230326T010000
END:DAYLIGHT
BEGIN:STANDARD
TZOFFSETFROM:+0200
TZOFFSETTO:+0100
TZNAME:CET
DTSTART:20231029T010000
END:STANDARD
BEGIN:DAYLIGHT
TZOFFSETFROM:+0100
TZOFFSETTO:+0200
TZNAME:CEST
DTSTART:20240331T010000
END:DAYLIGHT
BEGIN:STANDARD
TZOFFSETFROM:+0200
TZOFFSETTO:+0100
TZNAME:CET
DTSTART:20241027T010000
END:STANDARD
BEGIN:DAYLIGHT
TZOFFSETFROM:+0100
TZOFFSETTO:+0200
TZNAME:CEST
DTSTART:20250330T010000
END:DAYLIGHT
BEGIN:STANDARD
TZOFFSETFROM:+0200
TZOFFSETTO:+0100
TZNAME:CET
DTSTART:20251026T010000
END:STANDARD
END:VTIMEZONE
BEGIN:VEVENT
DTSTART;VALUE=DATE:20240826
DTEND;VALUE=DATE:20240902
DTSTAMP:20260423T092246
CREATED:20240520T093436Z
LAST-MODIFIED:20240802T093957Z
UID:87234-1724630400-1725235199@www.amuz.krakow.pl
SUMMARY:[:pl]26. Letnia Akademia Muzyczna (LAM) w Krakowie | 26 sierpnia - 1 września 2024 // 26th Summer Academy of Music in Krakow | August 26th - September 1st\, 2024[:en]26th Summer Academy of Music in Krakow | August 26th - September 1st\, 2024[:]
DESCRIPTION:
URL:https://www.amuz.krakow.pl/letnia-akademia-muzyczna/
ATTACH;FMTTYPE=image/jpeg:https://www.amuz.krakow.pl/wp-content/uploads/2024/02/LAM-26-kafel.jpg
END:VEVENT
BEGIN:VEVENT
DTSTART;TZID=Europe/Warsaw:20240826T100000
DTEND;TZID=Europe/Warsaw:20240826T100000
DTSTAMP:20260423T092246
CREATED:20240802T093124Z
LAST-MODIFIED:20240802T093830Z
UID:89098-1724666400-1724666400@www.amuz.krakow.pl
SUMMARY:[:pl]Koncert inauguracyjny 26. LAM[:en]Opening concert of the 26th Summer Academy of Music[:]
DESCRIPTION:
URL:https://www.amuz.krakow.pl/letnia-akademia-muzyczna/koncerty/
ATTACH;FMTTYPE=image/jpeg:https://www.amuz.krakow.pl/wp-content/uploads/2023/01/koncert-5.jpg
END:VEVENT
BEGIN:VEVENT
DTSTART;TZID=Europe/Warsaw:20240827T190000
DTEND;TZID=Europe/Warsaw:20240827T190000
DTSTAMP:20260423T092246
CREATED:20240827T073519Z
LAST-MODIFIED:20240827T081431Z
UID:89131-1724785200-1724785200@www.amuz.krakow.pl
SUMMARY:[:pl]Chopin po włosku - koncert uczestników z klasy prof. dra hab. Andrzeja Pikula[:en]Chopin in Italian - concert of participants from prof. dr hab. Andrzej Pikul's class[:]
DESCRIPTION:
URL:https://www.amuz.krakow.pl/letnia-akademia-muzyczna/koncerty/#27-08
ATTACH;FMTTYPE=image/jpeg:https://www.amuz.krakow.pl/wp-content/uploads/2024/08/LAM-26-27.08-scaled.jpg
END:VEVENT
BEGIN:VEVENT
DTSTART;TZID=Europe/Warsaw:20240828T190000
DTEND;TZID=Europe/Warsaw:20240828T190000
DTSTAMP:20260423T092246
CREATED:20240802T093503Z
LAST-MODIFIED:20240802T093503Z
UID:89100-1724871600-1724871600@www.amuz.krakow.pl
SUMMARY:[:pl]Koncert uczestników 26. LAM[:en]Participants' concert[:]
DESCRIPTION:
URL:https://www.amuz.krakow.pl/letnia-akademia-muzyczna/koncerty/
ATTACH;FMTTYPE=image/jpeg:https://www.amuz.krakow.pl/wp-content/uploads/2023/01/koncert-5.jpg
END:VEVENT
BEGIN:VEVENT
DTSTART;TZID=Europe/Warsaw:20240829T190000
DTEND;TZID=Europe/Warsaw:20240829T190000
DTSTAMP:20260423T092246
CREATED:20240802T093540Z
LAST-MODIFIED:20240802T093540Z
UID:89101-1724958000-1724958000@www.amuz.krakow.pl
SUMMARY:[:pl]Koncert uczestników 26. LAM[:en]Participants' concert[:]
DESCRIPTION:
URL:https://www.amuz.krakow.pl/letnia-akademia-muzyczna/koncerty/
ATTACH;FMTTYPE=image/jpeg:https://www.amuz.krakow.pl/wp-content/uploads/2023/01/koncert-5.jpg
END:VEVENT
BEGIN:VEVENT
DTSTART;TZID=Europe/Warsaw:20240830T190000
DTEND;TZID=Europe/Warsaw:20240830T190000
DTSTAMP:20260423T092246
CREATED:20240802T093602Z
LAST-MODIFIED:20240802T093602Z
UID:89102-1725044400-1725044400@www.amuz.krakow.pl
SUMMARY:[:pl]Koncert uczestników 26. LAM[:en]Participants' concert[:]
DESCRIPTION:
URL:https://www.amuz.krakow.pl/letnia-akademia-muzyczna/koncerty/
ATTACH;FMTTYPE=image/jpeg:https://www.amuz.krakow.pl/wp-content/uploads/2023/01/koncert-5.jpg
END:VEVENT
BEGIN:VEVENT
DTSTART;TZID=Europe/Warsaw:20240831T190000
DTEND;TZID=Europe/Warsaw:20240831T190000
DTSTAMP:20260423T092246
CREATED:20240802T093621Z
LAST-MODIFIED:20240802T093621Z
UID:89103-1725130800-1725130800@www.amuz.krakow.pl
SUMMARY:[:pl]Koncert uczestników 26. LAM[:en]Participants' concert[:]
DESCRIPTION:
URL:https://www.amuz.krakow.pl/letnia-akademia-muzyczna/koncerty/
ATTACH;FMTTYPE=image/jpeg:https://www.amuz.krakow.pl/wp-content/uploads/2023/01/koncert-5.jpg
END:VEVENT
END:VCALENDAR