BEGIN:VCALENDAR
VERSION:2.0
PRODID:-//Akademia Muzyczna im. Krzysztofa Pendereckiego w Krakowie - ECPv6.15.20//NONSGML v1.0//EN
CALSCALE:GREGORIAN
METHOD:PUBLISH
X-WR-CALNAME:Akademia Muzyczna im. Krzysztofa Pendereckiego w Krakowie
X-ORIGINAL-URL:https://www.amuz.krakow.pl
X-WR-CALDESC:Wydarzenia dla Akademia Muzyczna im. Krzysztofa Pendereckiego w Krakowie
REFRESH-INTERVAL;VALUE=DURATION:PT1H
X-Robots-Tag:noindex
X-PUBLISHED-TTL:PT1H
BEGIN:VTIMEZONE
TZID:Europe/Warsaw
BEGIN:DAYLIGHT
TZOFFSETFROM:+0100
TZOFFSETTO:+0200
TZNAME:CEST
DTSTART:20230326T010000
END:DAYLIGHT
BEGIN:STANDARD
TZOFFSETFROM:+0200
TZOFFSETTO:+0100
TZNAME:CET
DTSTART:20231029T010000
END:STANDARD
BEGIN:DAYLIGHT
TZOFFSETFROM:+0100
TZOFFSETTO:+0200
TZNAME:CEST
DTSTART:20240331T010000
END:DAYLIGHT
BEGIN:STANDARD
TZOFFSETFROM:+0200
TZOFFSETTO:+0100
TZNAME:CET
DTSTART:20241027T010000
END:STANDARD
BEGIN:DAYLIGHT
TZOFFSETFROM:+0100
TZOFFSETTO:+0200
TZNAME:CEST
DTSTART:20250330T010000
END:DAYLIGHT
BEGIN:STANDARD
TZOFFSETFROM:+0200
TZOFFSETTO:+0100
TZNAME:CET
DTSTART:20251026T010000
END:STANDARD
END:VTIMEZONE
BEGIN:VEVENT
DTSTART;TZID=Europe/Warsaw:20240508T140000
DTEND;TZID=Europe/Warsaw:20240508T140000
DTSTAMP:20260423T042230
CREATED:20240507T093031Z
LAST-MODIFIED:20240507T093031Z
UID:86540-1715176800-1715176800@www.amuz.krakow.pl
SUMMARY:[:pl]Koncert wymienny studentów AMKP we Wrocławiu[:en]Exchange concert of AMKP students in Wrocław[:]
DESCRIPTION:
URL:https://www.amuz.krakow.pl/wydzialy/wydzial-ii-instrumentalny/katedra-instrumentow-detych-drewnianych-i-akordeonu-2/aktualnosci-23/koncert-wymienny-studentow-amkp-we-wroclawiu/
ATTACH;FMTTYPE=image/jpeg:https://www.amuz.krakow.pl/wp-content/uploads/2023/05/koncert-wymienny-kafel.jpg
END:VEVENT
BEGIN:VEVENT
DTSTART;TZID=Europe/Warsaw:20240508T183000
DTEND;TZID=Europe/Warsaw:20240508T183000
DTSTAMP:20260423T042230
CREATED:20231207T143858Z
LAST-MODIFIED:20240422T112410Z
UID:81075-1715193000-1715193000@www.amuz.krakow.pl
SUMMARY:G.F. Händel "Xerxes"
DESCRIPTION:
URL:https://www.amuz.krakow.pl/orkiestry-akademickie/orkiestra-barokowa/koncerty-2023-2024/xerxes-8-9-05-2024/
ATTACH;FMTTYPE=image/jpeg:https://www.amuz.krakow.pl/wp-content/uploads/2024/03/xerxes-kafel.jpg
END:VEVENT
BEGIN:VEVENT
DTSTART;TZID=Europe/Warsaw:20240509T183000
DTEND;TZID=Europe/Warsaw:20240509T183000
DTSTAMP:20260423T042230
CREATED:20240422T112424Z
LAST-MODIFIED:20240422T112453Z
UID:85500-1715279400-1715279400@www.amuz.krakow.pl
SUMMARY:G.F. Händel "Xerxes"
DESCRIPTION:
URL:https://www.amuz.krakow.pl/orkiestry-akademickie/orkiestra-barokowa/koncerty-2023-2024/xerxes-8-9-05-2024/
ATTACH;FMTTYPE=image/jpeg:https://www.amuz.krakow.pl/wp-content/uploads/2024/03/xerxes-kafel.jpg
END:VEVENT
BEGIN:VEVENT
DTSTART;TZID=Europe/Warsaw:20240511T100000
DTEND;TZID=Europe/Warsaw:20240511T140000
DTSTAMP:20260423T042230
CREATED:20240429T132707Z
LAST-MODIFIED:20240429T132707Z
UID:86224-1715421600-1715436000@www.amuz.krakow.pl
SUMMARY:[:pl]Warsztaty: "Świadomość\, energia\, ruch - czyli jak czerpać z mądrości Jogi w życiu i pracy muzyka"[:en]Workshops: "Mindfulness\, energy\, movement - how to use the wisdom of Yoga in a musician's life and work"[:]
DESCRIPTION:
URL:https://www.amuz.krakow.pl/warsztaty-swiadomosc-energia-ruch-czyli-jak-czerpac-z-madrosci-jogi-w-zyciu-i-pracy-muzyka/
ATTACH;FMTTYPE=image/jpeg:https://www.amuz.krakow.pl/wp-content/uploads/2024/04/joga.jpg
END:VEVENT
BEGIN:VEVENT
DTSTART;TZID=Europe/Warsaw:20240511T180000
DTEND;TZID=Europe/Warsaw:20240511T180000
DTSTAMP:20260423T042230
CREATED:20240411T091000Z
LAST-MODIFIED:20240422T112211Z
UID:85234-1715450400-1715450400@www.amuz.krakow.pl
SUMMARY:[:pl]Horyzonty perkusji\, edycja IV[:en]Percussion horizons\, 4th edition[:]
DESCRIPTION:
URL:https://www.amuz.krakow.pl/wydzialy/wydzial-ii-instrumentalny/katedra-perkusji-i-muzyki-wspolczesnej/aktualnosci-23/horyzonty-perkusji-edycja-iv/
ATTACH;FMTTYPE=image/jpeg:https://www.amuz.krakow.pl/wp-content/uploads/2024/04/horyzonty-perkusji-2024-i-deta-scaled.jpg
END:VEVENT
BEGIN:VEVENT
DTSTART;VALUE=DATE:20240512
DTEND;VALUE=DATE:20240516
DTSTAMP:20260423T042230
CREATED:20240425T112037Z
LAST-MODIFIED:20240425T112037Z
UID:86022-1715472000-1715817599@www.amuz.krakow.pl
SUMMARY:[:pl]Opera niemiecka i niemiecka pieśń romantyczna. Prof. Teru Yoshihara (HMDK Stuttgart)[:en]German opera and German romantic song. Prof. Teru Yoshihara (HMDK Stuttgart)[:]
DESCRIPTION:
URL:https://www.amuz.krakow.pl/wydzialy/wydzial-iii-wokalno-aktorski/pracownicy-katedry-2/aktualnosci-23/opera-niemiecka-i-niemiecka-piesn-romantyczna/
ATTACH;FMTTYPE=image/jpeg:https://www.amuz.krakow.pl/wp-content/uploads/2022/03/lekcej-mistrzowskie.jpg
END:VEVENT
BEGIN:VEVENT
DTSTART;TZID=Europe/Warsaw:20240512T130000
DTEND;TZID=Europe/Warsaw:20240512T130000
DTSTAMP:20260423T042230
CREATED:20240508T125427Z
LAST-MODIFIED:20240508T125427Z
UID:86626-1715518800-1715518800@www.amuz.krakow.pl
SUMMARY:[:pl]Koncert muzyki współczesnej[:en]Concert of contemporary music[:]
DESCRIPTION:
URL:https://www.amuz.krakow.pl/wydzialy/wydzial-i-tworczosci-interpretacji-i-edukacji-muzycznej/katedra-kompozycji/aktualnosci-23/koncert-muzyki-wspolczesnej/
ATTACH;FMTTYPE=image/png:https://www.amuz.krakow.pl/wp-content/uploads/2024/05/Koncert-muzyki-wspolczesnej-kafelek.png
END:VEVENT
BEGIN:VEVENT
DTSTART;TZID=Europe/Warsaw:20240512T180000
DTEND;TZID=Europe/Warsaw:20240512T180000
DTSTAMP:20260423T042230
CREATED:20231207T144131Z
LAST-MODIFIED:20240422T112254Z
UID:81077-1715536800-1715536800@www.amuz.krakow.pl
SUMMARY:[:pl]Koncert Orkiestry Dętej AMKP w ramach festiwalu "Horyzonty perkusji"[:en]AMKP Wind Orchestra concert as part of "Percussion horizons" festival[:]
DESCRIPTION:
URL:https://www.amuz.krakow.pl/orkiestry-akademickie/orkiestra-deta/koncerty-2023-2024/koncert-orkiestry-detej-amkp-w-ramach-horyzontow-perkusji-12-05-2024/
ATTACH;FMTTYPE=image/jpeg:https://www.amuz.krakow.pl/wp-content/uploads/2022/09/orkiestra-deta-kafelek.jpg
END:VEVENT
BEGIN:VEVENT
DTSTART;TZID=Europe/Warsaw:20240512T190000
DTEND;TZID=Europe/Warsaw:20240512T190000
DTSTAMP:20260423T042230
CREATED:20240419T122338Z
LAST-MODIFIED:20240422T112845Z
UID:85423-1715540400-1715540400@www.amuz.krakow.pl
SUMMARY:[:pl]Młodzi pianiści w #AMKP[:en]Young pianists in #AMKP[:]
DESCRIPTION:
URL:https://www.amuz.krakow.pl/wydzialy/wydzial-ii-instrumentalny/katedra-fortepianu/aktualnosci-23/mlodzi-pianisci-w-amkp-12-05-2024/
ATTACH;FMTTYPE=image/jpeg:https://www.amuz.krakow.pl/wp-content/uploads/2024/04/mlodzi-w-amkp-2024-kafel-1.jpg
END:VEVENT
BEGIN:VEVENT
DTSTART;TZID=Europe/Warsaw:20240513T130000
DTEND;TZID=Europe/Warsaw:20240514T123000
DTSTAMP:20260423T042230
CREATED:20240507T134634Z
LAST-MODIFIED:20240508T081053Z
UID:86589-1715605200-1715689800@www.amuz.krakow.pl
SUMMARY:[:pl]Warsztaty z Nikolą Kołodziejczykiem[:en]Workshops with Nikola Kołodziejczyk[:]
DESCRIPTION:
URL:https://www.amuz.krakow.pl/wydzialy/wydzial-ii-instrumentalny/katedra-jazzu/aktualnosci-23/warsztaty-z-nikola-kolodziejczykiem/
ATTACH;FMTTYPE=image/jpeg:https://www.amuz.krakow.pl/wp-content/uploads/2024/05/warsztaty-nikola-kafel.jpg
END:VEVENT
BEGIN:VEVENT
DTSTART;TZID=Europe/Warsaw:20240514T180000
DTEND;TZID=Europe/Warsaw:20240516T130000
DTSTAMP:20260423T042230
CREATED:20240509T084411Z
LAST-MODIFIED:20240509T084411Z
UID:86656-1715709600-1715864400@www.amuz.krakow.pl
SUMMARY:[:pl]Lekcje mistrzowskie z prof. Luciano Tortorellim (gitara)[:en]Masterclasses with professor Luciano Tortorellim (guitar)[:]
DESCRIPTION:
URL:https://www.amuz.krakow.pl/wydzialy/wydzial-ii-instrumentalny/katedra-gitary-i-harfy/aktualnosci-23/lekcje-mistrzowskie-z-prof-luciano-tortorellim-gitara/
ATTACH;FMTTYPE=image/jpeg:https://www.amuz.krakow.pl/wp-content/uploads/2023/02/lekcej-mistrzowskie.jpg
END:VEVENT
BEGIN:VEVENT
DTSTART;TZID=Europe/Warsaw:20240514T190000
DTEND;TZID=Europe/Warsaw:20240514T190000
DTSTAMP:20260423T042230
CREATED:20240419T114952Z
LAST-MODIFIED:20240419T114952Z
UID:85415-1715713200-1715713200@www.amuz.krakow.pl
SUMMARY:[:pl]Fortepianowe mozaiki[:en]Piano mosaics[:]
DESCRIPTION:
URL:https://www.amuz.krakow.pl/wydzialy/wydzial-ii-instrumentalny/katedra-fortepianu/aktualnosci-23/fortepianowe-mozaiki/
END:VEVENT
BEGIN:VEVENT
DTSTART;TZID=Europe/Warsaw:20240515T190000
DTEND;TZID=Europe/Warsaw:20240515T190000
DTSTAMP:20260423T042230
CREATED:20231207T144250Z
LAST-MODIFIED:20240422T113401Z
UID:81079-1715799600-1715799600@www.amuz.krakow.pl
SUMMARY:[:pl]Koncert Big Bandu AMKP "Jazz w Akademii"[:en]AMKP Big Band concert "Jazz in Academy"[:]
DESCRIPTION:
URL:https://www.amuz.krakow.pl/orkiestry-akademickie/big-band/koncerty-2023-2024/jazz-w-akademii-15-05-2024/
ATTACH;FMTTYPE=image/jpeg:https://www.amuz.krakow.pl/wp-content/uploads/2024/04/bigband-15-05-2024-B1-DRUK-scaled.jpg
END:VEVENT
BEGIN:VEVENT
DTSTART;TZID=Europe/Warsaw:20240515T190000
DTEND;TZID=Europe/Warsaw:20240515T190000
DTSTAMP:20260423T042230
CREATED:20240510T130610Z
LAST-MODIFIED:20240510T130610Z
UID:86737-1715799600-1715799600@www.amuz.krakow.pl
SUMMARY:[:pl]Ad Libitum - audycja studentów Wydziału Wokalno-Aktorskiego [:en]Ad Libitum - concert by students of the Faculty of Voice and Drama[:]
DESCRIPTION:
URL:https://www.amuz.krakow.pl/wydzialy/wydzial-iii-wokalno-aktorski/pracownicy-katedry-2/aktualnosci-23/ad-libitum-audycja-studentow-wydzialu-wokalno-aktorskiego-15-05-2024/
ATTACH;FMTTYPE=image/jpeg:https://www.amuz.krakow.pl/wp-content/uploads/2024/05/Plakat-Ad-Libitum-4-scaled.jpeg
END:VEVENT
BEGIN:VEVENT
DTSTART;VALUE=DATE:20240517
DTEND;VALUE=DATE:20240520
DTSTAMP:20260423T042230
CREATED:20240419T092540Z
LAST-MODIFIED:20240419T092540Z
UID:85370-1715904000-1716163199@www.amuz.krakow.pl
SUMMARY:[:pl]8. Dni Jana Nepomucena Bobrowicza: „Nuevo Mundo - muzyka gitarowa Ameryki Łacińskiej”[:en]8th Days of Jan Nepomucen Bobrowicz: „Nuevo Mundo - guitar music of Latin America”[:]
DESCRIPTION:
URL:https://www.amuz.krakow.pl/wydzialy/wydzial-ii-instrumentalny/katedra-gitary-i-harfy/aktualnosci-23/viii-dni-jana-nepomucena-bobrowicza/
ATTACH;FMTTYPE=image/jpeg:https://www.amuz.krakow.pl/wp-content/uploads/2024/04/bobrowicz-kafel-1.jpg
END:VEVENT
BEGIN:VEVENT
DTSTART;TZID=Europe/Warsaw:20240517T100000
DTEND;TZID=Europe/Warsaw:20240518T183000
DTSTAMP:20260423T042230
CREATED:20240510T101704Z
LAST-MODIFIED:20240510T101704Z
UID:86680-1715940000-1716057000@www.amuz.krakow.pl
SUMMARY:[:pl]AMKP na Festiwalu Nauki i Sztuki[:en]AMKP on Arts & Science Festival[:]
DESCRIPTION:
URL:https://www.amuz.krakow.pl/amkp-na-festiwalu-nauki-i-sztuki/
ATTACH;FMTTYPE=image/jpeg:https://www.amuz.krakow.pl/wp-content/uploads/2024/05/FNIS-KEY-VISUAL-calosc-plus-tytul_1-scaled.jpg
END:VEVENT
BEGIN:VEVENT
DTSTART;TZID=Europe/Warsaw:20240518T170000
DTEND;TZID=Europe/Warsaw:20240518T170000
DTSTAMP:20260423T042230
CREATED:20240419T105725Z
LAST-MODIFIED:20240430T131041Z
UID:85392-1716051600-1716051600@www.amuz.krakow.pl
SUMMARY:[:pl]Koncert interpretacji ruchowych utworów muzycznych PORUSZENIA[:en]MOVES. Concert of movement interpretations of musical works[:]
DESCRIPTION:
URL:https://www.amuz.krakow.pl/wydzialy/wydzial-i-tworczosci-interpretacji-i-edukacji-muzycznej/katedra-badan-muzyczno-edukacyjnych/aktualnosci-23/poruszenia-18-05-2024/
ATTACH;FMTTYPE=image/jpeg:https://www.amuz.krakow.pl/wp-content/uploads/2024/04/P-O-R-U-S-Z-E-N-I-A-scaled.jpg
END:VEVENT
BEGIN:VEVENT
DTSTART;TZID=Europe/Warsaw:20240519T133000
DTEND;TZID=Europe/Warsaw:20240519T133000
DTSTAMP:20260423T042230
CREATED:20240425T114123Z
LAST-MODIFIED:20240425T114123Z
UID:86032-1716125400-1716125400@www.amuz.krakow.pl
SUMMARY:[:pl]XXV Organowe Matinée w wykonaniu Hanny Zofii Zalewskiej[:en]25th Organ Matinée performed by Hanna Zofia Zalewska[:]
DESCRIPTION:
URL:https://www.amuz.krakow.pl/wydzialy/wydzial-ii-instrumentalny/katedra-organow/aktualnosci-23/xxv-organowe-matinee-w-wykonaniu-hanny-zofii-zalewskiej/
ATTACH;FMTTYPE=image/jpeg:https://www.amuz.krakow.pl/wp-content/uploads/2022/04/organowy-matinee-www.jpg
END:VEVENT
BEGIN:VEVENT
DTSTART;TZID=Europe/Warsaw:20240519T163000
DTEND;TZID=Europe/Warsaw:20240519T163000
DTSTAMP:20260423T042230
CREATED:20240419T111400Z
LAST-MODIFIED:20240419T111400Z
UID:85404-1716136200-1716136200@www.amuz.krakow.pl
SUMMARY:[:pl]Muzyka etniczna[:en]Ethnic music[:]
DESCRIPTION:
URL:https://www.amuz.krakow.pl/wydzialy/wydzial-i-tworczosci-interpretacji-i-edukacji-muzycznej/katedra-kompozycji/aktualnosci-23/muzyka-etniczna-19-05-2024/
ATTACH;FMTTYPE=image/jpeg:https://www.amuz.krakow.pl/wp-content/uploads/2024/01/muzyka-etniczna-kafel.jpg
END:VEVENT
BEGIN:VEVENT
DTSTART;VALUE=DATE:20240520
DTEND;VALUE=DATE:20240527
DTSTAMP:20260423T042230
CREATED:20240430T131509Z
LAST-MODIFIED:20240506T121251Z
UID:86474-1716163200-1716767999@www.amuz.krakow.pl
SUMMARY:[:pl]Festiwal pianistyczny "Pianofonie"[:en]"Pianophony" Piano Festival[:]
DESCRIPTION:
URL:https://www.amuz.krakow.pl/wydzialy/wydzial-ii-instrumentalny/katedra-fortepianu/aktualnosci-23/pianofonie/
ATTACH;FMTTYPE=image/png:https://www.amuz.krakow.pl/wp-content/uploads/2024/05/pianofonie-kafel.png
END:VEVENT
BEGIN:VEVENT
DTSTART;TZID=Europe/Warsaw:20240520T190000
DTEND;TZID=Europe/Warsaw:20240520T190000
DTSTAMP:20260423T042230
CREATED:20240517T090739Z
LAST-MODIFIED:20240517T090739Z
UID:87082-1716231600-1716231600@www.amuz.krakow.pl
SUMMARY:[:pl]Koncert studentów klasy śpiewu solowego prof. dr hab. Katarzyny Oleś-Blachy[:en]Solo voice concert by students from the class of prof. dr hab. Katarzyna Oleś-Blacha[:]
DESCRIPTION:
URL:https://www.amuz.krakow.pl/wydzialy/wydzial-iii-wokalno-aktorski/pracownicy-katedry-2/aktualnosci-23/koncert-studentow-klasy-spiewu-solowego-prof-dr-hab-katarzyny-oles-blachy/
ATTACH;FMTTYPE=image/jpeg:https://www.amuz.krakow.pl/wp-content/uploads/2022/05/koncert-3.jpg
END:VEVENT
BEGIN:VEVENT
DTSTART;TZID=Europe/Warsaw:20240522T183000
DTEND;TZID=Europe/Warsaw:20240522T183000
DTSTAMP:20260423T042230
CREATED:20240506T130524Z
LAST-MODIFIED:20240508T125942Z
UID:86509-1716402600-1716402600@www.amuz.krakow.pl
SUMMARY:[:pl]Konstruktywne dysonanse[:en]Constructive dissonance[:]
DESCRIPTION:
URL:https://www.amuz.krakow.pl/wydzialy/wydzial-i-tworczosci-interpretacji-i-edukacji-muzycznej/katedra-kompozycji/aktualnosci-23/konstruktywne-dysonanse/
ATTACH;FMTTYPE=image/jpeg:https://www.amuz.krakow.pl/wp-content/uploads/2024/04/kafelek-konstruktywne-dysonanse-1.jpg
END:VEVENT
BEGIN:VEVENT
DTSTART;TZID=Europe/Warsaw:20240523T090000
DTEND;TZID=Europe/Warsaw:20240523T130000
DTSTAMP:20260423T042230
CREATED:20240508T124113Z
LAST-MODIFIED:20240508T124113Z
UID:86619-1716454800-1716469200@www.amuz.krakow.pl
SUMMARY:[:pl]Metoda Carla Orffa w praktyce i teorii[:en]The Orff approach to music education in theory and practice[:]
DESCRIPTION:
URL:https://www.amuz.krakow.pl/wydzialy/wydzial-i-tworczosci-interpretacji-i-edukacji-muzycznej/katedra-badan-muzyczno-edukacyjnych/aktualnosci-23/metoda-carla-orffa-w-praktyce-i-teorii/
ATTACH;FMTTYPE=image/jpeg:https://www.amuz.krakow.pl/wp-content/uploads/2023/02/warsztaty-kafelek.jpg
END:VEVENT
BEGIN:VEVENT
DTSTART;TZID=Europe/Warsaw:20240524T180000
DTEND;TZID=Europe/Warsaw:20240524T180000
DTSTAMP:20260423T042230
CREATED:20240430T131738Z
LAST-MODIFIED:20240506T133035Z
UID:86476-1716573600-1716573600@www.amuz.krakow.pl
SUMMARY:[:pl]Skrzypcowe dialogi[:en]Violin dialogues[:]
DESCRIPTION:
URL:https://www.amuz.krakow.pl/wydzialy/wydzial-ii-instrumentalny/katedra-skrzypiec-i-altowki/aktualnosci-23/skrzypcowe-dialogi/
LOCATION:Sala Kameralna im. Profesora Marka Stachowskiego\, ul. św. Tomasza 43\, Kraków\, Poland
ATTACH;FMTTYPE=image/jpeg:https://www.amuz.krakow.pl/wp-content/uploads/2022/05/skrzypcowe-dialogi-web.jpg
END:VEVENT
BEGIN:VEVENT
DTSTART;TZID=Europe/Warsaw:20240524T190000
DTEND;TZID=Europe/Warsaw:20240524T190000
DTSTAMP:20260423T042230
CREATED:20240425T115928Z
LAST-MODIFIED:20240425T115928Z
UID:86040-1716577200-1716577200@www.amuz.krakow.pl
SUMMARY:[:pl]Koncert Katedry Perkusji i Muzyki Współczesnej[:en]Concert of the Department of Percussion and Contemporary Music[:]
DESCRIPTION:
URL:https://www.amuz.krakow.pl/wydzialy/wydzial-ii-instrumentalny/katedra-perkusji-i-muzyki-wspolczesnej/aktualnosci-23/koncert-katedry-perkusji-i-muzyki-wspolczesnej/
ATTACH;FMTTYPE=image/jpeg:https://www.amuz.krakow.pl/wp-content/uploads/2024/03/koncert-perksuji-kafel.jpg
END:VEVENT
BEGIN:VEVENT
DTSTART;VALUE=DATE:20240525
DTEND;VALUE=DATE:20240527
DTSTAMP:20260423T042230
CREATED:20240506T135234Z
LAST-MODIFIED:20240506T135234Z
UID:86526-1716595200-1716767999@www.amuz.krakow.pl
SUMMARY:[:pl]Per academiam ad astra - Gábor Varga  (klarnet)[:en]Per academiam ad astra - Gábor Varga (clarinet)[:]
DESCRIPTION:
URL:https://www.amuz.krakow.pl/wydzialy/wydzial-ii-instrumentalny/katedra-instrumentow-detych-drewnianych-i-akordeonu-2/aktualnosci-23/per-academiam-ad-astra-gabor-varga/
ATTACH;FMTTYPE=image/jpeg:https://www.amuz.krakow.pl/wp-content/uploads/2021/10/ad-astra-23-24.10.2021.jpg
END:VEVENT
BEGIN:VEVENT
DTSTART;TZID=Europe/Warsaw:20240525T100000
DTEND;TZID=Europe/Warsaw:20240526T100000
DTSTAMP:20260423T042230
CREATED:20240510T121757Z
LAST-MODIFIED:20240510T121757Z
UID:86727-1716631200-1716717600@www.amuz.krakow.pl
SUMMARY:[:pl]Kurs mistrzowski z prof. Arie Vardim w ramach festiwalu "Pianofonie"[:en]Masterclasses with prof. Arie Vardi as part of "Pianophony" festival[:]
DESCRIPTION:
URL:https://www.amuz.krakow.pl/wydzialy/wydzial-ii-instrumentalny/katedra-fortepianu/aktualnosci-23/pianofonie/#25-26-maja
ATTACH;FMTTYPE=image/jpeg:https://www.amuz.krakow.pl/wp-content/uploads/2024/05/per-academiam-arie-kafel.jpg
END:VEVENT
BEGIN:VEVENT
DTSTART;TZID=Europe/Warsaw:20240525T170000
DTEND;TZID=Europe/Warsaw:20240525T170000
DTSTAMP:20260423T042230
CREATED:20240513T104013Z
LAST-MODIFIED:20240516T085140Z
UID:86748-1716656400-1716656400@www.amuz.krakow.pl
SUMMARY:[:pl]LIMEROMUZYKI - koncert urodzinowy dla Małgorzaty Janickiej-Słysz[:en]LIMEROMUZYKI - birthday concert for Małgorzata Janicka-Słysz[:]
DESCRIPTION:
URL:https://www.amuz.krakow.pl/wydzialy/wydzial-i-tworczosci-interpretacji-i-edukacji-muzycznej/katedra-teorii-i-interpretacji-dziela-muzycznego/aktualnosci23/limeromuzyki-koncert-urodzinowy-dla-malgorzaty-janickiej-slysz/
ATTACH;FMTTYPE=image/jpeg:https://www.amuz.krakow.pl/wp-content/uploads/2024/05/limero-OK-scaled.jpg
END:VEVENT
BEGIN:VEVENT
DTSTART;TZID=Europe/Warsaw:20240526T120000
DTEND;TZID=Europe/Warsaw:20240526T120000
DTSTAMP:20260423T042230
CREATED:20240430T132125Z
LAST-MODIFIED:20240520T101932Z
UID:86478-1716724800-1716724800@www.amuz.krakow.pl
SUMMARY:[:pl]Lunch z klawesynem w roli głównej[:en]Lunch with harpsichord as the lead[:]
DESCRIPTION:
URL:https://www.amuz.krakow.pl/wydzialy/wydzial-ii-instrumentalny/katedra-muzyki-dawnej/aktualnosci-23/lunch-i-five-oclock-z-katedra-muzyki-dawnej/
LOCATION:Sala Kameralna im. Profesora Marka Stachowskiego\, ul. św. Tomasza 43\, Kraków\, Poland
ATTACH;FMTTYPE=image/jpeg:https://www.amuz.krakow.pl/wp-content/uploads/2024/04/lunch-Kafel.jpg
END:VEVENT
BEGIN:VEVENT
DTSTART;TZID=Europe/Warsaw:20240526T170000
DTEND;TZID=Europe/Warsaw:20240526T170000
DTSTAMP:20260423T042230
CREATED:20240430T132235Z
LAST-MODIFIED:20240520T101923Z
UID:86480-1716742800-1716742800@www.amuz.krakow.pl
SUMMARY:[:pl]Five O'Clock z nie tylko dawną muzyką wokalną[:en]Five O'Clock not only with the early vocal music[:]
DESCRIPTION:
URL:https://www.amuz.krakow.pl/wydzialy/wydzial-ii-instrumentalny/katedra-muzyki-dawnej/aktualnosci-23/lunch-i-five-oclock-z-katedra-muzyki-dawnej/
LOCATION:Sala Kameralna im. Profesora Marka Stachowskiego\, ul. św. Tomasza 43\, Kraków\, Poland
ATTACH;FMTTYPE=image/jpeg:https://www.amuz.krakow.pl/wp-content/uploads/2024/04/five-Kafel.jpg
END:VEVENT
END:VCALENDAR