BEGIN:VCALENDAR
VERSION:2.0
PRODID:-//Akademia Muzyczna im. Krzysztofa Pendereckiego w Krakowie - ECPv6.15.20//NONSGML v1.0//EN
CALSCALE:GREGORIAN
METHOD:PUBLISH
X-ORIGINAL-URL:https://www.amuz.krakow.pl
X-WR-CALDESC:Wydarzenia dla Akademia Muzyczna im. Krzysztofa Pendereckiego w Krakowie
REFRESH-INTERVAL;VALUE=DURATION:PT1H
X-Robots-Tag:noindex
X-PUBLISHED-TTL:PT1H
BEGIN:VTIMEZONE
TZID:Europe/Warsaw
BEGIN:DAYLIGHT
TZOFFSETFROM:+0100
TZOFFSETTO:+0200
TZNAME:CEST
DTSTART:20230326T010000
END:DAYLIGHT
BEGIN:STANDARD
TZOFFSETFROM:+0200
TZOFFSETTO:+0100
TZNAME:CET
DTSTART:20231029T010000
END:STANDARD
BEGIN:DAYLIGHT
TZOFFSETFROM:+0100
TZOFFSETTO:+0200
TZNAME:CEST
DTSTART:20240331T010000
END:DAYLIGHT
BEGIN:STANDARD
TZOFFSETFROM:+0200
TZOFFSETTO:+0100
TZNAME:CET
DTSTART:20241027T010000
END:STANDARD
BEGIN:DAYLIGHT
TZOFFSETFROM:+0100
TZOFFSETTO:+0200
TZNAME:CEST
DTSTART:20250330T010000
END:DAYLIGHT
BEGIN:STANDARD
TZOFFSETFROM:+0200
TZOFFSETTO:+0100
TZNAME:CET
DTSTART:20251026T010000
END:STANDARD
END:VTIMEZONE
BEGIN:VEVENT
DTSTART;TZID=Europe/Warsaw:20240201T200000
DTEND;TZID=Europe/Warsaw:20240201T200000
DTSTAMP:20260422T224117
CREATED:20240125T110225Z
LAST-MODIFIED:20240125T110225Z
UID:82800-1706817600-1706817600@www.amuz.krakow.pl
SUMMARY:[:pl]Recital Macieja Skrzeczkowskiego oraz spotkanie z artystą[:en]Maciej Skrzeczkowski's recital and meeting with the artist[:]
DESCRIPTION:
URL:https://www.amuz.krakow.pl/wydzialy/wydzial-ii-instrumentalny/katedra-muzyki-dawnej/aktualnosci-23/recital-macieja-skrzeczkowskiego-oraz-spotkanie-z-artysta/
ATTACH;FMTTYPE=image/jpeg:https://www.amuz.krakow.pl/wp-content/uploads/2024/01/recital-bulla-kafel.jpg
END:VEVENT
BEGIN:VEVENT
DTSTART;TZID=Europe/Warsaw:20240208T170000
DTEND;TZID=Europe/Warsaw:20240208T170000
DTSTAMP:20260422T224117
CREATED:20240205T115723Z
LAST-MODIFIED:20240205T115723Z
UID:82983-1707411600-1707411600@www.amuz.krakow.pl
SUMMARY:[:pl]Koncert Muzyki Kameralnej[:en]Chamber Music Concert[:]
DESCRIPTION:
URL:https://www.amuz.krakow.pl/wydzialy/wydzial-ii-instrumentalny/katedra-gitary-i-harfy/aktualnosci-23/koncert-muzyki-kameralnej/
ATTACH;FMTTYPE=image/jpeg:https://www.amuz.krakow.pl/wp-content/uploads/2024/02/koncert-studentow-kafel.jpg
END:VEVENT
BEGIN:VEVENT
DTSTART;TZID=Europe/Warsaw:20240209T180000
DTEND;TZID=Europe/Warsaw:20240209T180000
DTSTAMP:20260422T224117
CREATED:20240124T111744Z
LAST-MODIFIED:20240124T111744Z
UID:82748-1707501600-1707501600@www.amuz.krakow.pl
SUMMARY:[:pl]Światło w ciemności - recital wokalny pamięci ofiar wojny w Ukrainie[:en]Light in the darkness - vocal recital in memory of the victims of war in Ukraine[:]
DESCRIPTION:
URL:https://www.amuz.krakow.pl/wydzialy/wydzial-iii-wokalno-aktorski/pracownicy-katedry-2/aktualnosci-23/swiatlo-w-ciemnosci-recital-wokalny-pamieci-ofiar-wojny-w-ukrainie/
ATTACH;FMTTYPE=image/jpeg:https://www.amuz.krakow.pl/wp-content/uploads/2024/01/Recital-pamieci-ofiar-_1.jpg
END:VEVENT
BEGIN:VEVENT
DTSTART;TZID=Europe/Warsaw:20240211T133000
DTEND;TZID=Europe/Warsaw:20240211T133000
DTSTAMP:20260422T224117
CREATED:20240205T121748Z
LAST-MODIFIED:20240205T121748Z
UID:83005-1707658200-1707658200@www.amuz.krakow.pl
SUMMARY:[:pl]XXII Organowe Matinée w wykonaniu Macieja Gortata oraz Józefa Bobuli[:en]22nd Organ Matinée\, performed by Maciej Gortat and Józef Bobula[:]
DESCRIPTION:
URL:https://www.amuz.krakow.pl/wydzialy/wydzial-ii-instrumentalny/katedra-organow/aktualnosci-23/xxii-organowe-matinee-w-wykonaniu-macieja-gortata-oraz-jozefa-bobuli-zpsm-im-m-karlowicza-w-krakowie/
ATTACH;FMTTYPE=image/jpeg:https://www.amuz.krakow.pl/wp-content/uploads/2022/04/organowy-matinee-www.jpg
END:VEVENT
BEGIN:VEVENT
DTSTART;VALUE=DATE:20240216
DTEND;VALUE=DATE:20240219
DTSTAMP:20260422T224117
CREATED:20240122T141403Z
LAST-MODIFIED:20240122T141403Z
UID:82703-1708041600-1708300799@www.amuz.krakow.pl
SUMMARY:[:pl]Kursy mistrzowskie Luisem Gorelikiem (Buenos Aires) dla studentów dyrygentury[:en]Masterclasses with Luis Gorelik (Buenos Aires) for conducting students[:]
DESCRIPTION:
URL:https://www.amuz.krakow.pl/wydzialy/wydzial-i-tworczosci-interpretacji-i-edukacji-muzycznej/katedra-dyrygentury/aktualnosci-23/kursy-mistrzowskie/
ATTACH;FMTTYPE=image/jpeg:https://www.amuz.krakow.pl/wp-content/uploads/2024/01/Luis-Gorelik-No.-2-1-920x518-fot.-Nebojsa-Babic.jpeg
END:VEVENT
BEGIN:VEVENT
DTSTART;VALUE=DATE:20240220
DTEND;VALUE=DATE:20240222
DTSTAMP:20260422T224117
CREATED:20231205T133718Z
LAST-MODIFIED:20240122T121233Z
UID:80974-1708387200-1708559999@www.amuz.krakow.pl
SUMMARY:[:pl]Międzynarodowa konferencja „Obój historyczny: stan badań\, współczesna praktyka oraz perspektywy”[:en]International conference: The Historical Oboe: Current state of the research\, contemporary practice\, and perspectives[:]
DESCRIPTION:
URL:https://www.amuz.krakow.pl/wydzialy/wydzial-ii-instrumentalny/katedra-muzyki-dawnej/aktualnosci-23/miedzynarodowa-konferencja-oboj-historyczny/
ATTACH;FMTTYPE=image/jpeg:https://www.amuz.krakow.pl/wp-content/uploads/2024/01/plakat-ok-scaled.jpg
END:VEVENT
BEGIN:VEVENT
DTSTART;TZID=Europe/Warsaw:20240223T173000
DTEND;TZID=Europe/Warsaw:20240223T173000
DTSTAMP:20260422T224117
CREATED:20240209T180751Z
LAST-MODIFIED:20240221T125804Z
UID:83130-1708709400-1708709400@www.amuz.krakow.pl
SUMMARY:[:pl]Koncert improwizacji fortepianowej[:en]Piano improvisation concert[:]
DESCRIPTION:
URL:https://www.amuz.krakow.pl/wydzialy/wydzial-i-tworczosci-interpretacji-i-edukacji-muzycznej/katedra-badan-muzyczno-edukacyjnych/aktualnosci-23/koncert-improwizacji-fortepianowej/
ATTACH;FMTTYPE=image/jpeg:https://www.amuz.krakow.pl/wp-content/uploads/2024/02/rytmiczki2024-kafel.jpg
END:VEVENT
BEGIN:VEVENT
DTSTART;VALUE=DATE:20240224
DTEND;VALUE=DATE:20240225
DTSTAMP:20260422T224117
CREATED:20231211T102442Z
LAST-MODIFIED:20231211T102442Z
UID:81105-1708732800-1708819199@www.amuz.krakow.pl
SUMMARY:[:pl]Gala AMKP w Operze Krakowskiej[:en]AMKP Gala in the Krakow Opera[:]
DESCRIPTION:
URL:https://www.amuz.krakow.pl/event/gala-amkp-w-operze-krakowskiej/
END:VEVENT
BEGIN:VEVENT
DTSTART;TZID=Europe/Warsaw:20240224T183000
DTEND;TZID=Europe/Warsaw:20240224T183000
DTSTAMP:20260422T224117
CREATED:20240122T132142Z
LAST-MODIFIED:20240122T132142Z
UID:82674-1708799400-1708799400@www.amuz.krakow.pl
SUMMARY:[:pl]GA-LA-LA-LA - spektakl studentów i studentek AMKP w Operze Krakowskiej[:en]GA-LA-LA-LA - performance by students of the AMKP Faculty of Voice and Drama in the Krakow Opera[:]
DESCRIPTION:
URL:https://www.amuz.krakow.pl/wydzialy/wydzial-iii-wokalno-aktorski/pracownicy-katedry-2/aktualnosci-23/ga-la-la-la-w-operze-krakowskiej/
ATTACH;FMTTYPE=image/jpeg:https://www.amuz.krakow.pl/wp-content/uploads/2024/01/gala-operowa-FINAL-scaled.jpg
END:VEVENT
BEGIN:VEVENT
DTSTART;TZID=Europe/Warsaw:20240225T180000
DTEND;TZID=Europe/Warsaw:20240225T180000
DTSTAMP:20260422T224117
CREATED:20231207T132825Z
LAST-MODIFIED:20240115T132423Z
UID:81052-1708884000-1708884000@www.amuz.krakow.pl
SUMMARY:[:pl]Koncert Orkiestry Symfonicznej AMKP[:en]AMKP Symphony Orchestra concert[:]
DESCRIPTION:
URL:https://www.amuz.krakow.pl/orkiestry-akademickie/orkiestra-symfoniczna/koncerty-2023-2024/koncert-orkiestry-symfonicznej-25-02-2023/
ATTACH;FMTTYPE=image/jpeg:https://www.amuz.krakow.pl/wp-content/uploads/2022/04/symfoniczna-zaslepka.jpg
END:VEVENT
BEGIN:VEVENT
DTSTART;TZID=Europe/Warsaw:20240226T120000
DTEND;TZID=Europe/Warsaw:20240226T160000
DTSTAMP:20260422T224117
CREATED:20240209T174649Z
LAST-MODIFIED:20240209T174649Z
UID:83120-1708948800-1708963200@www.amuz.krakow.pl
SUMMARY:[:pl]Mistrzowski kurs fortepianu z Angelą Hewitt[:en]Piano masterclass with Angela Hewitt[:]
DESCRIPTION:
URL:https://www.amuz.krakow.pl/wydzialy/wydzial-ii-instrumentalny/katedra-fortepianu/aktualnosci-23/mistrzowski-kurs-fortepianu-z-angela-hewitt/
ATTACH;FMTTYPE=image/jpeg:https://www.amuz.krakow.pl/wp-content/uploads/2024/02/per-academiam.jpg
END:VEVENT
BEGIN:VEVENT
DTSTART;TZID=Europe/Warsaw:20240226T183000
DTEND;TZID=Europe/Warsaw:20240226T183000
DTSTAMP:20260422T224117
CREATED:20240124T115041Z
LAST-MODIFIED:20240221T132959Z
UID:82769-1708972200-1708972200@www.amuz.krakow.pl
SUMMARY:[:pl]Chór - wielki bohater sceny operowej. Speaking concert[:en]Choir - a great protagonist of the opera stage. Speaking concert[:]
DESCRIPTION:
URL:https://www.amuz.krakow.pl/wydzialy/wydzial-i-tworczosci-interpretacji-i-edukacji-muzycznej/katedra-choralistyki/aktualnosci-23/chor-wielki-bohater-sceny-operowej-speaking-concert/
ATTACH;FMTTYPE=image/jpeg:https://www.amuz.krakow.pl/wp-content/uploads/2024/02/speaking-concert-kafel.jpg
END:VEVENT
END:VCALENDAR