BEGIN:VCALENDAR
VERSION:2.0
PRODID:-//Akademia Muzyczna im. Krzysztofa Pendereckiego w Krakowie - ECPv6.15.20//NONSGML v1.0//EN
CALSCALE:GREGORIAN
METHOD:PUBLISH
X-ORIGINAL-URL:https://www.amuz.krakow.pl
X-WR-CALDESC:Wydarzenia dla Akademia Muzyczna im. Krzysztofa Pendereckiego w Krakowie
REFRESH-INTERVAL;VALUE=DURATION:PT1H
X-Robots-Tag:noindex
X-PUBLISHED-TTL:PT1H
BEGIN:VTIMEZONE
TZID:Europe/Warsaw
BEGIN:DAYLIGHT
TZOFFSETFROM:+0100
TZOFFSETTO:+0200
TZNAME:CEST
DTSTART:20220327T010000
END:DAYLIGHT
BEGIN:STANDARD
TZOFFSETFROM:+0200
TZOFFSETTO:+0100
TZNAME:CET
DTSTART:20221030T010000
END:STANDARD
BEGIN:DAYLIGHT
TZOFFSETFROM:+0100
TZOFFSETTO:+0200
TZNAME:CEST
DTSTART:20230326T010000
END:DAYLIGHT
BEGIN:STANDARD
TZOFFSETFROM:+0200
TZOFFSETTO:+0100
TZNAME:CET
DTSTART:20231029T010000
END:STANDARD
BEGIN:DAYLIGHT
TZOFFSETFROM:+0100
TZOFFSETTO:+0200
TZNAME:CEST
DTSTART:20240331T010000
END:DAYLIGHT
BEGIN:STANDARD
TZOFFSETFROM:+0200
TZOFFSETTO:+0100
TZNAME:CET
DTSTART:20241027T010000
END:STANDARD
END:VTIMEZONE
BEGIN:VEVENT
DTSTART;TZID=Europe/Warsaw:20231103T190000
DTEND;TZID=Europe/Warsaw:20231103T190000
DTSTAMP:20260423T003751
CREATED:20231102T133432Z
LAST-MODIFIED:20231102T143422Z
UID:79473-1699038000-1699038000@www.amuz.krakow.pl
SUMMARY:[:pl]Spontaniczna Scena Przedkonkursowa[:en]Spontaneous Concert Before Cello Competition[:]
DESCRIPTION:
URL:https://www.amuz.krakow.pl/wydzialy/wydzial-ii-instrumentalny/katedra-wiolonczeli-i-kontrabasu/aktualnosci-23/koncert-wiolonczelowo-fortepianowy/
ATTACH;FMTTYPE=image/jpeg:https://www.amuz.krakow.pl/wp-content/uploads/2022/05/koncert-2.jpg
END:VEVENT
BEGIN:VEVENT
DTSTART;TZID=Europe/Warsaw:20231105T180000
DTEND;TZID=Europe/Warsaw:20231105T180000
DTSTAMP:20260423T003751
CREATED:20231031T131238Z
LAST-MODIFIED:20231031T131238Z
UID:79437-1699207200-1699207200@www.amuz.krakow.pl
SUMMARY:[:pl]Johannes Brahms i jemu współcześni - koncert I[:en]Johannes Brahms and other composers of his time - 1st concert[:]
DESCRIPTION:
URL:https://www.amuz.krakow.pl/wydzialy/wydzial-ii-instrumentalny/katedra-skrzypiec-i-altowki/aktualnosci-23/johannes-brahms-i-jemu-wspolczesni/
ATTACH;FMTTYPE=image/jpeg:https://www.amuz.krakow.pl/wp-content/uploads/2023/10/brahms-kafel.jpg
END:VEVENT
BEGIN:VEVENT
DTSTART;TZID=Europe/Warsaw:20231106T180000
DTEND;TZID=Europe/Warsaw:20231106T180000
DTSTAMP:20260423T003751
CREATED:20231031T131240Z
LAST-MODIFIED:20231031T131240Z
UID:79438-1699293600-1699293600@www.amuz.krakow.pl
SUMMARY:[:pl]Johannes Brahms i jemu współcześni - koncert II[:en]Johannes Brahms and other composers of his time - 2nd concert[:]
DESCRIPTION:
URL:https://www.amuz.krakow.pl/wydzialy/wydzial-ii-instrumentalny/katedra-skrzypiec-i-altowki/aktualnosci-23/johannes-brahms-i-jemu-wspolczesni/
ATTACH;FMTTYPE=image/jpeg:https://www.amuz.krakow.pl/wp-content/uploads/2023/10/brahms-kafel.jpg
END:VEVENT
BEGIN:VEVENT
DTSTART;TZID=Europe/Warsaw:20231107T100000
DTEND;TZID=Europe/Warsaw:20231107T140000
DTSTAMP:20260423T003751
CREATED:20231012T131102Z
LAST-MODIFIED:20231026T125715Z
UID:78816-1699351200-1699365600@www.amuz.krakow.pl
SUMMARY:[:pl]Sesja naukowa w ramach XX Międzynarodowego Festiwalu “Zaduszki Organowe” im. prof. J. Jargonia[:en]Academic meeting as part of the 20th International Jan Jargoń All Souls' Day Organ Festival[:]
DESCRIPTION:
URL:https://www.amuz.krakow.pl/wydzialy/wydzial-ii-instrumentalny/katedra-organow/aktualnosci-23/zaduszki-organowe-2023/
ATTACH;FMTTYPE=image/jpeg:https://www.amuz.krakow.pl/wp-content/uploads/2022/11/sesja-naukowa.jpg
END:VEVENT
BEGIN:VEVENT
DTSTART;TZID=Europe/Warsaw:20231107T180000
DTEND;TZID=Europe/Warsaw:20231107T180000
DTSTAMP:20260423T003751
CREATED:20230929T121456Z
LAST-MODIFIED:20231005T100842Z
UID:78353-1699380000-1699380000@www.amuz.krakow.pl
SUMMARY:[:pl]Koncert Krakowskiego Festiwalu Akordeonowego[:en]Concert of Kraków Accordion Festival[:]
DESCRIPTION:
URL:https://www.amuz.krakow.pl/koncerty-krakowskiego-festiwalu-akordeonowego/
ATTACH;FMTTYPE=image/jpeg:https://www.amuz.krakow.pl/wp-content/uploads/2023/09/KKFA_FB-TLO_small.jpg
END:VEVENT
BEGIN:VEVENT
DTSTART;TZID=Europe/Warsaw:20231108T190000
DTEND;TZID=Europe/Warsaw:20231108T190000
DTSTAMP:20260423T003751
CREATED:20231011T121005Z
LAST-MODIFIED:20231011T121005Z
UID:78742-1699470000-1699470000@www.amuz.krakow.pl
SUMMARY:[:pl]Koncert Orkiestry Kameralnej [:en]Chamber Orchestra concert[:]
DESCRIPTION:
URL:https://www.amuz.krakow.pl/orkiestry-akademickie/orkiestra-kameralna/koncerty-2023-2024/koncert-orkiestry-kameralnej/
ATTACH;FMTTYPE=image/jpeg:https://www.amuz.krakow.pl/wp-content/uploads/2022/09/orkiestra-kameralna-kafelek.jpg
END:VEVENT
BEGIN:VEVENT
DTSTART;TZID=Europe/Warsaw:20231110T190000
DTEND;TZID=Europe/Warsaw:20231110T190000
DTSTAMP:20260423T003751
CREATED:20231025T115400Z
LAST-MODIFIED:20231025T115400Z
UID:79220-1699642800-1699642800@www.amuz.krakow.pl
SUMMARY:[:pl]William Byrd – recital akademicki[:en]William Byrd – academic recital[:]
DESCRIPTION:
URL:https://www.amuz.krakow.pl/wydzialy/wydzial-ii-instrumentalny/katedra-muzyki-dawnej/aktualnosci-23/william-byrd-recital-akademicki/
ATTACH;FMTTYPE=image/jpeg:https://www.amuz.krakow.pl/wp-content/uploads/2022/05/koncert-3.jpg
END:VEVENT
BEGIN:VEVENT
DTSTART;VALUE=DATE:20231113
DTEND;VALUE=DATE:20231120
DTSTAMP:20260423T003751
CREATED:20231027T103959Z
LAST-MODIFIED:20231030T140933Z
UID:79336-1699833600-1700438399@www.amuz.krakow.pl
SUMMARY:[:pl]Międzynarodowa Konferencja Naukowo-Artystyczna “Na drodze do nowej harmonii VII” -  źródła\, inspiracje\, konteksty. Literatura solowa i kameralna na instrumenty dęte drewniane i akordeon[:en]International Artistic/Academic Conference “On the way to a new harmony VII”[:]
DESCRIPTION:
URL:https://www.amuz.krakow.pl/wydzialy/wydzial-ii-instrumentalny/katedra-instrumentow-detych-drewnianych-i-akordeonu-2/aktualnosci-23/miedzynarodowa-konferencja-naukowo-artystyczna-na-drodze-do-nowej-harmonii-vii/
ATTACH;FMTTYPE=image/jpeg:https://www.amuz.krakow.pl/wp-content/uploads/2023/10/plakata-na-drozdze-do-nowej-harmonii-kafel.jpg
END:VEVENT
BEGIN:VEVENT
DTSTART;TZID=Europe/Warsaw:20231113T190000
DTEND;TZID=Europe/Warsaw:20231113T190000
DTSTAMP:20260423T003751
CREATED:20230929T121510Z
LAST-MODIFIED:20231005T100905Z
UID:78354-1699902000-1699902000@www.amuz.krakow.pl
SUMMARY:[:pl]Koncert Krakowskiego Festiwalu Akordeonowego w Auli Florianka[:en]Concert of Kraków Accordion Festival in Florianka Hall[:]
DESCRIPTION:
URL:https://www.amuz.krakow.pl/koncerty-krakowskiego-festiwalu-akordeonowego/
ATTACH;FMTTYPE=image/jpeg:https://www.amuz.krakow.pl/wp-content/uploads/2023/09/KKFA_FB-TLO_small.jpg
END:VEVENT
BEGIN:VEVENT
DTSTART;VALUE=DATE:20231114
DTEND;VALUE=DATE:20231115
DTSTAMP:20260423T003751
CREATED:20231011T122210Z
LAST-MODIFIED:20231113T140543Z
UID:78762-1699920000-1700006399@www.amuz.krakow.pl
SUMMARY:[:pl]Koncert Orkiestry Dętej “Wieczór kinowy z zamkniętymi oczami”[:en]Wind Orchestra concert[:]
DESCRIPTION:
URL:https://www.amuz.krakow.pl/orkiestry-akademickie/orkiestra-deta/koncerty-2023-2024/14-11-2023/
ATTACH;FMTTYPE=image/jpeg:https://www.amuz.krakow.pl/wp-content/uploads/2022/09/orkiestra-deta-kafelek.jpg
END:VEVENT
BEGIN:VEVENT
DTSTART;TZID=Europe/Warsaw:20231114T093000
DTEND;TZID=Europe/Warsaw:20231115T150000
DTSTAMP:20260423T003751
CREATED:20231026T122759Z
LAST-MODIFIED:20231026T125247Z
UID:79273-1699954200-1700060400@www.amuz.krakow.pl
SUMMARY:[:pl]"Muzyka wobec poezji i nauczania Karola Wojtyły i Jana Pawła II" - ogólnopolska sesja naukowa[:en]"Music in relation to poetry and teaching of Karol Wojtyła and John Paul II" - academic meeting [:]
DESCRIPTION:
URL:https://www.amuz.krakow.pl/wydzialy/wydzial-i-tworczosci-interpretacji-i-edukacji-muzycznej/katedra-teorii-i-interpretacji-dziela-muzycznego/aktualnosci23/ogolnopolska-sesja-naukowa-z-serii-muzyka-wobec-poezji-i-nauczania-karola-wojtyly-i-jana-pawla-ii/
ATTACH;FMTTYPE=image/jpeg:https://www.amuz.krakow.pl/wp-content/uploads/2022/11/sesja-naukowa.jpg
END:VEVENT
BEGIN:VEVENT
DTSTART;TZID=Europe/Warsaw:20231115T190000
DTEND;TZID=Europe/Warsaw:20231115T190000
DTSTAMP:20260423T003751
CREATED:20231026T132313Z
LAST-MODIFIED:20231027T101133Z
UID:79301-1700074800-1700074800@www.amuz.krakow.pl
SUMMARY:[:pl]Koncert Orkiestry Symfonicznej i Chóru AMKP w ramach Dni Jana Pawła II[:en]Concert of AMKP Symphony Orchestra and Choir - as part of John Paul II Days[:]
DESCRIPTION:
URL:https://www.amuz.krakow.pl/orkiestry-akademickie/orkiestra-symfoniczna/koncerty-2023-2024/koncert-orkiestry-symfonicznej-i-choru-amkp-15-11-2023/
ATTACH;FMTTYPE=image/jpeg:https://www.amuz.krakow.pl/wp-content/uploads/2023/01/kafelki-na-web-chor-symf.jpg
END:VEVENT
BEGIN:VEVENT
DTSTART;VALUE=DATE:20231117
DTEND;VALUE=DATE:20231127
DTSTAMP:20260423T003751
CREATED:20231031T112040Z
LAST-MODIFIED:20231110T135908Z
UID:79399-1700179200-1701043199@www.amuz.krakow.pl
SUMMARY:[:pl]31. Festiwal Audio Art[:en]31st Audio Art Festiwal[:]
DESCRIPTION:
URL:https://www.amuz.krakow.pl/wydzialy/wydzial-i-tworczosci-interpretacji-i-edukacji-muzycznej/katedra-kompozycji/aktualnosci-23/31-festiwal-audio-art/
ATTACH;FMTTYPE=image/jpeg:https://www.amuz.krakow.pl/wp-content/uploads/2023/10/audio-art-30-31-FINAL-kafel.jpg
END:VEVENT
BEGIN:VEVENT
DTSTART;TZID=Europe/Warsaw:20231117T180000
DTEND;TZID=Europe/Warsaw:20231119T170000
DTSTAMP:20260423T003751
CREATED:20231113T111545Z
LAST-MODIFIED:20231116T140947Z
UID:79877-1700244000-1700413200@www.amuz.krakow.pl
SUMMARY:[:pl]Francja-elegancja – weekend z fortepianem historycznym[:en]France-elegance – weekend with a historical piano[:]
DESCRIPTION:
URL:https://www.amuz.krakow.pl/wydzialy/wydzial-ii-instrumentalny/katedra-muzyki-dawnej/aktualnosci-23/francja-elegancja-weekend-z-fortepianem-historycznym/
ATTACH;FMTTYPE=image/jpeg:https://www.amuz.krakow.pl/wp-content/uploads/2023/11/francja-elegancja-kafel.jpg
END:VEVENT
BEGIN:VEVENT
DTSTART;TZID=Europe/Warsaw:20231118T110000
DTEND;TZID=Europe/Warsaw:20231118T163000
DTSTAMP:20260423T003751
CREATED:20231107T125633Z
LAST-MODIFIED:20231107T125633Z
UID:79632-1700305200-1700325000@www.amuz.krakow.pl
SUMMARY:[:pl]VIII Małopolskie warsztaty dla dyrygentów zespołów chóralnych[:en]18th Małopolskie workshops for choral conductors[:]
DESCRIPTION:
URL:https://www.amuz.krakow.pl/viii-malopolskie-warsztaty-dla-dyrygentow-zespolow-choralnych/
ATTACH;FMTTYPE=image/jpeg:https://www.amuz.krakow.pl/wp-content/uploads/2023/11/plakat-warsztaty-dla-dyrygentow-2023-scaled.jpg
END:VEVENT
BEGIN:VEVENT
DTSTART;TZID=Europe/Warsaw:20231119T133000
DTEND;TZID=Europe/Warsaw:20231119T133000
DTSTAMP:20260423T003751
CREATED:20231027T110050Z
LAST-MODIFIED:20231027T110050Z
UID:79344-1700400600-1700400600@www.amuz.krakow.pl
SUMMARY:[:pl]XIX Organowe Matinée w wykonaniu studenta AMKP Karola Płonki[:en]19th Organ Matinée by Karol Płonka (AMKP)[:]
DESCRIPTION:
URL:https://www.amuz.krakow.pl/wydzialy/wydzial-ii-instrumentalny/katedra-organow/aktualnosci-23/xix-organowe-matinee-karol-plonka/
ATTACH;FMTTYPE=image/jpeg:https://www.amuz.krakow.pl/wp-content/uploads/2022/04/organowy-matinee-www.jpg
END:VEVENT
BEGIN:VEVENT
DTSTART;TZID=Europe/Warsaw:20231121T100000
DTEND;TZID=Europe/Warsaw:20231122T130000
DTSTAMP:20260423T003751
CREATED:20231103T124531Z
LAST-MODIFIED:20231106T121526Z
UID:79522-1700560800-1700658000@www.amuz.krakow.pl
SUMMARY:[:pl]Spotkania z ekspertem: New Concert Formats in Classical Music & Career Management[:en]Meet the expert: New Concert Formats in Classical Music & Career Management[:]
DESCRIPTION:
URL:https://www.amuz.krakow.pl/spotkanie-z-ekspertem-21-22-11-2023/
ATTACH;FMTTYPE=image/jpeg:https://www.amuz.krakow.pl/wp-content/uploads/2023/11/CRK-ekspert-11-2023.jpg
END:VEVENT
BEGIN:VEVENT
DTSTART;TZID=Europe/Warsaw:20231122T180000
DTEND;TZID=Europe/Warsaw:20231122T180000
DTSTAMP:20260423T003751
CREATED:20230929T121522Z
LAST-MODIFIED:20231005T100911Z
UID:78355-1700676000-1700676000@www.amuz.krakow.pl
SUMMARY:[:pl]Koncert Krakowskiego Festiwalu Akordeonowego[:en]Concert of Kraków Accordion Festival[:]
DESCRIPTION:
URL:https://www.amuz.krakow.pl/koncerty-krakowskiego-festiwalu-akordeonowego/
ATTACH;FMTTYPE=image/jpeg:https://www.amuz.krakow.pl/wp-content/uploads/2023/09/KKFA_FB-TLO_small.jpg
END:VEVENT
BEGIN:VEVENT
DTSTART;TZID=Europe/Warsaw:20231122T190000
DTEND;TZID=Europe/Warsaw:20231123T150000
DTSTAMP:20260423T003751
CREATED:20231107T131820Z
LAST-MODIFIED:20231116T140844Z
UID:79642-1700679600-1700751600@www.amuz.krakow.pl
SUMMARY:[:pl]Recital i kurs interpretacji prof. Tamary Licheli[:en]Professor Tamara Licheli recital and interpretation masterclass[:]
DESCRIPTION:
URL:https://www.amuz.krakow.pl/wydzialy/wydzial-ii-instrumentalny/katedra-fortepianu/aktualnosci-23/recital-i-kurs-interpretacji-prof-tamary-licheli/
ATTACH;FMTTYPE=image/jpeg:https://www.amuz.krakow.pl/wp-content/uploads/2023/11/recital-tamara-scaled.jpg
END:VEVENT
BEGIN:VEVENT
DTSTART;TZID=Europe/Warsaw:20231123T140000
DTEND;TZID=Europe/Warsaw:20231123T180000
DTSTAMP:20260423T003751
CREATED:20231102T135601Z
LAST-MODIFIED:20231107T100437Z
UID:79489-1700748000-1700762400@www.amuz.krakow.pl
SUMMARY:[:pl]Saksofon\, kontrabas\, perkusja - warsztaty i koncert[:en]Saxophone\, double bass\, drums - workshops and concert[:]
DESCRIPTION:
URL:https://www.amuz.krakow.pl/wydzialy/wydzial-ii-instrumentalny/katedra-jazzu/aktualnosci-23/kontrabas-saksofon-perkusja-warsztaty-i-koncert/
ATTACH;FMTTYPE=image/jpeg:https://www.amuz.krakow.pl/wp-content/uploads/2023/11/warsztaty-kafel.jpg
END:VEVENT
BEGIN:VEVENT
DTSTART;VALUE=DATE:20231124
DTEND;VALUE=DATE:20231127
DTSTAMP:20260423T003751
CREATED:20231031T115717Z
LAST-MODIFIED:20231120T122658Z
UID:79407-1700784000-1701043199@www.amuz.krakow.pl
SUMMARY:[:pl]Weekend z Brahmsem[:en]Weekend with Brahms[:]
DESCRIPTION:
URL:https://www.amuz.krakow.pl/wydzialy/wydzial-ii-instrumentalny/katedra-fortepianu/aktualnosci-23/weekend-z-brahmsem/
ATTACH;FMTTYPE=image/jpeg:https://www.amuz.krakow.pl/wp-content/uploads/2023/11/brahms-wszystkie-kafel.jpg
END:VEVENT
BEGIN:VEVENT
DTSTART;VALUE=DATE:20231126
DTEND;VALUE=DATE:20231205
DTSTAMP:20260423T003751
CREATED:20230913T092715Z
LAST-MODIFIED:20230913T092845Z
UID:77923-1700956800-1701734399@www.amuz.krakow.pl
SUMMARY:[:pl]4. Międzynarodowy Konkurs Wiolonczelowy im. Krzysztofa Pendereckiego / 4th International Krzysztof Penderecki Cello Competition / 26.11- 4.12.2023 [:en]4th International Krzysztof Penderecki Cello Competition / 26.11- 4.12.2023 [:]
DESCRIPTION:
URL:https://www.amuz.krakow.pl/konkursy/konkursy-interpretacji-muzyki/miedzynarodowy-konkurs-wiolonczelowy-im-krzysztofa-pendereckiego/2023-2/
ATTACH;FMTTYPE=image/jpeg:https://www.amuz.krakow.pl/wp-content/uploads/2023/01/4th-cello-comp-2.jpg
END:VEVENT
END:VCALENDAR