BEGIN:VCALENDAR
VERSION:2.0
PRODID:-//Akademia Muzyczna im. Krzysztofa Pendereckiego w Krakowie - ECPv6.15.20//NONSGML v1.0//EN
CALSCALE:GREGORIAN
METHOD:PUBLISH
X-ORIGINAL-URL:https://www.amuz.krakow.pl
X-WR-CALDESC:Wydarzenia dla Akademia Muzyczna im. Krzysztofa Pendereckiego w Krakowie
REFRESH-INTERVAL;VALUE=DURATION:PT1H
X-Robots-Tag:noindex
X-PUBLISHED-TTL:PT1H
BEGIN:VTIMEZONE
TZID:Europe/Warsaw
BEGIN:DAYLIGHT
TZOFFSETFROM:+0100
TZOFFSETTO:+0200
TZNAME:CEST
DTSTART:20220327T010000
END:DAYLIGHT
BEGIN:STANDARD
TZOFFSETFROM:+0200
TZOFFSETTO:+0100
TZNAME:CET
DTSTART:20221030T010000
END:STANDARD
BEGIN:DAYLIGHT
TZOFFSETFROM:+0100
TZOFFSETTO:+0200
TZNAME:CEST
DTSTART:20230326T010000
END:DAYLIGHT
BEGIN:STANDARD
TZOFFSETFROM:+0200
TZOFFSETTO:+0100
TZNAME:CET
DTSTART:20231029T010000
END:STANDARD
BEGIN:DAYLIGHT
TZOFFSETFROM:+0100
TZOFFSETTO:+0200
TZNAME:CEST
DTSTART:20240331T010000
END:DAYLIGHT
BEGIN:STANDARD
TZOFFSETFROM:+0200
TZOFFSETTO:+0100
TZNAME:CET
DTSTART:20241027T010000
END:STANDARD
END:VTIMEZONE
BEGIN:VEVENT
DTSTART;VALUE=DATE:20230828
DTEND;VALUE=DATE:20230904
DTSTAMP:20260423T042408
CREATED:20230829T091606Z
LAST-MODIFIED:20230829T093508Z
UID:77607-1693180800-1693785599@www.amuz.krakow.pl
SUMMARY:[:pl]25. Letnia Akademia Muzyczna w Krakowie / 25th Summer Academy of Music in Krakow - 28 sierpnia - 3 września 2023 / 28 August - 3 September 2023[:en]25th Summer Academy of Music in Krakow - 28 August - 3 September 2023[:]
DESCRIPTION:
URL:https://www.amuz.krakow.pl/letnia-akademia-muzyczna/
ATTACH;FMTTYPE=image/jpeg:https://www.amuz.krakow.pl/wp-content/uploads/2023/02/LAM-25-kafelek.jpg
END:VEVENT
BEGIN:VEVENT
DTSTART;TZID=Europe/Warsaw:20230901T190000
DTEND;TZID=Europe/Warsaw:20230901T190000
DTSTAMP:20260423T042408
CREATED:20230829T093103Z
LAST-MODIFIED:20230829T093103Z
UID:77618-1693594800-1693594800@www.amuz.krakow.pl
SUMMARY:[:pl]Koncert uczestników 25. LAM[:en]25th LAM participants' concert[:]
DESCRIPTION:
URL:https://www.amuz.krakow.pl/letnia-akademia-muzyczna/koncerty/
ATTACH;FMTTYPE=image/png:https://www.amuz.krakow.pl/wp-content/uploads/2023/08/LAM-25-plakaty-OK_1.png
END:VEVENT
BEGIN:VEVENT
DTSTART;TZID=Europe/Warsaw:20230902T190000
DTEND;TZID=Europe/Warsaw:20230902T190000
DTSTAMP:20260423T042408
CREATED:20230829T093153Z
LAST-MODIFIED:20230829T093153Z
UID:77620-1693681200-1693681200@www.amuz.krakow.pl
SUMMARY:[:pl]Koncert uczestników 25. LAM[:en]25th LAM participant's concert[:]
DESCRIPTION:
URL:https://www.amuz.krakow.pl/letnia-akademia-muzyczna/koncerty/
ATTACH;FMTTYPE=image/png:https://www.amuz.krakow.pl/wp-content/uploads/2023/08/LAM-25-plakaty-OK_1.png
END:VEVENT
BEGIN:VEVENT
DTSTART;TZID=Europe/Warsaw:20230903T180000
DTEND;TZID=Europe/Warsaw:20230903T180000
DTSTAMP:20260423T042408
CREATED:20230829T093301Z
LAST-MODIFIED:20230829T093301Z
UID:77622-1693764000-1693764000@www.amuz.krakow.pl
SUMMARY:[:pl]Koncert finałowy 25. LAM[:en]25th LAM final concert[:]
DESCRIPTION:
URL:https://www.amuz.krakow.pl/letnia-akademia-muzyczna/koncerty/
ATTACH;FMTTYPE=image/png:https://www.amuz.krakow.pl/wp-content/uploads/2023/08/LAM-25-plakaty-OK_1.png
END:VEVENT
BEGIN:VEVENT
DTSTART;TZID=Europe/Warsaw:20230917T133000
DTEND;TZID=Europe/Warsaw:20230917T133000
DTSTAMP:20260423T042408
CREATED:20230912T105825Z
LAST-MODIFIED:20230912T105825Z
UID:77887-1694957400-1694957400@www.amuz.krakow.pl
SUMMARY:[:pl]XVII Organowe Matinée w wykonaniu absolwenta AMKP Michała Książka[:en]17th Organ Matinée performed by AMKP graduate Michał Książek[:]
DESCRIPTION:
URL:https://www.amuz.krakow.pl/wydzialy/wydzial-ii-instrumentalny/katedra-organow/aktualnosci-23/xvii-matinee-organowe-w-wykonaniu-absolwenta-amkp-michala-ksiazka/
ATTACH;FMTTYPE=image/jpeg:https://www.amuz.krakow.pl/wp-content/uploads/2022/04/organowy-matinee-www.jpg
END:VEVENT
BEGIN:VEVENT
DTSTART;VALUE=DATE:20230921
DTEND;VALUE=DATE:20230925
DTSTAMP:20260423T042408
CREATED:20230908T125321Z
LAST-MODIFIED:20230908T125321Z
UID:77835-1695254400-1695599999@www.amuz.krakow.pl
SUMMARY:[:pl]52. Międzynarodowy Festiwal Heinricha Schütza - 21-24 września 2023[:en]52nd International Heinrich Schütz Festival - 21-24 Septebmer 2023[:]
DESCRIPTION:
URL:https://www.amuz.krakow.pl/52-miedzynarodowy-festiwal-heinricha-schutza/
ATTACH;FMTTYPE=image/jpeg:https://www.amuz.krakow.pl/wp-content/uploads/2023/09/52.-Miedzynarodowy-Festiwal-Schutza_kafelek.jpg
END:VEVENT
BEGIN:VEVENT
DTSTART;VALUE=DATE:20230922
DTEND;VALUE=DATE:20231001
DTSTAMP:20260423T042408
CREATED:20230911T110049Z
LAST-MODIFIED:20230911T110049Z
UID:77872-1695340800-1696118399@www.amuz.krakow.pl
SUMMARY:[:pl]II Festiwal Serate Musicali Cracoviensis[:en]2nd Serate Musicali Cracoviensis Festival[:]
DESCRIPTION:
URL:https://www.amuz.krakow.pl/wydzialy/wydzial-ii-instrumentalny/katedra-instrumentow-detych-drewnianych-i-akordeonu-2/aktualnosci-23/festiwal-serate-musicali-cracoviensis/
ATTACH;FMTTYPE=image/jpeg:https://www.amuz.krakow.pl/wp-content/uploads/2023/09/Festiwal-wloski_kafelek-scaled.jpg
END:VEVENT
BEGIN:VEVENT
DTSTART;TZID=Europe/Warsaw:20230923T180000
DTEND;TZID=Europe/Warsaw:20230923T180000
DTSTAMP:20260423T042408
CREATED:20230923T094122Z
LAST-MODIFIED:20231024T090706Z
UID:78182-1695492000-1695492000@www.amuz.krakow.pl
SUMMARY:[:pl]I koncert w ramach festiwalu „Na drodze do nowej harmonii”[:en]1st concert as part of the festival "On the way to a new harmony"[:]
DESCRIPTION:
URL:https://www.amuz.krakow.pl/fundacja-amkp/projekty/miedzynarodowy-festiwal-muzyczny-na-drodze-do-nowej-harmonii/
ATTACH;FMTTYPE=image/jpeg:https://www.amuz.krakow.pl/wp-content/uploads/2023/09/NOWA-HARMONIA_FB-BACKGROUND-.jpg
END:VEVENT
BEGIN:VEVENT
DTSTART;VALUE=DATE:20230925
DTEND;VALUE=DATE:20231001
DTSTAMP:20260423T042408
CREATED:20230727T151627Z
LAST-MODIFIED:20230829T093650Z
UID:77466-1695600000-1696118399@www.amuz.krakow.pl
SUMMARY:[:pl]International Hornweek: Horn in the World - 25-30 września 2023[:en]International Hornweek: Horn in the World - 25-30 September 2023[:]
DESCRIPTION:
URL:https://www.amuz.krakow.pl/wydzialy/wydzial-ii-instrumentalny/katedra-instrumentow-detych-blaszanych/aktualnosci-23/international-hornweek/
ATTACH;FMTTYPE=image/jpeg:https://www.amuz.krakow.pl/wp-content/uploads/2023/07/hornweek-2023-web.jpg
END:VEVENT
BEGIN:VEVENT
DTSTART;TZID=Europe/Warsaw:20230927T193000
DTEND;TZID=Europe/Warsaw:20230927T193000
DTSTAMP:20260423T042408
CREATED:20230918T085810Z
LAST-MODIFIED:20230919T101028Z
UID:78025-1695843000-1695843000@www.amuz.krakow.pl
SUMMARY:[:pl]Koncert dyplomowy magisterski z dyrygentury studentki Martyny Drabczyńskiej z Orkiestrą CORda Cracovia[:en]Conducting diploma concert by Martyna Drabczyńska with CORda Cracovia Orchestra[:]
DESCRIPTION:
URL:https://www.amuz.krakow.pl/wydzialy/wydzial-i-tworczosci-interpretacji-i-edukacji-muzycznej/katedra-dyrygentury/aktualnosci-23/koncert-dyplomowy-magisterski-z-dyrygentury-studentki-martyny-drabczynskiej/
ATTACH;FMTTYPE=image/jpeg:https://www.amuz.krakow.pl/wp-content/uploads/2023/06/kafel-dyplomowy.jpg
END:VEVENT
BEGIN:VEVENT
DTSTART;TZID=Europe/Warsaw:20230930T180000
DTEND;TZID=Europe/Warsaw:20230930T180000
DTSTAMP:20260423T042408
CREATED:20230908T103614Z
LAST-MODIFIED:20230908T103614Z
UID:77815-1696096800-1696096800@www.amuz.krakow.pl
SUMMARY:[:pl]Koncert finałowy HORNWEEK[:en]HORNWEEK final concert[:]
DESCRIPTION:
URL:https://www.amuz.krakow.pl/wydzialy/wydzial-ii-instrumentalny/katedra-instrumentow-detych-blaszanych/aktualnosci-23/koncert-finalowy-hornweek-w-kopalni-soli-w-bochni/
ATTACH;FMTTYPE=image/jpeg:https://www.amuz.krakow.pl/wp-content/uploads/2023/09/koncert-hornweek-2023-web.jpg
END:VEVENT
BEGIN:VEVENT
DTSTART;TZID=Europe/Warsaw:20230930T180000
DTEND;TZID=Europe/Warsaw:20230930T180000
DTSTAMP:20260423T042408
CREATED:20230929T120616Z
LAST-MODIFIED:20230929T121352Z
UID:78347-1696096800-1696096800@www.amuz.krakow.pl
SUMMARY:[:pl]Koncert Krakowskiego Festiwalu Akordeonowego[:en]Concert of Kraków Accordion Festival[:]
DESCRIPTION:
URL:https://www.amuz.krakow.pl/koncerty-krakowskiego-festiwalu-akordeonowego/
ATTACH;FMTTYPE=image/jpeg:https://www.amuz.krakow.pl/wp-content/uploads/2023/09/KKFA_FB-TLO_small.jpg
END:VEVENT
END:VCALENDAR