BEGIN:VCALENDAR
VERSION:2.0
PRODID:-//Akademia Muzyczna im. Krzysztofa Pendereckiego w Krakowie - ECPv6.15.20//NONSGML v1.0//EN
CALSCALE:GREGORIAN
METHOD:PUBLISH
X-WR-CALNAME:Akademia Muzyczna im. Krzysztofa Pendereckiego w Krakowie
X-ORIGINAL-URL:https://www.amuz.krakow.pl
X-WR-CALDESC:Wydarzenia dla Akademia Muzyczna im. Krzysztofa Pendereckiego w Krakowie
REFRESH-INTERVAL;VALUE=DURATION:PT1H
X-Robots-Tag:noindex
X-PUBLISHED-TTL:PT1H
BEGIN:VTIMEZONE
TZID:Europe/Warsaw
BEGIN:DAYLIGHT
TZOFFSETFROM:+0100
TZOFFSETTO:+0200
TZNAME:CEST
DTSTART:20220327T010000
END:DAYLIGHT
BEGIN:STANDARD
TZOFFSETFROM:+0200
TZOFFSETTO:+0100
TZNAME:CET
DTSTART:20221030T010000
END:STANDARD
BEGIN:DAYLIGHT
TZOFFSETFROM:+0100
TZOFFSETTO:+0200
TZNAME:CEST
DTSTART:20230326T010000
END:DAYLIGHT
BEGIN:STANDARD
TZOFFSETFROM:+0200
TZOFFSETTO:+0100
TZNAME:CET
DTSTART:20231029T010000
END:STANDARD
BEGIN:DAYLIGHT
TZOFFSETFROM:+0100
TZOFFSETTO:+0200
TZNAME:CEST
DTSTART:20240331T010000
END:DAYLIGHT
BEGIN:STANDARD
TZOFFSETFROM:+0200
TZOFFSETTO:+0100
TZNAME:CET
DTSTART:20241027T010000
END:STANDARD
END:VTIMEZONE
BEGIN:VEVENT
DTSTART;VALUE=DATE:20230828
DTEND;VALUE=DATE:20230904
DTSTAMP:20260423T060230
CREATED:20230829T091606Z
LAST-MODIFIED:20230829T093508Z
UID:77607-1693180800-1693785599@www.amuz.krakow.pl
SUMMARY:[:pl]25. Letnia Akademia Muzyczna w Krakowie / 25th Summer Academy of Music in Krakow - 28 sierpnia - 3 września 2023 / 28 August - 3 September 2023[:en]25th Summer Academy of Music in Krakow - 28 August - 3 September 2023[:]
DESCRIPTION:
URL:https://www.amuz.krakow.pl/letnia-akademia-muzyczna/
ATTACH;FMTTYPE=image/jpeg:https://www.amuz.krakow.pl/wp-content/uploads/2023/02/LAM-25-kafelek.jpg
END:VEVENT
BEGIN:VEVENT
DTSTART;TZID=Europe/Warsaw:20230829T190000
DTEND;TZID=Europe/Warsaw:20230829T190000
DTSTAMP:20260423T060230
CREATED:20230829T092026Z
LAST-MODIFIED:20230829T093340Z
UID:77609-1693335600-1693335600@www.amuz.krakow.pl
SUMMARY:[:pl]Koncert fortepianowy Lily Phee (25. LAM)[:en]Lily Phee piano concert (25th LAM)[:]
DESCRIPTION:
URL:https://www.amuz.krakow.pl/letnia-akademia-muzyczna/koncerty/
ATTACH;FMTTYPE=image/png:https://www.amuz.krakow.pl/wp-content/uploads/2023/08/LAM-25-plakaty-OK_2.png
END:VEVENT
BEGIN:VEVENT
DTSTART;TZID=Europe/Warsaw:20230830T190000
DTEND;TZID=Europe/Warsaw:20230830T190000
DTSTAMP:20260423T060230
CREATED:20230829T092837Z
LAST-MODIFIED:20230829T092837Z
UID:77614-1693422000-1693422000@www.amuz.krakow.pl
SUMMARY:[:pl]Koncert uczestników 25. LAM[:en]25th LAM participants' concert[:]
DESCRIPTION:
URL:https://www.amuz.krakow.pl/letnia-akademia-muzyczna/koncerty/
ATTACH;FMTTYPE=image/png:https://www.amuz.krakow.pl/wp-content/uploads/2023/08/LAM-25-plakaty-OK_1.png
END:VEVENT
BEGIN:VEVENT
DTSTART;TZID=Europe/Warsaw:20230831T190000
DTEND;TZID=Europe/Warsaw:20230831T190000
DTSTAMP:20260423T060230
CREATED:20230829T093000Z
LAST-MODIFIED:20230829T093000Z
UID:77616-1693508400-1693508400@www.amuz.krakow.pl
SUMMARY:[:pl]Koncert uczestników 25. LAM[:en]25th LAM participants' concert[:]
DESCRIPTION:
URL:https://www.amuz.krakow.pl/letnia-akademia-muzyczna/koncerty/
ATTACH;FMTTYPE=image/png:https://www.amuz.krakow.pl/wp-content/uploads/2023/08/LAM-25-plakaty-OK_1.png
END:VEVENT
END:VCALENDAR