BEGIN:VCALENDAR
VERSION:2.0
PRODID:-//Akademia Muzyczna im. Krzysztofa Pendereckiego w Krakowie - ECPv6.15.20//NONSGML v1.0//EN
CALSCALE:GREGORIAN
METHOD:PUBLISH
X-ORIGINAL-URL:https://www.amuz.krakow.pl
X-WR-CALDESC:Wydarzenia dla Akademia Muzyczna im. Krzysztofa Pendereckiego w Krakowie
REFRESH-INTERVAL;VALUE=DURATION:PT1H
X-Robots-Tag:noindex
X-PUBLISHED-TTL:PT1H
BEGIN:VTIMEZONE
TZID:Europe/Warsaw
BEGIN:DAYLIGHT
TZOFFSETFROM:+0100
TZOFFSETTO:+0200
TZNAME:CEST
DTSTART:20220327T010000
END:DAYLIGHT
BEGIN:STANDARD
TZOFFSETFROM:+0200
TZOFFSETTO:+0100
TZNAME:CET
DTSTART:20221030T010000
END:STANDARD
BEGIN:DAYLIGHT
TZOFFSETFROM:+0100
TZOFFSETTO:+0200
TZNAME:CEST
DTSTART:20230326T010000
END:DAYLIGHT
BEGIN:STANDARD
TZOFFSETFROM:+0200
TZOFFSETTO:+0100
TZNAME:CET
DTSTART:20231029T010000
END:STANDARD
BEGIN:DAYLIGHT
TZOFFSETFROM:+0100
TZOFFSETTO:+0200
TZNAME:CEST
DTSTART:20240331T010000
END:DAYLIGHT
BEGIN:STANDARD
TZOFFSETFROM:+0200
TZOFFSETTO:+0100
TZNAME:CET
DTSTART:20241027T010000
END:STANDARD
END:VTIMEZONE
BEGIN:VEVENT
DTSTART;TZID=Europe/Warsaw:20230601T100000
DTEND;TZID=Europe/Warsaw:20230601T190000
DTSTAMP:20260423T092322
CREATED:20230517T115230Z
LAST-MODIFIED:20230523T104035Z
UID:74654-1685613600-1685646000@www.amuz.krakow.pl
SUMMARY:[:pl]Inwencje wielogłosowe – sympozjum i koncert pamięci Jacka Targosza[:en]Inventions of multipart singing – symposium and concert in memoriam of Jacek Targosz[:]
DESCRIPTION:
URL:https://www.amuz.krakow.pl/wydzialy/wydzial-i-tworczosci-interpretacji-i-edukacji-muzycznej/katedra-teorii-i-interpretacji-dziela-muzycznego/aktualnosci/inwencje-wieloglosowe-sympozjum-i-koncert-pamieci-jacka-targosza/
ATTACH;FMTTYPE=image/jpeg:https://www.amuz.krakow.pl/wp-content/uploads/2023/05/inwencje-kafel.jpg
END:VEVENT
BEGIN:VEVENT
DTSTART;VALUE=DATE:20230602
DTEND;VALUE=DATE:20230605
DTSTAMP:20260423T092322
CREATED:20230523T123646Z
LAST-MODIFIED:20230523T123659Z
UID:74821-1685664000-1685923199@www.amuz.krakow.pl
SUMMARY:[:pl]III Krakowskie Warsztaty Harfowe[:en]3rd Krakow Harp Workshops[:]
DESCRIPTION:
URL:https://www.amuz.krakow.pl/wydzialy/wydzial-ii-instrumentalny/katedra-gitary-i-harfy/aktualnosci-22/iii-krakowskie-warsztaty-harfowe/
ATTACH;FMTTYPE=image/png:https://www.amuz.krakow.pl/wp-content/uploads/2023/05/Warsztaty-Plakat_1.png
END:VEVENT
BEGIN:VEVENT
DTSTART;TZID=Europe/Warsaw:20230602T190000
DTEND;TZID=Europe/Warsaw:20230602T190000
DTSTAMP:20260423T092322
CREATED:20230523T112329Z
LAST-MODIFIED:20230530T101005Z
UID:74813-1685732400-1685732400@www.amuz.krakow.pl
SUMMARY:[:pl]Koncert Koła Skrzypków[:en]Concert of the Violin Student Research Group[:]
DESCRIPTION:
URL:https://www.amuz.krakow.pl/wydzialy/wydzial-ii-instrumentalny/katedra-skrzypiec-i-altowki/aktualnosci-22/koncert-kola-skrzypkow/
ATTACH;FMTTYPE=image/jpeg:https://www.amuz.krakow.pl/wp-content/uploads/2023/05/kolo-studentow-kafel.jpg
END:VEVENT
BEGIN:VEVENT
DTSTART;TZID=Europe/Warsaw:20230605T150000
DTEND;TZID=Europe/Warsaw:20230606T183000
DTSTAMP:20260423T092322
CREATED:20230523T133951Z
LAST-MODIFIED:20230531T101318Z
UID:74863-1685977200-1686076200@www.amuz.krakow.pl
SUMMARY:[:pl]Dyplomy licencjackie studentów Wydziału Wokalno-Aktorskiego[:en]Bachelor diplomas of students of the Faculty of Voice and Drama[:]
DESCRIPTION:
URL:https://www.amuz.krakow.pl/wydzialy/wydzial-iii-wokalno-aktorski/pracownicy-katedry-2/aktualnosci-22/dyplomy-licencjackie-studentow-wydzialu-wokalno-aktorskiego/
ATTACH;FMTTYPE=image/jpeg:https://www.amuz.krakow.pl/wp-content/uploads/2023/05/Dyplomy23-kafelek.jpg
END:VEVENT
BEGIN:VEVENT
DTSTART;TZID=Europe/Warsaw:20230605T180000
DTEND;TZID=Europe/Warsaw:20230605T180000
DTSTAMP:20260423T092322
CREATED:20230531T091216Z
LAST-MODIFIED:20230531T091216Z
UID:75466-1685988000-1685988000@www.amuz.krakow.pl
SUMMARY:[:pl]Koncert gitarowy w wykonaniu studentów klasy gitary Westfälische Wilhelms-Universität Münster[:en]Guitar concert performed by the guitar class students from the Westfälische Wilhelms-Universität Münster[:]
DESCRIPTION:
URL:https://www.amuz.krakow.pl/wydzialy/wydzial-ii-instrumentalny/katedra-gitary-i-harfy/aktualnosci-22/koncert-gitarowy-w-wykonaniu-studentow-klasy-gitary-westfalische-wilhelms-universitat-munster/
ATTACH;FMTTYPE=image/jpeg:https://www.amuz.krakow.pl/wp-content/uploads/2023/05/koncert-gitarowy.jpg
END:VEVENT
BEGIN:VEVENT
DTSTART;TZID=Europe/Warsaw:20230606T170000
DTEND;TZID=Europe/Warsaw:20230606T170000
DTSTAMP:20260423T092322
CREATED:20230530T104111Z
LAST-MODIFIED:20230531T101357Z
UID:75315-1686070800-1686070800@www.amuz.krakow.pl
SUMMARY:[:pl]Koncert studentów i studentek przedmiotu Praktyka Wykonawcza Muzyki Współczesnej[:en]Concert of students from the Department of Percussion and Contemporary Music[:]
DESCRIPTION:
URL:https://www.amuz.krakow.pl/wydzialy/wydzial-ii-instrumentalny/katedra-perkusji-i-muzyki-wspolczesnej/aktualnosci-22/koncert-studentow-i-studentek-przedmiotu-praktyka-wykonawcza-muzyki-wspolczesnej/
ATTACH;FMTTYPE=image/jpeg:https://www.amuz.krakow.pl/wp-content/uploads/2022/05/koncert-3.jpg
END:VEVENT
BEGIN:VEVENT
DTSTART;TZID=Europe/Warsaw:20230613T170000
DTEND;TZID=Europe/Warsaw:20230613T170000
DTSTAMP:20260423T092322
CREATED:20230613T124803Z
LAST-MODIFIED:20230613T124803Z
UID:75787-1686675600-1686675600@www.amuz.krakow.pl
SUMMARY:[:pl]Sfera 623 - koncert na 50-lecie Studia Muzyki Elektroakustycznej[:en]Sphere 623 - concert for the 50th anniversary of Electroacoustic Music Studio[:]
DESCRIPTION:
URL:https://www.amuz.krakow.pl/wydzialy/wydzial-i-tworczosci-interpretacji-i-edukacji-muzycznej/katedra-kompozycji/aktualnosci22/sfera-623-koncert-na-50-lecie-studia-muzyki-elektroakustycznej-amkp/
ATTACH;FMTTYPE=image/jpeg:https://www.amuz.krakow.pl/wp-content/uploads/2022/05/koncert-1.jpg
END:VEVENT
BEGIN:VEVENT
DTSTART;TZID=Europe/Warsaw:20230618T200000
DTEND;TZID=Europe/Warsaw:20230618T200000
DTSTAMP:20260423T092322
CREATED:20230531T095138Z
LAST-MODIFIED:20230607T085414Z
UID:75491-1687118400-1687118400@www.amuz.krakow.pl
SUMMARY:[:pl]Dyplom dyrygencki Kingi Głowackiej z orkiestrą Sinfonietta Cracovia[:en]Diploma concert on conducting by Kinga Głowacka performed with Sinfonietta Cracovia Orchestra[:]
DESCRIPTION:
URL:https://www.amuz.krakow.pl/wydzialy/wydzial-i-tworczosci-interpretacji-i-edukacji-muzycznej/katedra-dyrygentury/aktualnosci/dyplom-dyrygencki-kingi-glowackiej-z-orkiestra-sinfonietta-cracovia/
ATTACH;FMTTYPE=image/jpeg:https://www.amuz.krakow.pl/wp-content/uploads/2023/06/kafel-dyplomowy.jpg
END:VEVENT
BEGIN:VEVENT
DTSTART;TZID=Europe/Warsaw:20230621T160000
DTEND;TZID=Europe/Warsaw:20230621T160000
DTSTAMP:20260423T092322
CREATED:20230607T090453Z
LAST-MODIFIED:20230607T104913Z
UID:75637-1687363200-1687363200@www.amuz.krakow.pl
SUMMARY:[:pl]Kurs mistrzowski z Karolem Mossakowskim[:en]Masterclass with Karol Mossakowski[:]
DESCRIPTION:
URL:https://www.amuz.krakow.pl/wydzialy/wydzial-i-tworczosci-interpretacji-i-edukacji-muzycznej/katedra-muzyki-religijnej/aktualnosci/kurs-mistrzowski-z-karolem-mossakowskim/
ATTACH;FMTTYPE=image/jpeg:https://www.amuz.krakow.pl/wp-content/uploads/2023/02/lekcej-mistrzowskie.jpg
END:VEVENT
BEGIN:VEVENT
DTSTART;TZID=Europe/Warsaw:20230623T180000
DTEND;TZID=Europe/Warsaw:20230623T180000
DTSTAMP:20260423T092322
CREATED:20230615T112855Z
LAST-MODIFIED:20230615T112855Z
UID:75849-1687543200-1687543200@www.amuz.krakow.pl
SUMMARY:[:pl]Koncert Aleami Piano Duo[:en]Aleami Piano Duo concert[:]
DESCRIPTION:
URL:https://www.amuz.krakow.pl/wydzialy/wydzial-ii-instrumentalny/katedra-kameralistyki/aktualnosci-22/koncert-aleami-piano-duo/
ATTACH;FMTTYPE=image/jpeg:https://www.amuz.krakow.pl/wp-content/uploads/2023/06/aleami-web.jpg
END:VEVENT
BEGIN:VEVENT
DTSTART;TZID=Europe/Warsaw:20230625T133000
DTEND;TZID=Europe/Warsaw:20230625T133000
DTSTAMP:20260423T092322
CREATED:20230612T100219Z
LAST-MODIFIED:20230612T100219Z
UID:75750-1687699800-1687699800@www.amuz.krakow.pl
SUMMARY:[:pl]XVI Organowe Matinée – improwizacje (Krzysztof Urbaniak\, Weronika Karolczuk\, Kamilla Lévai)[:en]16th Organ Matinée – improvisations (Krzysztof Urbaniak\, Weronika Karolczuk\, Kamilla Lévai)[:]
DESCRIPTION:
URL:https://www.amuz.krakow.pl/wydzialy/wydzial-ii-instrumentalny/katedra-organow/aktualnosci-22/xvi-organowe-matinee-improwizacje/
ATTACH;FMTTYPE=image/jpeg:https://www.amuz.krakow.pl/wp-content/uploads/2022/04/organowy-matinee-www.jpg
END:VEVENT
BEGIN:VEVENT
DTSTART;TZID=Europe/Warsaw:20230627T190000
DTEND;TZID=Europe/Warsaw:20230627T190000
DTSTAMP:20260423T092322
CREATED:20230531T093454Z
LAST-MODIFIED:20230614T101807Z
UID:75476-1687892400-1687892400@www.amuz.krakow.pl
SUMMARY:[:pl]Jerzy Gablenz - zapomniany krakowski kompozytor[:en]Jerzy Gablenz - forgotten composer from Krakow[:]
DESCRIPTION:
URL:https://www.amuz.krakow.pl/wydzialy/wydzial-ii-instrumentalny/katedra-wiolonczeli-i-kontrabasu/aktualnosci-22/jerzy-gablenz-zapomniany-krakowski-kompozytor/
ATTACH;FMTTYPE=image/jpeg:https://www.amuz.krakow.pl/wp-content/uploads/2023/06/gablenz2.jpg
END:VEVENT
END:VCALENDAR