BEGIN:VCALENDAR
VERSION:2.0
PRODID:-//Akademia Muzyczna im. Krzysztofa Pendereckiego w Krakowie - ECPv6.15.20//NONSGML v1.0//EN
CALSCALE:GREGORIAN
METHOD:PUBLISH
X-ORIGINAL-URL:https://www.amuz.krakow.pl
X-WR-CALDESC:Wydarzenia dla Akademia Muzyczna im. Krzysztofa Pendereckiego w Krakowie
REFRESH-INTERVAL;VALUE=DURATION:PT1H
X-Robots-Tag:noindex
X-PUBLISHED-TTL:PT1H
BEGIN:VTIMEZONE
TZID:Europe/Warsaw
BEGIN:DAYLIGHT
TZOFFSETFROM:+0100
TZOFFSETTO:+0200
TZNAME:CEST
DTSTART:20220327T010000
END:DAYLIGHT
BEGIN:STANDARD
TZOFFSETFROM:+0200
TZOFFSETTO:+0100
TZNAME:CET
DTSTART:20221030T010000
END:STANDARD
BEGIN:DAYLIGHT
TZOFFSETFROM:+0100
TZOFFSETTO:+0200
TZNAME:CEST
DTSTART:20230326T010000
END:DAYLIGHT
BEGIN:STANDARD
TZOFFSETFROM:+0200
TZOFFSETTO:+0100
TZNAME:CET
DTSTART:20231029T010000
END:STANDARD
BEGIN:DAYLIGHT
TZOFFSETFROM:+0100
TZOFFSETTO:+0200
TZNAME:CEST
DTSTART:20240331T010000
END:DAYLIGHT
BEGIN:STANDARD
TZOFFSETFROM:+0200
TZOFFSETTO:+0100
TZNAME:CET
DTSTART:20241027T010000
END:STANDARD
END:VTIMEZONE
BEGIN:VEVENT
DTSTART;VALUE=DATE:20230328
DTEND;VALUE=DATE:20230402
DTSTAMP:20260423T130235
CREATED:20230309T134016Z
LAST-MODIFIED:20230316T092553Z
UID:72096-1679961600-1680393599@www.amuz.krakow.pl
SUMMARY:[:pl]Festiwal 27. Dni Bachowskie - 28 marca - 1 kwietnia 2023 // The 27th Bach Days Festival - 28 March - 1 April 2023[:en]The 27th Bach Days Festival - 28 March - 1 April 2023[:]
DESCRIPTION:
URL:https://www.amuz.krakow.pl/wydzialy/wydzial-ii-instrumentalny/katedra-muzyki-dawnej/aktualnosci-22/27-dni-bachowskie/
ATTACH;FMTTYPE=image/jpeg:https://www.amuz.krakow.pl/wp-content/uploads/2023/03/27-dni-bachowskie-kafelek.jpg
END:VEVENT
BEGIN:VEVENT
DTSTART;TZID=Europe/Warsaw:20230401T100000
DTEND;TZID=Europe/Warsaw:20230401T180000
DTSTAMP:20260423T130235
CREATED:20230302T093735Z
LAST-MODIFIED:20230303T124457Z
UID:71855-1680343200-1680372000@www.amuz.krakow.pl
SUMMARY:[:pl]Warsztaty dla kandydatów na studia 2023/2024[:en]Workshops for candidates for studies 2023/2024[:]
DESCRIPTION:
URL:https://www.amuz.krakow.pl/warsztaty-dla-kandydatow-2023-24/
ATTACH;FMTTYPE=image/jpeg:https://www.amuz.krakow.pl/wp-content/uploads/2023/03/dzien-otwarty2023-warsztaty.jpg
END:VEVENT
BEGIN:VEVENT
DTSTART;VALUE=DATE:20230413
DTEND;VALUE=DATE:20230415
DTSTAMP:20260423T130235
CREATED:20230329T111610Z
LAST-MODIFIED:20230403T092401Z
UID:72700-1681344000-1681516799@www.amuz.krakow.pl
SUMMARY:[:pl]2. Konferencja naukowo-artystyczna „Oblicza skrzypiec - Jan Sebastian Bach”[:en]2nd artistic/academic conference „Faces of violin - Jan Sebastian Bach”[:]
DESCRIPTION:
URL:https://www.amuz.krakow.pl/wydzialy/wydzial-ii-instrumentalny/katedra-skrzypiec-i-altowki/aktualnosci-22/oblicza-skrzypiec-jan-sebastian-bach/
ATTACH;FMTTYPE=image/jpeg:https://www.amuz.krakow.pl/wp-content/uploads/2023/04/OBLICZA-BACHA.jpg
END:VEVENT
BEGIN:VEVENT
DTSTART;VALUE=DATE:20230414
DTEND;VALUE=DATE:20230423
DTSTAMP:20260423T130235
CREATED:20230221T115806Z
LAST-MODIFIED:20230310T125926Z
UID:71426-1681430400-1682207999@www.amuz.krakow.pl
SUMMARY:[:pl]7. Międzynarodowy Festiwal Duetów Fortepianowych "DUETTISSIMO" - 14-22 kwietnia 2023 // 7th International Piano Duo Festival "DUETTISSIMO" - 14-22 April 2023[:en]7th International Piano Duo Festival "DUETTISSIMO" - 14-22 April 2023[:]
DESCRIPTION:
URL:https://www.amuz.krakow.pl/wydzialy/wydzial-ii-instrumentalny/katedra-kameralistyki/aktualnosci-22/duettissimo/
ATTACH;FMTTYPE=image/jpeg:https://www.amuz.krakow.pl/wp-content/uploads/2022/03/7-duettissimo-kafelek.jpg
END:VEVENT
BEGIN:VEVENT
DTSTART;TZID=Europe/Warsaw:20230414T190000
DTEND;TZID=Europe/Warsaw:20230414T190000
DTSTAMP:20260423T130235
CREATED:20230329T112947Z
LAST-MODIFIED:20230404T095854Z
UID:72708-1681498800-1681498800@www.amuz.krakow.pl
SUMMARY:[:pl]Koncert z cyklu: Sylwetki Pedagogów - dr Piotr Kowal[:en]Concert: AMKP Pedagogues - dr Piotr Kowal[:]
DESCRIPTION:
URL:https://www.amuz.krakow.pl/wydzialy/wydzial-ii-instrumentalny/katedra-fortepianu/aktualnosci-22/koncert-z-cyklu-sylwetki-pedagogow-dr-piotr-kowal/
ATTACH;FMTTYPE=image/jpeg:https://www.amuz.krakow.pl/wp-content/uploads/2023/04/sylwetki-pedagogow.jpg
END:VEVENT
BEGIN:VEVENT
DTSTART;VALUE=DATE:20230415
DTEND;VALUE=DATE:20230424
DTSTAMP:20260423T130235
CREATED:20230404T120926Z
LAST-MODIFIED:20230404T120926Z
UID:72903-1681516800-1682294399@www.amuz.krakow.pl
SUMMARY:[:pl]35. Krakowski Międzynarodowy Festiwal Kompozytorów - 15-23 kwietnia 2023 // 35th Krakow International Festival of Composers - 15-23 April 2023[:en]35th Krakow International Festival of Composers[:]
DESCRIPTION:
URL:https://www.amuz.krakow.pl/wydzialy/wydzial-i-tworczosci-interpretacji-i-edukacji-muzycznej/katedra-kompozycji/aktualnosci22/35-krakowski-miedzynarodowy-festiwal-kompozytorow/
ATTACH;FMTTYPE=image/jpeg:https://www.amuz.krakow.pl/wp-content/uploads/2023/04/35-KMFK-2023-Plakat-FESTIWAL-scaled.jpg
END:VEVENT
BEGIN:VEVENT
DTSTART;TZID=Europe/Warsaw:20230415T160000
DTEND;TZID=Europe/Warsaw:20230415T160000
DTSTAMP:20260423T130235
CREATED:20230413T105626Z
LAST-MODIFIED:20230413T105626Z
UID:73195-1681574400-1681574400@www.amuz.krakow.pl
SUMMARY:[:pl]Koncert klasy fagotu[:en]Bassoon concert[:]
DESCRIPTION:
URL:https://www.amuz.krakow.pl/wydzialy/wydzial-ii-instrumentalny/katedra-instrumentow-detych-drewnianych-i-akordeonu-2/aktualnosci-22/koncert-klasy-fagotu/
ATTACH;FMTTYPE=image/jpeg:https://www.amuz.krakow.pl/wp-content/uploads/2023/01/koncert-5.jpg
END:VEVENT
BEGIN:VEVENT
DTSTART;TZID=Europe/Warsaw:20230416T133000
DTEND;TZID=Europe/Warsaw:20230416T133000
DTSTAMP:20260423T130235
CREATED:20230329T114610Z
LAST-MODIFIED:20230417T093606Z
UID:72722-1681651800-1681651800@www.amuz.krakow.pl
SUMMARY:[:pl]XIV Organowe Matinée - Kinga Tomczak i Damian Posiła (Akademia Muzyczna w Łodzi)[:en]14th Organ Matinée - Kinga Tomczak i Damian Posiła (Academy of Music in Łódź)[:]
DESCRIPTION:
URL:https://www.amuz.krakow.pl/wydzialy/wydzial-ii-instrumentalny/katedra-organow/aktualnosci-22/xiv-ogranowe-matinee-kinga-tomczak-i-damian-posila-akademia-muzyczna-w-lodzi/
ATTACH;FMTTYPE=image/jpeg:https://www.amuz.krakow.pl/wp-content/uploads/2022/04/organowy-matinee-www.jpg
END:VEVENT
BEGIN:VEVENT
DTSTART;TZID=Europe/Warsaw:20230416T180000
DTEND;TZID=Europe/Warsaw:20230416T180000
DTSTAMP:20260423T130235
CREATED:20230110T141320Z
LAST-MODIFIED:20230403T091029Z
UID:70050-1681668000-1681668000@www.amuz.krakow.pl
SUMMARY:[:pl]Koncert Orkiestry Symfonicznej i Chóru AMKP[:en]Symphony Orchestra & AMKP Choir concert[:]
DESCRIPTION:
URL:https://www.amuz.krakow.pl/orkiestry-akademickie/orkiestra-symfoniczna/koncerty-22-23/koncert-orkiestry-symfonicznej-16-04-2023/
ATTACH;FMTTYPE=image/jpeg:https://www.amuz.krakow.pl/wp-content/uploads/2023/01/kafelki-na-web-chor-symf.jpg
END:VEVENT
BEGIN:VEVENT
DTSTART;VALUE=DATE:20230418
DTEND;VALUE=DATE:20230420
DTSTAMP:20260423T130235
CREATED:20230406T105251Z
LAST-MODIFIED:20231026T125812Z
UID:73005-1681776000-1681948799@www.amuz.krakow.pl
SUMMARY:[:pl]Ścieżki interpretacji w operze „Straszny dwór” - sympozjum naukowe z warsztatami i koncertem[:en]Routes of interpretation in "The Haunted Manor" - symposium with workshops and concert[:]
DESCRIPTION:
URL:https://www.amuz.krakow.pl/wydzialy/wydzial-iii-wokalno-aktorski/pracownicy-katedry-2/aktualnosci-22/sciezki-interpretacji-w-operze-straszny-dwor-w-ramach-cyklu-czlowiek-dzielo-scena/
ATTACH;FMTTYPE=image/jpeg:https://www.amuz.krakow.pl/wp-content/uploads/2022/04/SESJA-OPEROWA-WEB.jpg
END:VEVENT
BEGIN:VEVENT
DTSTART;VALUE=DATE:20230420
DTEND;VALUE=DATE:20230422
DTSTAMP:20260423T130235
CREATED:20230419T122512Z
LAST-MODIFIED:20230419T122512Z
UID:73485-1681948800-1682121599@www.amuz.krakow.pl
SUMMARY:[:pl]Wykłady Yiğita Özatalaya z Istanbul Bilgi University[:en]Lectures by Yiğit Özatalay from Istanbul Bilgi University[:]
DESCRIPTION:
URL:https://www.amuz.krakow.pl/wydzialy/wydzial-i-tworczosci-interpretacji-i-edukacji-muzycznej/katedra-kompozycji/aktualnosci22/wyklady-yigita-ozatalaya/
ATTACH;FMTTYPE=image/jpeg:https://www.amuz.krakow.pl/wp-content/uploads/2023/04/WYKLADY.jpg
END:VEVENT
BEGIN:VEVENT
DTSTART;TZID=Europe/Warsaw:20230420T180000
DTEND;TZID=Europe/Warsaw:20230420T180000
DTSTAMP:20260423T130235
CREATED:20230413T103546Z
LAST-MODIFIED:20230413T104128Z
UID:73182-1682013600-1682013600@www.amuz.krakow.pl
SUMMARY:[:pl]Szkolenie dla studentów z zakresu molestowania\, mobbingu i dyskryminacji[:en]Training course for students on harassment\, mobbing\, discrimination[:]
DESCRIPTION:
URL:https://www.amuz.krakow.pl/szkolenie-dla-studentow-z-zakresu-molestowania-mobbingu-i-dyskryminacji/
ATTACH;FMTTYPE=image/jpeg:https://www.amuz.krakow.pl/wp-content/uploads/2023/04/mobing.jpg
END:VEVENT
BEGIN:VEVENT
DTSTART;TZID=Europe/Warsaw:20230420T190000
DTEND;TZID=Europe/Warsaw:20230420T190000
DTSTAMP:20260423T130235
CREATED:20230412T105124Z
LAST-MODIFIED:20230412T105124Z
UID:73119-1682017200-1682017200@www.amuz.krakow.pl
SUMMARY:[:pl]Koktajl Elektroniczny 2023 (koncert na 50-lecie Studia Muzyki Elektroakustycznej)[:en]Electronic Cocktail 2023 (concert for the 50-th anniversary of Electroacoustic Music Studio)[:]
DESCRIPTION:
URL:https://www.amuz.krakow.pl/wydzialy/wydzial-i-tworczosci-interpretacji-i-edukacji-muzycznej/katedra-kompozycji/aktualnosci22/koktajl-elektroniczny-2023-50-lecie-sme/
ATTACH;FMTTYPE=image/jpeg:https://www.amuz.krakow.pl/wp-content/uploads/2023/01/koncert-5.jpg
END:VEVENT
BEGIN:VEVENT
DTSTART;TZID=Europe/Warsaw:20230422T170000
DTEND;TZID=Europe/Warsaw:20230422T170000
DTSTAMP:20260423T130235
CREATED:20230111T104633Z
LAST-MODIFIED:20230330T101234Z
UID:70063-1682182800-1682182800@www.amuz.krakow.pl
SUMMARY:[:pl]Koncert Orkiestry Dętej[:en]Wind Orchestra concert[:]
DESCRIPTION:
URL:https://www.amuz.krakow.pl/orkiestry-akademickie/orkiestra-deta/koncerty-2022-2023/koncert-orkiestry-detej-22-04-2023/
ATTACH;FMTTYPE=image/jpeg:https://www.amuz.krakow.pl/wp-content/uploads/2022/09/orkiestra-deta-kafelek.jpg
END:VEVENT
BEGIN:VEVENT
DTSTART;VALUE=DATE:20230423
DTEND;VALUE=DATE:20230424
DTSTAMP:20260423T130235
CREATED:20230328T104858Z
LAST-MODIFIED:20230328T104858Z
UID:72621-1682208000-1682294399@www.amuz.krakow.pl
SUMMARY:[:pl]XI Ogólnouczelniany Konkurs „GRAM Z ORKIESTRĄ”[:en]11th Academic Competition „I PLAY WITH AN ORCHESTRA”[:]
DESCRIPTION:
URL:https://www.amuz.krakow.pl/konkursy/konkursy-interpretacji-muzyki/ogolnouczelniany-konkurs-gram-z-orkiestra/2023-2/
ATTACH;FMTTYPE=image/jpeg:https://www.amuz.krakow.pl/wp-content/uploads/2021/01/GRAM-Z-ORKIESTRA-kafelek.jpg
END:VEVENT
BEGIN:VEVENT
DTSTART;TZID=Europe/Warsaw:20230423T150000
DTEND;TZID=Europe/Warsaw:20230423T150000
DTSTAMP:20260423T130235
CREATED:20230414T104219Z
LAST-MODIFIED:20230414T104537Z
UID:73252-1682262000-1682262000@www.amuz.krakow.pl
SUMMARY:[:pl]Laboratorium Dźwięku SMACZNEGO x CONSERERE Lab (IT)[:en]Laboratorium of Sound SMACZNEGO x CONSERERE Lab (IT)[:]
DESCRIPTION:
URL:https://www.amuz.krakow.pl/wydzialy/wydzial-ii-instrumentalny/katedra-jazzu/aktualnosci-22/laboratorium-dzwieku-smacznego-x-conserere-lab-it/
ATTACH;FMTTYPE=image/png:https://www.amuz.krakow.pl/wp-content/uploads/2023/04/smacznego-plakat.png
END:VEVENT
BEGIN:VEVENT
DTSTART;VALUE=DATE:20230424
DTEND;VALUE=DATE:20230425
DTSTAMP:20260423T130235
CREATED:20230412T122522Z
LAST-MODIFIED:20230412T122522Z
UID:73132-1682294400-1682380799@www.amuz.krakow.pl
SUMMARY:[:pl]Samba Batucada - warsztaty dla studentów[:en]Samba Batucada - workshops for students[:]
DESCRIPTION:
URL:https://www.amuz.krakow.pl/wydzialy/wydzial-i-tworczosci-interpretacji-i-edukacji-muzycznej/katedra-badan-muzyczno-edukacyjnych/aktualnosci/samba-batucada-warsztaty-dla-studentow/
ATTACH;FMTTYPE=image/jpeg:https://www.amuz.krakow.pl/wp-content/uploads/2023/02/warsztaty-kafelek.jpg
END:VEVENT
BEGIN:VEVENT
DTSTART;TZID=Europe/Warsaw:20230424T090000
DTEND;TZID=Europe/Warsaw:20230424T160000
DTSTAMP:20260423T130235
CREATED:20230414T110554Z
LAST-MODIFIED:20241216T130753Z
UID:73274-1682326800-1682352000@www.amuz.krakow.pl
SUMMARY:[:pl]Spotkanie z ekspertem: Ciało artysty. Jak grać bez bólu i nie doprowadzać do spięć?[:en]Meet the expert: The artist's body. How to play without pain and prevent tension?[:]
DESCRIPTION:
URL:https://www.amuz.krakow.pl/spotkanie-z-ekspertem-24-04-2023/
ATTACH;FMTTYPE=image/jpeg:https://www.amuz.krakow.pl/wp-content/uploads/2023/04/CRK-ekspert-9.jpg
END:VEVENT
BEGIN:VEVENT
DTSTART;TZID=Europe/Warsaw:20230425T180000
DTEND;TZID=Europe/Warsaw:20230425T180000
DTSTAMP:20260423T130235
CREATED:20230330T114255Z
LAST-MODIFIED:20230330T114255Z
UID:72760-1682445600-1682445600@www.amuz.krakow.pl
SUMMARY:[:pl]Koncert jubileuszowy duetu Roman Reiner – Sławomir Cierpik z okazji 30-lecia współpracy artystycznej[:en]Roman Reiner - Sławomir Cierpik duo concert celebrating the 30th anniversary of their artistic cooperation[:]
DESCRIPTION:
URL:https://www.amuz.krakow.pl/wydzialy/wydzial-ii-instrumentalny/katedra-skrzypiec-i-altowki/aktualnosci-22/koncert-jubileuszowy-duetu-roman-reiner-slawomir-cierpik-z-okazji-30-lecia-wspolpracy-artystycznej/
ATTACH;FMTTYPE=image/jpeg:https://www.amuz.krakow.pl/wp-content/uploads/2023/01/koncert-5.jpg
END:VEVENT
BEGIN:VEVENT
DTSTART;TZID=Europe/Warsaw:20230425T180000
DTEND;TZID=Europe/Warsaw:20230425T180000
DTSTAMP:20260423T130235
CREATED:20230425T110705Z
LAST-MODIFIED:20230425T110705Z
UID:73714-1682445600-1682445600@www.amuz.krakow.pl
SUMMARY:[:pl]Koncert "Harmonia mundi"[:en]"Harmonia mundi" concert[:]
DESCRIPTION:
URL:https://www.amuz.krakow.pl/wydzialy/wydzial-ii-instrumentalny/katedra-instrumentow-detych-drewnianych-i-akordeonu-2/aktualnosci-22/harmonia-mundi/
ATTACH;FMTTYPE=image/jpeg:https://www.amuz.krakow.pl/wp-content/uploads/2023/04/harmonia-mundi.jpg
END:VEVENT
BEGIN:VEVENT
DTSTART;VALUE=DATE:20230426
DTEND;VALUE=DATE:20230427
DTSTAMP:20260423T130235
CREATED:20230412T123013Z
LAST-MODIFIED:20230412T123013Z
UID:73140-1682467200-1682553599@www.amuz.krakow.pl
SUMMARY:[:pl]Warsztaty ze studiów orkiestrowych[:en]Orchestral studies workshops[:]
DESCRIPTION:
URL:https://www.amuz.krakow.pl/wydzialy/wydzial-ii-instrumentalny/katedra-skrzypiec-i-altowki/aktualnosci-22/warsztaty-ze-studiow-orkiestrowych/
ATTACH;FMTTYPE=image/jpeg:https://www.amuz.krakow.pl/wp-content/uploads/2023/02/warsztaty-kafelek.jpg
END:VEVENT
BEGIN:VEVENT
DTSTART;TZID=Europe/Warsaw:20230426T190000
DTEND;TZID=Europe/Warsaw:20230426T190000
DTSTAMP:20260423T130235
CREATED:20230111T105539Z
LAST-MODIFIED:20230111T105539Z
UID:70068-1682535600-1682535600@www.amuz.krakow.pl
SUMMARY:[:pl]Koncert Orkiestry Kameralnej[:en]Chamber Orchestra concert[:]
DESCRIPTION:
URL:https://www.amuz.krakow.pl/orkiestry-akademickie/orkiestra-kameralna/koncerty-2022-2023/koncert-orkiestry-kameralnej-26-04-2023/
ATTACH;FMTTYPE=image/jpeg:https://www.amuz.krakow.pl/wp-content/uploads/2022/09/orkiestra-kameralna-kafelek.jpg
END:VEVENT
BEGIN:VEVENT
DTSTART;TZID=Europe/Warsaw:20230427T190000
DTEND;TZID=Europe/Warsaw:20230427T190000
DTSTAMP:20260423T130235
CREATED:20230419T125526Z
LAST-MODIFIED:20230419T125526Z
UID:73495-1682622000-1682622000@www.amuz.krakow.pl
SUMMARY:[:pl]Młodzi pianiści w AMKP[:en]Young pianists in AMKP[:]
DESCRIPTION:
URL:https://www.amuz.krakow.pl/wydzialy/wydzial-ii-instrumentalny/katedra-fortepianu/aktualnosci-22/mlodzi-pianisci-w-amkp-2/
ATTACH;FMTTYPE=image/jpeg:https://www.amuz.krakow.pl/wp-content/uploads/2023/04/mlodzi-w-amkp-kafel_1.jpg
END:VEVENT
BEGIN:VEVENT
DTSTART;TZID=Europe/Warsaw:20230428T170000
DTEND;TZID=Europe/Warsaw:20230428T170000
DTSTAMP:20260423T130235
CREATED:20230419T131303Z
LAST-MODIFIED:20230420T085530Z
UID:73505-1682701200-1682701200@www.amuz.krakow.pl
SUMMARY:[:pl]Koncert z cyklu "Smyczkowe przyjaźnie"[:en]"String friendships" concert[:]
DESCRIPTION:
URL:https://www.amuz.krakow.pl/wydzialy/wydzial-ii-instrumentalny/katedra-skrzypiec-i-altowki/aktualnosci-22/koncert-z-cyklu-smyczkowe-przyjaznie/
ATTACH;FMTTYPE=image/jpeg:https://www.amuz.krakow.pl/wp-content/uploads/2022/05/koncert-3.jpg
END:VEVENT
BEGIN:VEVENT
DTSTART;TZID=Europe/Warsaw:20230428T193000
DTEND;TZID=Europe/Warsaw:20230428T193000
DTSTAMP:20260423T130235
CREATED:20230426T100152Z
LAST-MODIFIED:20230426T100152Z
UID:73789-1682710200-1682710200@www.amuz.krakow.pl
SUMMARY:[:pl]Koncert dyplomowy magisterski Viktoriji Gan[:en]Viktorija Gan Master diploma concert[:]
DESCRIPTION:
URL:https://www.amuz.krakow.pl/wydzialy/wydzial-i-tworczosci-interpretacji-i-edukacji-muzycznej/katedra-choralistyki/aktualnosci/koncert-dyplomowy-viktorija-gan/
ATTACH;FMTTYPE=image/png:https://www.amuz.krakow.pl/wp-content/uploads/2023/04/ml-plakat-fforte-02_1.png
END:VEVENT
END:VCALENDAR