BEGIN:VCALENDAR
VERSION:2.0
PRODID:-//Akademia Muzyczna im. Krzysztofa Pendereckiego w Krakowie - ECPv6.15.20//NONSGML v1.0//EN
CALSCALE:GREGORIAN
METHOD:PUBLISH
X-WR-CALNAME:Akademia Muzyczna im. Krzysztofa Pendereckiego w Krakowie
X-ORIGINAL-URL:https://www.amuz.krakow.pl
X-WR-CALDESC:Wydarzenia dla Akademia Muzyczna im. Krzysztofa Pendereckiego w Krakowie
REFRESH-INTERVAL;VALUE=DURATION:PT1H
X-Robots-Tag:noindex
X-PUBLISHED-TTL:PT1H
BEGIN:VTIMEZONE
TZID:Europe/Warsaw
BEGIN:DAYLIGHT
TZOFFSETFROM:+0100
TZOFFSETTO:+0200
TZNAME:CEST
DTSTART:20220327T010000
END:DAYLIGHT
BEGIN:STANDARD
TZOFFSETFROM:+0200
TZOFFSETTO:+0100
TZNAME:CET
DTSTART:20221030T010000
END:STANDARD
BEGIN:DAYLIGHT
TZOFFSETFROM:+0100
TZOFFSETTO:+0200
TZNAME:CEST
DTSTART:20230326T010000
END:DAYLIGHT
BEGIN:STANDARD
TZOFFSETFROM:+0200
TZOFFSETTO:+0100
TZNAME:CET
DTSTART:20231029T010000
END:STANDARD
BEGIN:DAYLIGHT
TZOFFSETFROM:+0100
TZOFFSETTO:+0200
TZNAME:CEST
DTSTART:20240331T010000
END:DAYLIGHT
BEGIN:STANDARD
TZOFFSETFROM:+0200
TZOFFSETTO:+0100
TZNAME:CET
DTSTART:20241027T010000
END:STANDARD
END:VTIMEZONE
BEGIN:VEVENT
DTSTART;TZID=Europe/Warsaw:20230205T163000
DTEND;TZID=Europe/Warsaw:20230205T163000
DTSTAMP:20260423T161539
CREATED:20230127T125356Z
LAST-MODIFIED:20230127T125356Z
UID:70727-1675614600-1675614600@www.amuz.krakow.pl
SUMMARY:[:pl]Koncert gitarowy w wykonaniu studentów AMKS w Katowicach[:en]Guitar concert by students from the Karol Szymanowski Academy of Music in Katowice[:]
DESCRIPTION:
URL:https://www.amuz.krakow.pl/wydzialy/wydzial-ii-instrumentalny/katedra-gitary-i-harfy/aktualnosci-22/koncert-wymienny-amks-w-katowicach-5-02-2023/
ATTACH;FMTTYPE=image/jpeg:https://www.amuz.krakow.pl/wp-content/uploads/2022/05/koncert-4.jpg
END:VEVENT
BEGIN:VEVENT
DTSTART;TZID=Europe/Warsaw:20230214T190000
DTEND;TZID=Europe/Warsaw:20230214T190000
DTSTAMP:20260423T161539
CREATED:20230203T111135Z
LAST-MODIFIED:20230203T111135Z
UID:70866-1676401200-1676401200@www.amuz.krakow.pl
SUMMARY:[:pl]Recital fortepianowy Lelin Qi[:en]Lelin Qi Chopin recital[:]
DESCRIPTION:
URL:https://www.amuz.krakow.pl/recital-fortepianowy-lelin-qi/
ATTACH;FMTTYPE=image/jpeg:https://www.amuz.krakow.pl/wp-content/uploads/2023/02/Poster-pic_page-0001.jpg
END:VEVENT
BEGIN:VEVENT
DTSTART;VALUE=DATE:20230217
DTEND;VALUE=DATE:20230220
DTSTAMP:20260423T161539
CREATED:20230112T105130Z
LAST-MODIFIED:20230112T134715Z
UID:70132-1676592000-1676851199@www.amuz.krakow.pl
SUMMARY:[:pl]BRAHMSODIA – w 190. rocznicę urodzin Johannesa Brahmsa[:en]BRAHMSODIA – in the 190th birth anniversary of Johannes Brahms[:]
DESCRIPTION:
URL:https://www.amuz.krakow.pl/wydzialy/wydzial-i-tworczosci-interpretacji-i-edukacji-muzycznej/katedra-teorii-i-interpretacji-dziela-muzycznego/aktualnosci/brahmsodia-17-19-02-2023/
END:VEVENT
BEGIN:VEVENT
DTSTART;TZID=Europe/Warsaw:20230218T180000
DTEND;TZID=Europe/Warsaw:20230218T180000
DTSTAMP:20260423T161539
CREATED:20230130T134412Z
LAST-MODIFIED:20230130T134412Z
UID:70773-1676743200-1676743200@www.amuz.krakow.pl
SUMMARY:Harmonia Mundi
DESCRIPTION:
URL:https://www.amuz.krakow.pl/wydzialy/wydzial-ii-instrumentalny/katedra-instrumentow-detych-drewnianych-i-akordeonu-2/aktualnosci-22/harmonia-mundi-18-02-2023/
ATTACH;FMTTYPE=image/jpeg:https://www.amuz.krakow.pl/wp-content/uploads/2022/05/koncert-3.jpg
END:VEVENT
BEGIN:VEVENT
DTSTART;TZID=Europe/Warsaw:20230219T133000
DTEND;TZID=Europe/Warsaw:20230219T133000
DTSTAMP:20260423T161539
CREATED:20230215T095923Z
LAST-MODIFIED:20230215T095923Z
UID:71178-1676813400-1676813400@www.amuz.krakow.pl
SUMMARY:[:pl]XII Organowe Matinée w wykonaniu studenta AMKP - Bartłomieja Maziarza[:en]12th Organ Matinée - Bartłomiej Maziarz[:]
DESCRIPTION:
URL:https://www.amuz.krakow.pl/wydzialy/wydzial-ii-instrumentalny/katedra-organow/aktualnosci-22/xii-matinee-organowe-bartlomiej-maziarz/
ATTACH;FMTTYPE=image/jpeg:https://www.amuz.krakow.pl/wp-content/uploads/2023/02/organowy-plakat-19-02.jpg
END:VEVENT
BEGIN:VEVENT
DTSTART;TZID=Europe/Warsaw:20230219T160000
DTEND;TZID=Europe/Warsaw:20230219T160000
DTSTAMP:20260423T161539
CREATED:20230213T115759Z
LAST-MODIFIED:20230213T115759Z
UID:71121-1676822400-1676822400@www.amuz.krakow.pl
SUMMARY:[:pl]Koncert gitarowy w wykonaniu studentów AMKL we Wrocławiu[:en]Guitar concert by students from AMKL in Wrocław[:]
DESCRIPTION:
URL:https://www.amuz.krakow.pl/wydzialy/wydzial-ii-instrumentalny/katedra-gitary-i-harfy/aktualnosci-22/koncert-gitarowy-w-wykonaniu-studentow-amkl/
END:VEVENT
BEGIN:VEVENT
DTSTART;VALUE=DATE:20230220
DTEND;VALUE=DATE:20230221
DTSTAMP:20260423T161539
CREATED:20230207T102208Z
LAST-MODIFIED:20230207T102208Z
UID:70953-1676851200-1676937599@www.amuz.krakow.pl
SUMMARY:[:pl]Warsztaty menedżerskie Koła Naukowego Skrzypków (20.02\, 17.03)[:en]Management workshops of Violin Student Research Group (20.02\, 17.03)[:]
DESCRIPTION:
URL:https://www.amuz.krakow.pl/warsztaty-menedzerskie-kola-naukowego-skrzypkow/
ATTACH;FMTTYPE=image/jpeg:https://www.amuz.krakow.pl/wp-content/uploads/2023/02/warsztaty-kafelek.jpg
END:VEVENT
BEGIN:VEVENT
DTSTART;TZID=Europe/Warsaw:20230222T173000
DTEND;TZID=Europe/Warsaw:20230222T173000
DTSTAMP:20260423T161539
CREATED:20230209T122502Z
LAST-MODIFIED:20230209T122502Z
UID:71056-1677087000-1677087000@www.amuz.krakow.pl
SUMMARY:[:pl]Koncert improwizacji fortepianowej studentek specjalności rytmika[:en]Piano improvisation concert by rhytmics students[:]
DESCRIPTION:
URL:https://www.amuz.krakow.pl/wydzialy/wydzial-i-tworczosci-interpretacji-i-edukacji-muzycznej/katedra-badan-muzyczno-edukacyjnych/aktualnosci/koncert-improwizacji-fortepianowej-22-02-2023/
ATTACH;FMTTYPE=image/jpeg:https://www.amuz.krakow.pl/wp-content/uploads/2023/02/rytmiczki2023.jpg
END:VEVENT
BEGIN:VEVENT
DTSTART;TZID=Europe/Warsaw:20230224T100000
DTEND;TZID=Europe/Warsaw:20230224T100000
DTSTAMP:20260423T161539
CREATED:20230216T133259Z
LAST-MODIFIED:20231026T125831Z
UID:71276-1677232800-1677232800@www.amuz.krakow.pl
SUMMARY:[:pl]V Ogólnopolska Sesja Naukowa “Metodologia warsztatu badawczego organisty w aspekcie naukowej tradycji dawnej i nowej"[:en]5th Organ Academic Conference[:]
DESCRIPTION:
URL:https://www.amuz.krakow.pl/wydzialy/wydzial-ii-instrumentalny/katedra-organow/aktualnosci-22/metodologia-warsztatu-badawczego-organisty-w-aspekcie-naukowej-tradycji-dawnej-i-nowej/
ATTACH;FMTTYPE=image/jpeg:https://www.amuz.krakow.pl/wp-content/uploads/2023/02/organowa-konferencja-kafelek.jpg
END:VEVENT
BEGIN:VEVENT
DTSTART;TZID=Europe/Warsaw:20230225T163000
DTEND;TZID=Europe/Warsaw:20230225T163000
DTSTAMP:20260423T161539
CREATED:20230203T125958Z
LAST-MODIFIED:20230207T104154Z
UID:70884-1677342600-1677342600@www.amuz.krakow.pl
SUMMARY:[:pl]Koncert Katedry Instrumentów Dętych Drewnianych i Akordeonu[:en]Concert of Department of Woodwind and Accordion[:]
DESCRIPTION:
URL:https://www.amuz.krakow.pl/wydzialy/wydzial-ii-instrumentalny/katedra-instrumentow-detych-drewnianych-i-akordeonu-2/aktualnosci-22/koncert-katedry-instrumentow-detych-drewnianych-i-akordeonu/
ATTACH;FMTTYPE=image/jpeg:https://www.amuz.krakow.pl/wp-content/uploads/2023/02/gabrisova-A3.jpg
END:VEVENT
BEGIN:VEVENT
DTSTART;TZID=Europe/Warsaw:20230225T183000
DTEND;TZID=Europe/Warsaw:20230225T183000
DTSTAMP:20260423T161539
CREATED:20230127T130820Z
LAST-MODIFIED:20230202T101339Z
UID:70738-1677349800-1677349800@www.amuz.krakow.pl
SUMMARY:[:pl]Gala AMKP w Operze[:en]AMKP Gala in Opera[:]
DESCRIPTION:
URL:https://www.amuz.krakow.pl/wydzialy/wydzial-iii-wokalno-aktorski/pracownicy-katedry-2/aktualnosci-22/gala-amkp-w-operze-25-02-2023/
ATTACH;FMTTYPE=image/jpeg:https://www.amuz.krakow.pl/wp-content/uploads/2023/02/gala-operowa-pl.jpg
END:VEVENT
BEGIN:VEVENT
DTSTART;TZID=Europe/Warsaw:20230226T160000
DTEND;TZID=Europe/Warsaw:20230226T160000
DTSTAMP:20260423T161539
CREATED:20230222T102907Z
LAST-MODIFIED:20230222T102907Z
UID:71468-1677427200-1677427200@www.amuz.krakow.pl
SUMMARY:[:pl]Koncert gitarowy w wykonaniu studentów Akademii Muzycznej w Łodzi[:en]Guitar concert by students from the Academy of Music in Łódź[:]
DESCRIPTION:
URL:https://www.amuz.krakow.pl/wydzialy/wydzial-ii-instrumentalny/katedra-gitary-i-harfy/aktualnosci-22/koncert-gitarowy-w-wykonaniu-studentow-akademii-muzycznej-w-lodzi/
ATTACH;FMTTYPE=image/jpeg:https://www.amuz.krakow.pl/wp-content/uploads/2023/02/Plakat-26.jpg
END:VEVENT
BEGIN:VEVENT
DTSTART;TZID=Europe/Warsaw:20230226T180000
DTEND;TZID=Europe/Warsaw:20230226T180000
DTSTAMP:20260423T161539
CREATED:20220921T131041Z
LAST-MODIFIED:20221012T130329Z
UID:65769-1677434400-1677434400@www.amuz.krakow.pl
SUMMARY:[:pl]Koncert Orkiestry Dętej[:en]Wind Orchestra concert[:]
DESCRIPTION:
URL:https://www.amuz.krakow.pl/orkiestry-akademickie/orkiestra-deta/koncerty-2022-2023/koncert-orkiestry-detej-26-02-2023/
ATTACH;FMTTYPE=image/jpeg:https://www.amuz.krakow.pl/wp-content/uploads/2022/09/orkiestra-deta-kafelek.jpg
END:VEVENT
BEGIN:VEVENT
DTSTART;TZID=Europe/Warsaw:20230227T110000
DTEND;TZID=Europe/Warsaw:20230227T110000
DTSTAMP:20260423T161539
CREATED:20230210T125903Z
LAST-MODIFIED:20230210T125903Z
UID:71112-1677495600-1677495600@www.amuz.krakow.pl
SUMMARY:[:pl]Spotkanie z ekspertem: ABC pracy w orkiestrze[:en]Meet an expert: how is it to work in an orchestra[:]
DESCRIPTION:
URL:https://www.amuz.krakow.pl/spotkanie-z-ekspertem-abc-pracy-w-orkiestrze/
ATTACH;FMTTYPE=image/jpeg:https://www.amuz.krakow.pl/wp-content/uploads/2023/02/warsztaty-kafelek.jpg
END:VEVENT
END:VCALENDAR