BEGIN:VCALENDAR
VERSION:2.0
PRODID:-//Akademia Muzyczna im. Krzysztofa Pendereckiego w Krakowie - ECPv6.15.20//NONSGML v1.0//EN
CALSCALE:GREGORIAN
METHOD:PUBLISH
X-ORIGINAL-URL:https://www.amuz.krakow.pl
X-WR-CALDESC:Wydarzenia dla Akademia Muzyczna im. Krzysztofa Pendereckiego w Krakowie
REFRESH-INTERVAL;VALUE=DURATION:PT1H
X-Robots-Tag:noindex
X-PUBLISHED-TTL:PT1H
BEGIN:VTIMEZONE
TZID:Europe/Warsaw
BEGIN:DAYLIGHT
TZOFFSETFROM:+0100
TZOFFSETTO:+0200
TZNAME:CEST
DTSTART:20210328T010000
END:DAYLIGHT
BEGIN:STANDARD
TZOFFSETFROM:+0200
TZOFFSETTO:+0100
TZNAME:CET
DTSTART:20211031T010000
END:STANDARD
BEGIN:DAYLIGHT
TZOFFSETFROM:+0100
TZOFFSETTO:+0200
TZNAME:CEST
DTSTART:20220327T010000
END:DAYLIGHT
BEGIN:STANDARD
TZOFFSETFROM:+0200
TZOFFSETTO:+0100
TZNAME:CET
DTSTART:20221030T010000
END:STANDARD
BEGIN:DAYLIGHT
TZOFFSETFROM:+0100
TZOFFSETTO:+0200
TZNAME:CEST
DTSTART:20230326T010000
END:DAYLIGHT
BEGIN:STANDARD
TZOFFSETFROM:+0200
TZOFFSETTO:+0100
TZNAME:CET
DTSTART:20231029T010000
END:STANDARD
END:VTIMEZONE
BEGIN:VEVENT
DTSTART;VALUE=DATE:20221005
DTEND;VALUE=DATE:20221009
DTSTAMP:20260423T224038
CREATED:20220908T123956Z
LAST-MODIFIED:20221014T132921Z
UID:65349-1664928000-1665273599@www.amuz.krakow.pl
SUMMARY:[:pl]Karol Szymanowski. Muzyka jako (prze)życie - Karol. Szymanowski. Music as an experience[:en]Karol Szymanowski. Music as the experience[:]
DESCRIPTION:
URL:https://www.amuz.krakow.pl/wydzialy/wydzial-i-tworczosci-interpretacji-i-edukacji-muzycznej/katedra-teorii-i-interpretacji-dziela-muzycznego/aktualnosci/karol-szymanowski-5-8-10-2022/
ATTACH;FMTTYPE=image/jpeg:https://www.amuz.krakow.pl/wp-content/uploads/2022/09/szymanowski-poster-OK-1.jpg
END:VEVENT
BEGIN:VEVENT
DTSTART;TZID=Europe/Warsaw:20221005T120000
DTEND;TZID=Europe/Warsaw:20221005T120000
DTSTAMP:20260423T224038
CREATED:20220927T122544Z
LAST-MODIFIED:20221014T132858Z
UID:66037-1664971200-1664971200@www.amuz.krakow.pl
SUMMARY:[:pl]INAUGURACJA ROKU AKADEMICKIEGO 2022/2023[:en]OPENING CEREMONY OF THE NEW ACADEMIC YEAR 2022/2023[:]
DESCRIPTION:
URL:https://www.amuz.krakow.pl/inauguracja-roku-akademickiego-2022-2023/
ATTACH;FMTTYPE=image/png:https://www.amuz.krakow.pl/wp-content/uploads/2022/09/inauguracja-2022-web.png
END:VEVENT
BEGIN:VEVENT
DTSTART;TZID=Europe/Warsaw:20221011T180000
DTEND;TZID=Europe/Warsaw:20221011T180000
DTSTAMP:20260423T224038
CREATED:20220923T124211Z
LAST-MODIFIED:20221014T132755Z
UID:65939-1665511200-1665511200@www.amuz.krakow.pl
SUMMARY:[:pl]Koncert Prawykonań Utworów Akordeonowych[:en]Concert of Accordion Works Premieres[:]
DESCRIPTION:
URL:https://www.amuz.krakow.pl/wydzialy/wydzial-ii-instrumentalny/katedra-instrumentow-detych-drewnianych-i-akordeonu-2/aktualnosci-22/koncert-prawykonan-utworow-akordeonowych-11-10-2022/
ATTACH;FMTTYPE=image/png:https://www.amuz.krakow.pl/wp-content/uploads/2022/10/6-kfa-karnet-900x1600-1.png
END:VEVENT
BEGIN:VEVENT
DTSTART;VALUE=DATE:20221013
DTEND;VALUE=DATE:20221016
DTSTAMP:20260423T224038
CREATED:20220908T121358Z
LAST-MODIFIED:20221014T132725Z
UID:65345-1665619200-1665878399@www.amuz.krakow.pl
SUMMARY:[:pl]Konferencja STREFA - STREFA Conference[:en]STREFA Conference[:]
DESCRIPTION:
URL:https://www.amuz.krakow.pl/wydzialy/wydzial-i-tworczosci-interpretacji-i-edukacji-muzycznej/katedra-kompozycji/aktualnosci22/konferencja-strefa/
ATTACH;FMTTYPE=image/jpeg:https://www.amuz.krakow.pl/wp-content/uploads/2022/10/strefa-plakat.jpg
END:VEVENT
BEGIN:VEVENT
DTSTART;TZID=Europe/Warsaw:20221013T190000
DTEND;TZID=Europe/Warsaw:20221013T190000
DTSTAMP:20260423T224038
CREATED:20220921T121648Z
LAST-MODIFIED:20221014T132707Z
UID:65739-1665687600-1665687600@www.amuz.krakow.pl
SUMMARY:[:pl]Recital klawesynowy[:en]Harpsichord recital[:]
DESCRIPTION:
URL:https://www.amuz.krakow.pl/wydzialy/wydzial-ii-instrumentalny/katedra-muzyki-dawnej/aktualnosci-22/recital-klawesynowy/
END:VEVENT
BEGIN:VEVENT
DTSTART;TZID=Europe/Warsaw:20221014T180000
DTEND;TZID=Europe/Warsaw:20221014T180000
DTSTAMP:20260423T224038
CREATED:20221010T113722Z
LAST-MODIFIED:20221014T133241Z
UID:66380-1665770400-1665770400@www.amuz.krakow.pl
SUMMARY:[:pl]Opera i nie tylko opera - wieczór muzyki wokalnej[:en]Opera and not only opera – evening of vocal music[:]
DESCRIPTION:
URL:https://www.amuz.krakow.pl/wydzialy/wydzial-iii-wokalno-aktorski/pracownicy-katedry-2/aktualnosci-22/opera-i-nie-tylko-opera/
ATTACH;FMTTYPE=image/jpeg:https://www.amuz.krakow.pl/wp-content/uploads/2022/10/wieczor-operowy-plakat.jpg
END:VEVENT
BEGIN:VEVENT
DTSTART;TZID=Europe/Warsaw:20221015T160000
DTEND;TZID=Europe/Warsaw:20221015T160000
DTSTAMP:20260423T224038
CREATED:20220923T131618Z
LAST-MODIFIED:20221014T132533Z
UID:65954-1665849600-1665849600@www.amuz.krakow.pl
SUMMARY:[:pl]Wieczór wspomnieniowy Tadeusza Żmudzińskiego w 30. rocznicę śmierci[:en]Memorial evening of Tadeusz Żmudziński in the 30. death anniversary[:]
DESCRIPTION:
URL:https://www.amuz.krakow.pl/wydzialy/wydzial-ii-instrumentalny/katedra-fortepianu/aktualnosci-22/wieczor-wspomnieniowy-tadeusza-zmudzinskiego-15-10-2022/
ATTACH;FMTTYPE=image/jpeg:https://www.amuz.krakow.pl/wp-content/uploads/2022/09/zmudzinski-OK.jpg
END:VEVENT
BEGIN:VEVENT
DTSTART;TZID=Europe/Warsaw:20221016T132000
DTEND;TZID=Europe/Warsaw:20221016T132000
DTSTAMP:20260423T224038
CREATED:20221012T104208Z
LAST-MODIFIED:20221014T132514Z
UID:66567-1665926400-1665926400@www.amuz.krakow.pl
SUMMARY:[:pl]VIII Organowe Matinée[:en]8th Organ Matinée – Weronika Karolczuk[:]
DESCRIPTION:
URL:https://www.amuz.krakow.pl/wydzialy/wydzial-ii-instrumentalny/katedra-organow/aktualnosci-22/viii-organowe-matinee/
ATTACH;FMTTYPE=image/jpeg:https://www.amuz.krakow.pl/wp-content/uploads/2022/04/organowy-matinee-www.jpg
END:VEVENT
BEGIN:VEVENT
DTSTART;TZID=Europe/Warsaw:20221016T190000
DTEND;TZID=Europe/Warsaw:20221016T190000
DTSTAMP:20260423T224038
CREATED:20220902T123248Z
LAST-MODIFIED:20221014T132442Z
UID:65174-1665946800-1665946800@www.amuz.krakow.pl
SUMMARY:[:pl]Koncert Orkiestry Dętej[:en]Wind Orchestra concert[:]
DESCRIPTION:
URL:https://www.amuz.krakow.pl/koncert-orkiestry-detej-16-10-22/
ATTACH;FMTTYPE=image/jpeg:https://www.amuz.krakow.pl/wp-content/uploads/2022/09/orkiestra-deta-kafelek.jpg
END:VEVENT
BEGIN:VEVENT
DTSTART;TZID=Europe/Warsaw:20221017T103000
DTEND;TZID=Europe/Warsaw:20221017T103000
DTSTAMP:20260423T224038
CREATED:20220929T124055Z
LAST-MODIFIED:20221014T132423Z
UID:66056-1666002600-1666002600@www.amuz.krakow.pl
SUMMARY:[:pl]Per academiam ad astra: spotkanie z pianistą Jakubem Kuszlikiem[:en]Per academiam ad astra – meet the pianist: Jakub Kuszlik[:]
DESCRIPTION:
URL:https://www.amuz.krakow.pl/wydzialy/wydzial-ii-instrumentalny/katedra-fortepianu/aktualnosci-22/per-academiam-ad-astra-jakub-kuszlik-kate-liu/
ATTACH;FMTTYPE=image/jpeg:https://www.amuz.krakow.pl/wp-content/uploads/2021/10/ad-astra-23-24.10.2021.jpg
END:VEVENT
BEGIN:VEVENT
DTSTART;TZID=Europe/Warsaw:20221020T094500
DTEND;TZID=Europe/Warsaw:20221021T170000
DTSTAMP:20260423T224038
CREATED:20221014T134725Z
LAST-MODIFIED:20221014T134725Z
UID:66763-1666259100-1666371600@www.amuz.krakow.pl
SUMMARY:[:pl]Konferencja naukowa “Metal studies VI: głosy – instrumentarium – produkcja”[:en]Academic conference “Metal studies VI: voices – instruments – production”[:]
DESCRIPTION:
URL:https://www.amuz.krakow.pl/konferencja-naukowa-metal-studies-vi/
ATTACH;FMTTYPE=image/png:https://www.amuz.krakow.pl/wp-content/uploads/2022/10/MSVI_ogloszenie.png
END:VEVENT
BEGIN:VEVENT
DTSTART;TZID=Europe/Warsaw:20221022T190000
DTEND;TZID=Europe/Warsaw:20221022T190000
DTSTAMP:20260423T224038
CREATED:20220921T124009Z
LAST-MODIFIED:20221014T132407Z
UID:65751-1666465200-1666465200@www.amuz.krakow.pl
SUMMARY:[:pl]Koncert w ramach jubileuszu 50-lecia Katedry Kameralistyki[:en]Concert as a part of the 50th anniversary of Chamber Music Department[:]
DESCRIPTION:
URL:https://www.amuz.krakow.pl/wydzialy/wydzial-ii-instrumentalny/katedra-kameralistyki/aktualnosci-22/koncert-50-lecie-katedry-kameralistyki-22-10-2022/
END:VEVENT
BEGIN:VEVENT
DTSTART;TZID=Europe/Warsaw:20221023T180000
DTEND;TZID=Europe/Warsaw:20221023T180000
DTSTAMP:20260423T224038
CREATED:20220902T092949Z
LAST-MODIFIED:20221014T132350Z
UID:65128-1666548000-1666548000@www.amuz.krakow.pl
SUMMARY:[:pl]Koncert Orkiestry Symfonicznej[:en]Symphony Orchestra concert[:]
DESCRIPTION:
URL:https://www.amuz.krakow.pl/koncert-orkiestry-symfonicznej-23-10-22/
ATTACH;FMTTYPE=image/jpeg:https://www.amuz.krakow.pl/wp-content/uploads/2022/09/orkiestra-symfoniczna-kafelek.jpg
END:VEVENT
BEGIN:VEVENT
DTSTART;TZID=Europe/Warsaw:20221025T110000
DTEND;TZID=Europe/Warsaw:20221025T110000
DTSTAMP:20260423T224038
CREATED:20220929T124203Z
LAST-MODIFIED:20221014T132334Z
UID:66071-1666695600-1666695600@www.amuz.krakow.pl
SUMMARY:[:pl]Per academiam ad astra: spotkanie z pianistką Kate Liu[:en]Per academiam ad astra – meet the pianist: Kate Liu[:]
DESCRIPTION:
URL:https://www.amuz.krakow.pl/wydzialy/wydzial-ii-instrumentalny/katedra-fortepianu/aktualnosci-22/per-academiam-ad-astra-jakub-kuszlik-kate-liu/
ATTACH;FMTTYPE=image/jpeg:https://www.amuz.krakow.pl/wp-content/uploads/2021/10/ad-astra-23-24.10.2021.jpg
END:VEVENT
BEGIN:VEVENT
DTSTART;TZID=Europe/Warsaw:20221025T180000
DTEND;TZID=Europe/Warsaw:20221025T180000
DTSTAMP:20260423T224038
CREATED:20220914T122658Z
LAST-MODIFIED:20221014T132312Z
UID:65562-1666720800-1666720800@www.amuz.krakow.pl
SUMMARY:[:pl]Koncert pamięci profesora Janusza Pisarskiego[:en]Concert in memorial of Professor Janusz Pisarski[:]
DESCRIPTION:
URL:https://www.amuz.krakow.pl/wydzialy/wydzial-ii-instrumentalny/katedra-skrzypiec-i-altowki/aktualnosci-22/koncert-pamieci-prof-pisarskiego/
ATTACH;FMTTYPE=image/jpeg:https://www.amuz.krakow.pl/wp-content/uploads/2022/05/koncert-4.jpg
END:VEVENT
BEGIN:VEVENT
DTSTART;TZID=Europe/Warsaw:20221026T160000
DTEND;TZID=Europe/Warsaw:20221026T210000
DTSTAMP:20260423T224038
CREATED:20221020T112637Z
LAST-MODIFIED:20221020T124856Z
UID:67038-1666800000-1666818000@www.amuz.krakow.pl
SUMMARY:[:pl]Koncert jazzowy i warsztaty z Enzo Favatą[:en]Jazz concert and workshops with Enzo Favata[:]
DESCRIPTION:
URL:https://www.amuz.krakow.pl/wydzialy/wydzial-ii-instrumentalny/katedra-jazzu/aktualnosci-22/enzo-favata-26-10-2022/
ATTACH;FMTTYPE=image/jpeg:https://www.amuz.krakow.pl/wp-content/uploads/2022/10/Enzo-Favata-The-Crossing-Locandina-Cracovia_V4_page-0001.jpg
END:VEVENT
BEGIN:VEVENT
DTSTART;TZID=Europe/Warsaw:20221028T190000
DTEND;TZID=Europe/Warsaw:20221028T190000
DTSTAMP:20260423T224038
CREATED:20220902T120527Z
LAST-MODIFIED:20221014T132231Z
UID:65170-1666983600-1666983600@www.amuz.krakow.pl
SUMMARY:[:pl]Koncert Orkiestry Barokowej[:en]Baroque Orchestra concert[:]
DESCRIPTION:
URL:https://www.amuz.krakow.pl/koncert-orkiestry-barokowej-28-10-22/
ATTACH;FMTTYPE=image/jpeg:https://www.amuz.krakow.pl/wp-content/uploads/2022/09/orkiestra-barokowa-kafelek.jpg
END:VEVENT
END:VCALENDAR