BEGIN:VCALENDAR
VERSION:2.0
PRODID:-//Akademia Muzyczna im. Krzysztofa Pendereckiego w Krakowie - ECPv6.15.20//NONSGML v1.0//EN
CALSCALE:GREGORIAN
METHOD:PUBLISH
X-ORIGINAL-URL:https://www.amuz.krakow.pl
X-WR-CALDESC:Wydarzenia dla Akademia Muzyczna im. Krzysztofa Pendereckiego w Krakowie
REFRESH-INTERVAL;VALUE=DURATION:PT1H
X-Robots-Tag:noindex
X-PUBLISHED-TTL:PT1H
BEGIN:VTIMEZONE
TZID:Europe/Warsaw
BEGIN:DAYLIGHT
TZOFFSETFROM:+0100
TZOFFSETTO:+0200
TZNAME:CEST
DTSTART:20210328T010000
END:DAYLIGHT
BEGIN:STANDARD
TZOFFSETFROM:+0200
TZOFFSETTO:+0100
TZNAME:CET
DTSTART:20211031T010000
END:STANDARD
BEGIN:DAYLIGHT
TZOFFSETFROM:+0100
TZOFFSETTO:+0200
TZNAME:CEST
DTSTART:20220327T010000
END:DAYLIGHT
BEGIN:STANDARD
TZOFFSETFROM:+0200
TZOFFSETTO:+0100
TZNAME:CET
DTSTART:20221030T010000
END:STANDARD
BEGIN:DAYLIGHT
TZOFFSETFROM:+0100
TZOFFSETTO:+0200
TZNAME:CEST
DTSTART:20230326T010000
END:DAYLIGHT
BEGIN:STANDARD
TZOFFSETFROM:+0200
TZOFFSETTO:+0100
TZNAME:CET
DTSTART:20231029T010000
END:STANDARD
END:VTIMEZONE
BEGIN:VEVENT
DTSTART;TZID=Europe/Warsaw:20220907T080000
DTEND;TZID=Europe/Warsaw:20220911T170000
DTSTAMP:20260424T170143
CREATED:20220223T094710Z
LAST-MODIFIED:20221014T133024Z
UID:57777-1662537600-1662915600@www.amuz.krakow.pl
SUMMARY:[:pl]XI Europejski Kongres Klarnetowy - 11th European Clarinet Congress[:en]11th European Clarinet Congress[:]
DESCRIPTION:
URL:https://www.amuz.krakow.pl/xi-europejski-kongres-klarnetowy/
ATTACH;FMTTYPE=image/jpeg:https://www.amuz.krakow.pl/wp-content/uploads/2022/02/11-ECC.jpg
END:VEVENT
BEGIN:VEVENT
DTSTART;TZID=Europe/Warsaw:20220918T132000
DTEND;TZID=Europe/Warsaw:20220918T132000
DTSTAMP:20260424T170143
CREATED:20220914T113818Z
LAST-MODIFIED:20221014T133003Z
UID:65552-1663507200-1663507200@www.amuz.krakow.pl
SUMMARY:[:pl]VII Organowe Matinée[:en]7th Organ Matinée[:]
DESCRIPTION:
URL:https://www.amuz.krakow.pl/wydzialy/wydzial-ii-instrumentalny/katedra-organow/aktualnosci-22/vii-organowe-matinee/
ATTACH;FMTTYPE=image/jpeg:https://www.amuz.krakow.pl/wp-content/uploads/2022/09/organowy-plakat7.jpg
END:VEVENT
BEGIN:VEVENT
DTSTART;VALUE=DATE:20220926
DTEND;VALUE=DATE:20221001
DTSTAMP:20260424T170143
CREATED:20220905T131153Z
LAST-MODIFIED:20220926T104059Z
UID:65223-1664150400-1664582399@www.amuz.krakow.pl
SUMMARY:[:pl]Międzynarodowe spotkanie tubistów i eufonistów - Central European Academic Meeting of Tubists and Euphonists[:en]Central European Academic Meeting of Tubists and Euphonists[:]
DESCRIPTION:
URL:https://www.amuz.krakow.pl/wydzialy/wydzial-ii-instrumentalny/katedra-instrumentow-detych-blaszanych/aktualnosci-22/miedzynarodowe-spotkanie-tubistow-i-eufonistow/
ATTACH;FMTTYPE=image/jpeg:https://www.amuz.krakow.pl/wp-content/uploads/2022/09/plakat-CEAMTE-3-scaled.jpg
END:VEVENT
END:VCALENDAR