BEGIN:VCALENDAR
VERSION:2.0
PRODID:-//Akademia Muzyczna im. Krzysztofa Pendereckiego w Krakowie - ECPv6.15.20//NONSGML v1.0//EN
CALSCALE:GREGORIAN
METHOD:PUBLISH
X-ORIGINAL-URL:https://www.amuz.krakow.pl
X-WR-CALDESC:Wydarzenia dla Akademia Muzyczna im. Krzysztofa Pendereckiego w Krakowie
REFRESH-INTERVAL;VALUE=DURATION:PT1H
X-Robots-Tag:noindex
X-PUBLISHED-TTL:PT1H
BEGIN:VTIMEZONE
TZID:Europe/Warsaw
BEGIN:DAYLIGHT
TZOFFSETFROM:+0100
TZOFFSETTO:+0200
TZNAME:CEST
DTSTART:20230326T010000
END:DAYLIGHT
BEGIN:STANDARD
TZOFFSETFROM:+0200
TZOFFSETTO:+0100
TZNAME:CET
DTSTART:20231029T010000
END:STANDARD
BEGIN:DAYLIGHT
TZOFFSETFROM:+0100
TZOFFSETTO:+0200
TZNAME:CEST
DTSTART:20240331T010000
END:DAYLIGHT
BEGIN:STANDARD
TZOFFSETFROM:+0200
TZOFFSETTO:+0100
TZNAME:CET
DTSTART:20241027T010000
END:STANDARD
BEGIN:DAYLIGHT
TZOFFSETFROM:+0100
TZOFFSETTO:+0200
TZNAME:CEST
DTSTART:20250330T010000
END:DAYLIGHT
BEGIN:STANDARD
TZOFFSETFROM:+0200
TZOFFSETTO:+0100
TZNAME:CET
DTSTART:20251026T010000
END:STANDARD
END:VTIMEZONE
BEGIN:VEVENT
DTSTART;VALUE=DATE:20240826
DTEND;VALUE=DATE:20240902
DTSTAMP:20260423T124435
CREATED:20240520T093436Z
LAST-MODIFIED:20240802T093957Z
UID:87234-1724630400-1725235199@www.amuz.krakow.pl
SUMMARY:[:pl]26. Letnia Akademia Muzyczna (LAM) w Krakowie | 26 sierpnia - 1 września 2024 // 26th Summer Academy of Music in Krakow | August 26th - September 1st\, 2024[:en]26th Summer Academy of Music in Krakow | August 26th - September 1st\, 2024[:]
DESCRIPTION:
URL:https://www.amuz.krakow.pl/letnia-akademia-muzyczna/
ATTACH;FMTTYPE=image/jpeg:https://www.amuz.krakow.pl/wp-content/uploads/2024/02/LAM-26-kafel.jpg
END:VEVENT
BEGIN:VEVENT
DTSTART;TZID=Europe/Warsaw:20240901T180000
DTEND;TZID=Europe/Warsaw:20240901T180000
DTSTAMP:20260423T124435
CREATED:20240802T093750Z
LAST-MODIFIED:20240802T093750Z
UID:89108-1725213600-1725213600@www.amuz.krakow.pl
SUMMARY:[:pl]Koncert finałowy 26. LAM[:en]Final concert of the 26th Summer Academy of Music[:]
DESCRIPTION:
URL:https://www.amuz.krakow.pl/letnia-akademia-muzyczna/koncerty/
ATTACH;FMTTYPE=image/jpeg:https://www.amuz.krakow.pl/wp-content/uploads/2023/01/koncert-5.jpg
END:VEVENT
BEGIN:VEVENT
DTSTART;VALUE=DATE:20240905
DTEND;VALUE=DATE:20240908
DTSTAMP:20260423T124435
CREATED:20230719T103825Z
LAST-MODIFIED:20230726T081321Z
UID:77216-1725494400-1725753599@www.amuz.krakow.pl
SUMMARY:[:pl]6. Międzynarodowa Konferencja ROCK PROGRESYWNY - 5-7 września 2024[:en]6th International Conference PROGRESSIVE ROCK - 5-7 September 2024[:]
DESCRIPTION:
URL:https://www.amuz.krakow.pl/wydzialy/wydzial-i-tworczosci-interpretacji-i-edukacji-muzycznej/katedra-teorii-i-interpretacji-dziela-muzycznego/aktualnosci23/6-miedzynarodowa-konferencja-rock-progresywny/
ATTACH;FMTTYPE=image/jpeg:https://www.amuz.krakow.pl/wp-content/uploads/2023/07/progressive-rock-FINAL.jpg
END:VEVENT
BEGIN:VEVENT
DTSTART;TZID=Europe/Warsaw:20240908T190000
DTEND;TZID=Europe/Warsaw:20240908T190000
DTSTAMP:20260423T124435
CREATED:20240904T104058Z
LAST-MODIFIED:20240904T104058Z
UID:89385-1725822000-1725822000@www.amuz.krakow.pl
SUMMARY:[:pl]III Festiwal Serate Musicali Cracoviensis - koncert[:en]3rd International Festival Serate Musicali Cracoviensis - concert[:]
DESCRIPTION:
URL:https://www.amuz.krakow.pl/wydzialy/wydzial-ii-instrumentalny/katedra-instrumentow-detych-drewnianych-i-akordeonu-2/aktualnosci-24/serate-musicali-cracoviensis/#8-wrz
ATTACH;FMTTYPE=image/jpeg:https://www.amuz.krakow.pl/wp-content/uploads/2024/09/KONCERT-I-08.09.2024_1-scaled.jpg
END:VEVENT
BEGIN:VEVENT
DTSTART;TZID=Europe/Warsaw:20240915T133000
DTEND;TZID=Europe/Warsaw:20240915T133000
DTSTAMP:20260423T124435
CREATED:20240829T113325Z
LAST-MODIFIED:20240829T113325Z
UID:89221-1726407000-1726407000@www.amuz.krakow.pl
SUMMARY:[:pl]XXVII Organowe Matinée w wykonaniu absolwenta AMKP - Michała Książka[:en]27th Organ Matinée by an AMKP graduate - Michał Książek[:]
DESCRIPTION:
URL:https://www.amuz.krakow.pl/wydzialy/wydzial-ii-instrumentalny/katedra-organow/aktualnosci-24/xxvii-organowe-matinee/
ATTACH;FMTTYPE=image/jpeg:https://www.amuz.krakow.pl/wp-content/uploads/2022/04/organowy-matinee-www.jpg
END:VEVENT
BEGIN:VEVENT
DTSTART;TZID=Europe/Warsaw:20240918T190000
DTEND;TZID=Europe/Warsaw:20240918T190000
DTSTAMP:20260423T124435
CREATED:20240904T104214Z
LAST-MODIFIED:20240904T104214Z
UID:89389-1726686000-1726686000@www.amuz.krakow.pl
SUMMARY:[:pl]III Festiwal Serate Musicali Cracoviensis - koncert[:en]3rd International Festival Serate Musicali Cracoviensis - concert[:]
DESCRIPTION:
URL:https://www.amuz.krakow.pl/wydzialy/wydzial-ii-instrumentalny/katedra-instrumentow-detych-drewnianych-i-akordeonu-2/aktualnosci-24/serate-musicali-cracoviensis/#18-wrz
ATTACH;FMTTYPE=image/jpeg:https://www.amuz.krakow.pl/wp-content/uploads/2024/09/KONCERT-II-18.09.2024_1-scaled.jpg
END:VEVENT
BEGIN:VEVENT
DTSTART;TZID=Europe/Warsaw:20240920T190000
DTEND;TZID=Europe/Warsaw:20240920T190000
DTSTAMP:20260423T124435
CREATED:20240904T104240Z
LAST-MODIFIED:20240916T104433Z
UID:89390-1726858800-1726858800@www.amuz.krakow.pl
SUMMARY:[:pl]III Festiwal Serate Musicali Cracoviensis - koncert[:en]3rd International Festival Serate Musicali Cracoviensis - concert[:]
DESCRIPTION:
URL:https://www.amuz.krakow.pl/wydzialy/wydzial-ii-instrumentalny/katedra-instrumentow-detych-drewnianych-i-akordeonu-2/aktualnosci-24/serate-musicali-cracoviensis/#20-wrz
ATTACH;FMTTYPE=image/jpeg:https://www.amuz.krakow.pl/wp-content/uploads/2024/09/KONCERT-III-20.09.2024_1-scaled.jpg
END:VEVENT
BEGIN:VEVENT
DTSTART;TZID=Europe/Warsaw:20240922T190000
DTEND;TZID=Europe/Warsaw:20240922T190000
DTSTAMP:20260423T124435
CREATED:20240904T104311Z
LAST-MODIFIED:20240904T104311Z
UID:89391-1727031600-1727031600@www.amuz.krakow.pl
SUMMARY:[:pl]III Festiwal Serate Musicali Cracoviensis - koncert[:en]3rd International Festival Serate Musicali Cracoviensis - concert[:]
DESCRIPTION:
URL:https://www.amuz.krakow.pl/wydzialy/wydzial-ii-instrumentalny/katedra-instrumentow-detych-drewnianych-i-akordeonu-2/aktualnosci-24/serate-musicali-cracoviensis/#22-wrz
ATTACH;FMTTYPE=image/jpeg:https://www.amuz.krakow.pl/wp-content/uploads/2024/09/KONCERT-IV-22.09.2024_1-scaled.jpg
END:VEVENT
BEGIN:VEVENT
DTSTART;TZID=Europe/Warsaw:20240928T100000
DTEND;TZID=Europe/Warsaw:20240928T130000
DTSTAMP:20260423T124435
CREATED:20240916T102405Z
LAST-MODIFIED:20240916T102405Z
UID:89868-1727517600-1727528400@www.amuz.krakow.pl
SUMMARY:[:pl]AMKP na XXIII Podgórskich Dniach Otwartych Drzwi[:en]AMKP at 23rd Podgórze Open Door Days[:]
DESCRIPTION:
URL:https://www.amuz.krakow.pl/amkp-na-xxiii-podgorskich-dniach-otwartych-drzwi/
ATTACH;FMTTYPE=image/jpeg:https://www.amuz.krakow.pl/wp-content/uploads/2024/09/XXIII_PDOD_baner.jpg
END:VEVENT
BEGIN:VEVENT
DTSTART;TZID=Europe/Warsaw:20240929T190000
DTEND;TZID=Europe/Warsaw:20240929T190000
DTSTAMP:20260423T124435
CREATED:20240904T104342Z
LAST-MODIFIED:20240916T103510Z
UID:89392-1727636400-1727636400@www.amuz.krakow.pl
SUMMARY:[:pl]III Festiwal Serate Musicali Cracoviensis – koncert [:en]3rd International Festival Serate Musicali Cracoviensis - concert[:]
DESCRIPTION:
URL:https://www.amuz.krakow.pl/wydzialy/wydzial-ii-instrumentalny/katedra-instrumentow-detych-drewnianych-i-akordeonu-2/aktualnosci-24/serate-musicali-cracoviensis/#29-wrz
ATTACH;FMTTYPE=image/jpeg:https://www.amuz.krakow.pl/wp-content/uploads/2024/09/KONCERT-V-29.09.2024_1-scaled.jpg
END:VEVENT
BEGIN:VEVENT
DTSTART;TZID=Europe/Warsaw:20241003T110000
DTEND;TZID=Europe/Warsaw:20241003T110000
DTSTAMP:20260423T124435
CREATED:20240916T120833Z
LAST-MODIFIED:20240916T120833Z
UID:89883-1727953200-1727953200@www.amuz.krakow.pl
SUMMARY:[:pl]Inauguracja roku akademickiego 2024/2025[:en]Opening ceremony of the academic year 2024/2025[:]
DESCRIPTION:
URL:https://www.amuz.krakow.pl/inauguracja-roku-akademickiego-2024-2025/
ATTACH;FMTTYPE=image/png:https://www.amuz.krakow.pl/wp-content/uploads/2024/09/inauguracja-2025-kafelek.png
END:VEVENT
BEGIN:VEVENT
DTSTART;TZID=Europe/Warsaw:20241010T180000
DTEND;TZID=Europe/Warsaw:20241010T180000
DTSTAMP:20260423T124435
CREATED:20240919T091125Z
LAST-MODIFIED:20240920T124412Z
UID:90030-1728583200-1728583200@www.amuz.krakow.pl
SUMMARY:[:pl]Nordyckie Nurty. Peer Gynt[:en]Nordic Streams. Peer Gynt[:]
DESCRIPTION:
URL:https://www.amuz.krakow.pl/nordyckie-nurty-peer-gynt/
ATTACH;FMTTYPE=image/jpeg:https://www.amuz.krakow.pl/wp-content/uploads/2024/09/mosty-akademickie-OK-final-1-scaled.jpg
END:VEVENT
BEGIN:VEVENT
DTSTART;TZID=Europe/Warsaw:20241010T190000
DTEND;TZID=Europe/Warsaw:20241010T190000
DTSTAMP:20260423T124435
CREATED:20240927T115935Z
LAST-MODIFIED:20241002T120854Z
UID:90218-1728586800-1728586800@www.amuz.krakow.pl
SUMMARY:[:pl]Recital klawesynowy "Pièces de clavecin" w wykonaniu Ewy Mrowcy[:en]"Pièces de clavecin" - harpsichord recital by Ewa Mrowca[:]
DESCRIPTION:
URL:https://www.amuz.krakow.pl/wydzialy/wydzial-ii-instrumentalny/katedra-muzyki-dawnej/aktualnosci-24/recital-klawesynowy-ewy-mrowcy/
ATTACH;FMTTYPE=image/jpeg:https://www.amuz.krakow.pl/wp-content/uploads/2024/10/recital-klawesynowy-kafel.jpg
END:VEVENT
BEGIN:VEVENT
DTSTART;TZID=Europe/Warsaw:20241012T100000
DTEND;TZID=Europe/Warsaw:20241012T190000
DTSTAMP:20260423T124435
CREATED:20240916T132617Z
LAST-MODIFIED:20240923T122107Z
UID:89893-1728727200-1728759600@www.amuz.krakow.pl
SUMMARY:[:pl]FRESKI I WARIANTY. Setna rocznica urodzin Profesor dr h.c. Krystyny Moszumańskiej-Nazar. CZ. I[:en]FRESCOS & VARIATIONS. 100th birth anniversary of Professor dr h.c. Krystyna Moszumańska-Nazar. PART I[:]
DESCRIPTION:
URL:https://www.amuz.krakow.pl/wydzialy/wydzial-i-tworczosci-interpretacji-i-edukacji-muzycznej/katedra-kompozycji/aktualnosci-24/setna-rocznica-urodzin-profesor-dr-h-c-krystyny-moszumanskiej-nazar/
END:VEVENT
BEGIN:VEVENT
DTSTART;VALUE=DATE:20241013
DTEND;VALUE=DATE:20241016
DTSTAMP:20260423T124435
CREATED:20240911T105544Z
LAST-MODIFIED:20241003T133134Z
UID:89749-1728777600-1729036799@www.amuz.krakow.pl
SUMMARY:[:pl]RESET – konferencja Studia Muzyki Elektroakustycznej[:en]RESET – Electroacoustic Music Studio conference[:]
DESCRIPTION:
URL:https://www.amuz.krakow.pl/wydzialy/wydzial-i-tworczosci-interpretacji-i-edukacji-muzycznej/katedra-kompozycji/aktualnosci-24/reset-konferencja-studia-muzyki-elektroakustycznej/
ATTACH;FMTTYPE=image/jpeg:https://www.amuz.krakow.pl/wp-content/uploads/2024/10/reset-plakat.jpg
END:VEVENT
BEGIN:VEVENT
DTSTART;TZID=Europe/Warsaw:20241014T110000
DTEND;TZID=Europe/Warsaw:20241018T130000
DTSTAMP:20260423T124435
CREATED:20241011T120007Z
LAST-MODIFIED:20241011T120007Z
UID:90976-1728903600-1729256400@www.amuz.krakow.pl
SUMMARY:[:pl]Warsztaty jazzowe z prof. Pavlem Wlosokiem (USA)[:en]Jazz workshops with prof. Pavlel Wlosok (USA)[:]
DESCRIPTION:
URL:https://www.amuz.krakow.pl/wydzialy/wydzial-ii-instrumentalny/katedra-jazzu/aktualnosci-24/warsztaty-jazzowe-z-prof-pavlem-wlosokiem-usa/
ATTACH;FMTTYPE=image/jpeg:https://www.amuz.krakow.pl/wp-content/uploads/2023/02/warsztaty-kafelek.jpg
END:VEVENT
BEGIN:VEVENT
DTSTART;TZID=Europe/Warsaw:20241015T180000
DTEND;TZID=Europe/Warsaw:20241015T180000
DTSTAMP:20260423T124435
CREATED:20240927T123417Z
LAST-MODIFIED:20241002T124121Z
UID:90226-1729015200-1729015200@www.amuz.krakow.pl
SUMMARY:[:pl]Kazuki Sawa i Ignacy Lisiecki - koncert kameralny[:en]Chamber concert by Kazuki Sawa & Ignacy Lisiecki[:]
DESCRIPTION:
URL:https://www.amuz.krakow.pl/wydzialy/wydzial-ii-instrumentalny/katedra-skrzypiec-i-altowki/aktualnosci-24/kazuki-sawa-i-ignacy-lisiecki-koncert-kameralny/
ATTACH;FMTTYPE=image/jpeg:https://www.amuz.krakow.pl/wp-content/uploads/2024/10/koncert-kameralny-kafel.jpg
END:VEVENT
BEGIN:VEVENT
DTSTART;TZID=Europe/Warsaw:20241015T180000
DTEND;TZID=Europe/Warsaw:20241015T180000
DTSTAMP:20260423T124435
CREATED:20240930T103540Z
LAST-MODIFIED:20241002T123901Z
UID:90258-1729015200-1729015200@www.amuz.krakow.pl
SUMMARY:[:pl]Koncert prawykonań utworów akordeonowych[:en]Concert of World Premieres of Pieces for Accordion[:]
DESCRIPTION:
URL:https://www.amuz.krakow.pl/wydzialy/wydzial-ii-instrumentalny/katedra-instrumentow-detych-drewnianych-i-akordeonu-2/aktualnosci-24/koncert-prawykonan-utworow-akordeonowych/
ATTACH;FMTTYPE=image/jpeg:https://www.amuz.krakow.pl/wp-content/uploads/2024/09/453598852_1342176806999446_3359186347443827874_n.jpg
END:VEVENT
BEGIN:VEVENT
DTSTART;TZID=Europe/Warsaw:20241019T090000
DTEND;TZID=Europe/Warsaw:20241020T150000
DTSTAMP:20260423T124435
CREATED:20241021T125635Z
LAST-MODIFIED:20241021T125635Z
UID:91406-1729328400-1729436400@www.amuz.krakow.pl
SUMMARY:[:pl]Międzynarodowa sesja naukowa w ramach XIX Dni Jana Pawła II[:en]International academic meeting as part of the 19th John Paul II Days[:]
DESCRIPTION:
URL:https://www.amuz.krakow.pl/wydzialy/wydzial-i-tworczosci-interpretacji-i-edukacji-muzycznej/katedra-teorii-i-interpretacji-dziela-muzycznego/aktualnosci-24/sesja-naukowa-muzyka-wobec-poezji-i-nauczania-karola-wojtyly-i-jana-pawla-ii/
ATTACH;FMTTYPE=image/jpeg:https://www.amuz.krakow.pl/wp-content/uploads/2023/11/sesja-JP2-kafel.jpg
END:VEVENT
BEGIN:VEVENT
DTSTART;TZID=Europe/Warsaw:20241019T100000
DTEND;TZID=Europe/Warsaw:20241019T100000
DTSTAMP:20260423T124435
CREATED:20241010T074121Z
LAST-MODIFIED:20241010T074121Z
UID:90888-1729332000-1729332000@www.amuz.krakow.pl
SUMMARY:[:pl]Spotkanie inaugurujące rok akademicki w Szkole Doktorskiej[:en]Opening meeting of the new academic year in Doctoral School[:]
DESCRIPTION:
URL:https://www.amuz.krakow.pl/doktoranci/aktualnosci/#rozpoczecie-roku
ATTACH;FMTTYPE=image/jpeg:https://www.amuz.krakow.pl/wp-content/uploads/2024/09/szkola-kafel2.jpg
END:VEVENT
BEGIN:VEVENT
DTSTART;TZID=Europe/Warsaw:20241019T100000
DTEND;TZID=Europe/Warsaw:20241019T190000
DTSTAMP:20260423T124435
CREATED:20240916T132819Z
LAST-MODIFIED:20240916T132819Z
UID:89906-1729332000-1729364400@www.amuz.krakow.pl
SUMMARY:[:pl]FRESKI I WARIANTY. Setna rocznica urodzin Profesor dr h.c. Krystyny Moszumańskiej-Nazar. CZ. II[:en]FRESCOS & VARIATIONS. 10th birth anniversary of Professor dr h.c. Krystyna Moszumańska-Nazar. PART 2[:]
DESCRIPTION:
URL:https://www.amuz.krakow.pl/wydzialy/wydzial-i-tworczosci-interpretacji-i-edukacji-muzycznej/katedra-kompozycji/aktualnosci-24/setna-rocznica-urodzin-profesor-dr-h-c-krystyny-moszumanskiej-nazar/
END:VEVENT
BEGIN:VEVENT
DTSTART;TZID=Europe/Warsaw:20241020T133000
DTEND;TZID=Europe/Warsaw:20241020T133000
DTSTAMP:20260423T124435
CREATED:20241003T132856Z
LAST-MODIFIED:20241003T132856Z
UID:90457-1729431000-1729431000@www.amuz.krakow.pl
SUMMARY:[:pl]XXVIII Organowe Matinée - w wykonaniu studentów Akademii Muzycznej w Katowicach[:en]28th Organ Matinée - performed by students from Academy of Music in Katowice[:]
DESCRIPTION:
URL:https://www.amuz.krakow.pl/wydzialy/wydzial-ii-instrumentalny/katedra-organow/aktualnosci-24/xxviii-organowe-matinee/
ATTACH;FMTTYPE=image/jpeg:https://www.amuz.krakow.pl/wp-content/uploads/2024/10/organowy-plakat-pazdiernik.jpg
END:VEVENT
BEGIN:VEVENT
DTSTART;TZID=Europe/Warsaw:20241023T190000
DTEND;TZID=Europe/Warsaw:20241023T190000
DTSTAMP:20260423T124435
CREATED:20241011T094423Z
LAST-MODIFIED:20241014T085433Z
UID:90933-1729710000-1729710000@www.amuz.krakow.pl
SUMMARY:[:pl]Muzyka (NIE)dawna. Koncert muzyki współczesnej na instrumenty dawne[:en](NOT) early music. Concert of contemporary pieces for early instruments[:]
DESCRIPTION:
URL:https://www.amuz.krakow.pl/wydzialy/wydzial-ii-instrumentalny/katedra-muzyki-dawnej/aktualnosci-24/muzyka-niedawna/
ATTACH;FMTTYPE=image/jpeg:https://www.amuz.krakow.pl/wp-content/uploads/2024/10/niedawna-kafel.jpg
END:VEVENT
BEGIN:VEVENT
DTSTART;TZID=Europe/Warsaw:20241025T170000
DTEND;TZID=Europe/Warsaw:20241025T170000
DTSTAMP:20260423T124435
CREATED:20241003T125630Z
LAST-MODIFIED:20241003T125630Z
UID:90445-1729875600-1729875600@www.amuz.krakow.pl
SUMMARY:[:pl]Wieczór Pamięci Reginy Chłopickiej[:en]Evening in memory of Regina Chłopicka[:]
DESCRIPTION:
URL:https://www.amuz.krakow.pl/wydzialy/wydzial-i-tworczosci-interpretacji-i-edukacji-muzycznej/katedra-teorii-i-interpretacji-dziela-muzycznego/aktualnosci-24/wieczor-pamieci-reginy-chlopickiej/
ATTACH;FMTTYPE=image/jpeg:https://www.amuz.krakow.pl/wp-content/uploads/2024/10/wieczor-pamieci-kafel-1.jpg
END:VEVENT
BEGIN:VEVENT
DTSTART;TZID=Europe/Warsaw:20241030T190000
DTEND;TZID=Europe/Warsaw:20241030T190000
DTSTAMP:20260423T124435
CREATED:20240715T090244Z
LAST-MODIFIED:20241014T104610Z
UID:88736-1730314800-1730314800@www.amuz.krakow.pl
SUMMARY:[:pl]Koncert Orkiestry Symfonicznej AMKP[:en]AMKP Symphony Orchestra concert[:]
DESCRIPTION:
URL:https://www.amuz.krakow.pl/orkiestry-akademickie/orkiestra-symfoniczna/koncerty-2024-2025/koncert-orkiestry-symfonicznej-30-10-2024/
LOCATION:Filharmonia im. K. Szymanowskiego
ATTACH;FMTTYPE=image/jpeg:https://www.amuz.krakow.pl/wp-content/uploads/2024/07/symfoniczna-30-10-2024-kafel.jpg
END:VEVENT
BEGIN:VEVENT
DTSTART;TZID=Europe/Warsaw:20241031T193000
DTEND;TZID=Europe/Warsaw:20241031T193000
DTSTAMP:20260423T124435
CREATED:20241025T100318Z
LAST-MODIFIED:20241025T100318Z
UID:91603-1730403000-1730403000@www.amuz.krakow.pl
SUMMARY:[:pl]Muzyka figur[:en]Music of figures[:]
DESCRIPTION:
URL:https://www.amuz.krakow.pl/wydzialy/wydzial-ii-instrumentalny/katedra-skrzypiec-i-altowki/aktualnosci-24/muzyka-figur/
END:VEVENT
BEGIN:VEVENT
DTSTART;VALUE=DATE:20241104
DTEND;VALUE=DATE:20241111
DTSTAMP:20260423T124435
CREATED:20241017T093324Z
LAST-MODIFIED:20241025T122734Z
UID:91275-1730678400-1731283199@www.amuz.krakow.pl
SUMMARY:[:pl]Międzynarodowa Konferencja Naukowo-Artystyczna “Na drodze do nowej harmonii VIII”[:en]International Artistic / Academic Conference “On the way to a new harmony VIII”[:]
DESCRIPTION:
URL:https://www.amuz.krakow.pl/wydzialy/wydzial-ii-instrumentalny/katedra-instrumentow-detych-drewnianych-i-akordeonu-2/aktualnosci-24/miedzynarodowa-konferencja-naukowo-artystyczna-na-drodze-do-nowej-harmonii-viii/
ATTACH;FMTTYPE=image/jpeg:https://www.amuz.krakow.pl/wp-content/uploads/2024/10/na-dordze2-kafel.jpg
END:VEVENT
BEGIN:VEVENT
DTSTART;TZID=Europe/Warsaw:20241106T090000
DTEND;TZID=Europe/Warsaw:20241106T203000
DTSTAMP:20260423T124435
CREATED:20241104T144723Z
LAST-MODIFIED:20241104T144723Z
UID:91982-1730883600-1730925000@www.amuz.krakow.pl
SUMMARY:[:pl]Akademicki Dzień Pamięci 2024[:en]Academic Remembrance Day 2024[:]
DESCRIPTION:
URL:https://www.amuz.krakow.pl/akademicki-dzien-pamieci-2024/
ATTACH;FMTTYPE=image/jpeg:https://www.amuz.krakow.pl/wp-content/uploads/2022/11/zaproszenie-dzien-pamieci-web.jpg
END:VEVENT
BEGIN:VEVENT
DTSTART;TZID=Europe/Warsaw:20241107T100000
DTEND;TZID=Europe/Warsaw:20241107T100000
DTSTAMP:20260423T124435
CREATED:20241016T134543Z
LAST-MODIFIED:20241016T134903Z
UID:91248-1730973600-1730973600@www.amuz.krakow.pl
SUMMARY:[:pl]Sesja naukowa w ramach festiwalu Zaduszki Organowe im. prof. Jana Jargonia[:en]The traditional and modern elements in the 20th century organ music - academic meeting[:]
DESCRIPTION:
URL:https://www.amuz.krakow.pl/wydzialy/wydzial-ii-instrumentalny/katedra-organow/aktualnosci-24/iv-miedzynarodowa-sesja-naukowa-pierwiastek-tradycyjny-i-nowoczesny-w-muzyce-organowej-xx-stulecia/
ATTACH;FMTTYPE=image/jpeg:https://www.amuz.krakow.pl/wp-content/uploads/2022/11/sesja-naukowa.jpg
END:VEVENT
BEGIN:VEVENT
DTSTART;TZID=Europe/Warsaw:20241108T193000
DTEND;TZID=Europe/Warsaw:20241108T193000
DTSTAMP:20260423T124435
CREATED:20241029T125154Z
LAST-MODIFIED:20241029T125154Z
UID:91696-1731094200-1731094200@www.amuz.krakow.pl
SUMMARY:[:pl]Nieszpory za zmarłych ze śpiewem gregoriańskim[:en]Vespers for the Dead in Gregorian chant[:]
DESCRIPTION:
URL:https://www.amuz.krakow.pl/wydzialy/wydzial-i-tworczosci-interpretacji-i-edukacji-muzycznej/katedra-muzyki-religijnej/aktualnosci-24/nieszpory-za-zmarlych-ze-spiewem-gregorianskim/
ATTACH;FMTTYPE=image/jpeg:https://www.amuz.krakow.pl/wp-content/uploads/2024/10/24.11.08-kafelek.jpg
END:VEVENT
END:VCALENDAR