BEGIN:VCALENDAR
VERSION:2.0
PRODID:-//Akademia Muzyczna im. Krzysztofa Pendereckiego w Krakowie - ECPv6.15.20//NONSGML v1.0//EN
CALSCALE:GREGORIAN
METHOD:PUBLISH
X-ORIGINAL-URL:https://www.amuz.krakow.pl
X-WR-CALDESC:Wydarzenia dla Akademia Muzyczna im. Krzysztofa Pendereckiego w Krakowie
REFRESH-INTERVAL;VALUE=DURATION:PT1H
X-Robots-Tag:noindex
X-PUBLISHED-TTL:PT1H
BEGIN:VTIMEZONE
TZID:Europe/Warsaw
BEGIN:DAYLIGHT
TZOFFSETFROM:+0100
TZOFFSETTO:+0200
TZNAME:CEST
DTSTART:20220327T010000
END:DAYLIGHT
BEGIN:STANDARD
TZOFFSETFROM:+0200
TZOFFSETTO:+0100
TZNAME:CET
DTSTART:20221030T010000
END:STANDARD
BEGIN:DAYLIGHT
TZOFFSETFROM:+0100
TZOFFSETTO:+0200
TZNAME:CEST
DTSTART:20230326T010000
END:DAYLIGHT
BEGIN:STANDARD
TZOFFSETFROM:+0200
TZOFFSETTO:+0100
TZNAME:CET
DTSTART:20231029T010000
END:STANDARD
BEGIN:DAYLIGHT
TZOFFSETFROM:+0100
TZOFFSETTO:+0200
TZNAME:CEST
DTSTART:20240331T010000
END:DAYLIGHT
BEGIN:STANDARD
TZOFFSETFROM:+0200
TZOFFSETTO:+0100
TZNAME:CET
DTSTART:20241027T010000
END:STANDARD
END:VTIMEZONE
BEGIN:VEVENT
DTSTART;VALUE=DATE:20230828
DTEND;VALUE=DATE:20230904
DTSTAMP:20260423T074302
CREATED:20230829T091606Z
LAST-MODIFIED:20230829T093508Z
UID:77607-1693180800-1693785599@www.amuz.krakow.pl
SUMMARY:[:pl]25. Letnia Akademia Muzyczna w Krakowie / 25th Summer Academy of Music in Krakow - 28 sierpnia - 3 września 2023 / 28 August - 3 September 2023[:en]25th Summer Academy of Music in Krakow - 28 August - 3 September 2023[:]
DESCRIPTION:
URL:https://www.amuz.krakow.pl/letnia-akademia-muzyczna/
ATTACH;FMTTYPE=image/jpeg:https://www.amuz.krakow.pl/wp-content/uploads/2023/02/LAM-25-kafelek.jpg
END:VEVENT
BEGIN:VEVENT
DTSTART;TZID=Europe/Warsaw:20230901T190000
DTEND;TZID=Europe/Warsaw:20230901T190000
DTSTAMP:20260423T074302
CREATED:20230829T093103Z
LAST-MODIFIED:20230829T093103Z
UID:77618-1693594800-1693594800@www.amuz.krakow.pl
SUMMARY:[:pl]Koncert uczestników 25. LAM[:en]25th LAM participants' concert[:]
DESCRIPTION:
URL:https://www.amuz.krakow.pl/letnia-akademia-muzyczna/koncerty/
ATTACH;FMTTYPE=image/png:https://www.amuz.krakow.pl/wp-content/uploads/2023/08/LAM-25-plakaty-OK_1.png
END:VEVENT
BEGIN:VEVENT
DTSTART;TZID=Europe/Warsaw:20230902T190000
DTEND;TZID=Europe/Warsaw:20230902T190000
DTSTAMP:20260423T074302
CREATED:20230829T093153Z
LAST-MODIFIED:20230829T093153Z
UID:77620-1693681200-1693681200@www.amuz.krakow.pl
SUMMARY:[:pl]Koncert uczestników 25. LAM[:en]25th LAM participant's concert[:]
DESCRIPTION:
URL:https://www.amuz.krakow.pl/letnia-akademia-muzyczna/koncerty/
ATTACH;FMTTYPE=image/png:https://www.amuz.krakow.pl/wp-content/uploads/2023/08/LAM-25-plakaty-OK_1.png
END:VEVENT
BEGIN:VEVENT
DTSTART;TZID=Europe/Warsaw:20230903T180000
DTEND;TZID=Europe/Warsaw:20230903T180000
DTSTAMP:20260423T074302
CREATED:20230829T093301Z
LAST-MODIFIED:20230829T093301Z
UID:77622-1693764000-1693764000@www.amuz.krakow.pl
SUMMARY:[:pl]Koncert finałowy 25. LAM[:en]25th LAM final concert[:]
DESCRIPTION:
URL:https://www.amuz.krakow.pl/letnia-akademia-muzyczna/koncerty/
ATTACH;FMTTYPE=image/png:https://www.amuz.krakow.pl/wp-content/uploads/2023/08/LAM-25-plakaty-OK_1.png
END:VEVENT
BEGIN:VEVENT
DTSTART;TZID=Europe/Warsaw:20230917T133000
DTEND;TZID=Europe/Warsaw:20230917T133000
DTSTAMP:20260423T074302
CREATED:20230912T105825Z
LAST-MODIFIED:20230912T105825Z
UID:77887-1694957400-1694957400@www.amuz.krakow.pl
SUMMARY:[:pl]XVII Organowe Matinée w wykonaniu absolwenta AMKP Michała Książka[:en]17th Organ Matinée performed by AMKP graduate Michał Książek[:]
DESCRIPTION:
URL:https://www.amuz.krakow.pl/wydzialy/wydzial-ii-instrumentalny/katedra-organow/aktualnosci-23/xvii-matinee-organowe-w-wykonaniu-absolwenta-amkp-michala-ksiazka/
ATTACH;FMTTYPE=image/jpeg:https://www.amuz.krakow.pl/wp-content/uploads/2022/04/organowy-matinee-www.jpg
END:VEVENT
BEGIN:VEVENT
DTSTART;VALUE=DATE:20230921
DTEND;VALUE=DATE:20230925
DTSTAMP:20260423T074302
CREATED:20230908T125321Z
LAST-MODIFIED:20230908T125321Z
UID:77835-1695254400-1695599999@www.amuz.krakow.pl
SUMMARY:[:pl]52. Międzynarodowy Festiwal Heinricha Schütza - 21-24 września 2023[:en]52nd International Heinrich Schütz Festival - 21-24 Septebmer 2023[:]
DESCRIPTION:
URL:https://www.amuz.krakow.pl/52-miedzynarodowy-festiwal-heinricha-schutza/
ATTACH;FMTTYPE=image/jpeg:https://www.amuz.krakow.pl/wp-content/uploads/2023/09/52.-Miedzynarodowy-Festiwal-Schutza_kafelek.jpg
END:VEVENT
BEGIN:VEVENT
DTSTART;VALUE=DATE:20230922
DTEND;VALUE=DATE:20231001
DTSTAMP:20260423T074302
CREATED:20230911T110049Z
LAST-MODIFIED:20230911T110049Z
UID:77872-1695340800-1696118399@www.amuz.krakow.pl
SUMMARY:[:pl]II Festiwal Serate Musicali Cracoviensis[:en]2nd Serate Musicali Cracoviensis Festival[:]
DESCRIPTION:
URL:https://www.amuz.krakow.pl/wydzialy/wydzial-ii-instrumentalny/katedra-instrumentow-detych-drewnianych-i-akordeonu-2/aktualnosci-23/festiwal-serate-musicali-cracoviensis/
ATTACH;FMTTYPE=image/jpeg:https://www.amuz.krakow.pl/wp-content/uploads/2023/09/Festiwal-wloski_kafelek-scaled.jpg
END:VEVENT
BEGIN:VEVENT
DTSTART;TZID=Europe/Warsaw:20230923T180000
DTEND;TZID=Europe/Warsaw:20230923T180000
DTSTAMP:20260423T074302
CREATED:20230923T094122Z
LAST-MODIFIED:20231024T090706Z
UID:78182-1695492000-1695492000@www.amuz.krakow.pl
SUMMARY:[:pl]I koncert w ramach festiwalu „Na drodze do nowej harmonii”[:en]1st concert as part of the festival "On the way to a new harmony"[:]
DESCRIPTION:
URL:https://www.amuz.krakow.pl/fundacja-amkp/projekty/miedzynarodowy-festiwal-muzyczny-na-drodze-do-nowej-harmonii/
ATTACH;FMTTYPE=image/jpeg:https://www.amuz.krakow.pl/wp-content/uploads/2023/09/NOWA-HARMONIA_FB-BACKGROUND-.jpg
END:VEVENT
BEGIN:VEVENT
DTSTART;VALUE=DATE:20230925
DTEND;VALUE=DATE:20231001
DTSTAMP:20260423T074302
CREATED:20230727T151627Z
LAST-MODIFIED:20230829T093650Z
UID:77466-1695600000-1696118399@www.amuz.krakow.pl
SUMMARY:[:pl]International Hornweek: Horn in the World - 25-30 września 2023[:en]International Hornweek: Horn in the World - 25-30 September 2023[:]
DESCRIPTION:
URL:https://www.amuz.krakow.pl/wydzialy/wydzial-ii-instrumentalny/katedra-instrumentow-detych-blaszanych/aktualnosci-23/international-hornweek/
ATTACH;FMTTYPE=image/jpeg:https://www.amuz.krakow.pl/wp-content/uploads/2023/07/hornweek-2023-web.jpg
END:VEVENT
BEGIN:VEVENT
DTSTART;TZID=Europe/Warsaw:20230927T193000
DTEND;TZID=Europe/Warsaw:20230927T193000
DTSTAMP:20260423T074302
CREATED:20230918T085810Z
LAST-MODIFIED:20230919T101028Z
UID:78025-1695843000-1695843000@www.amuz.krakow.pl
SUMMARY:[:pl]Koncert dyplomowy magisterski z dyrygentury studentki Martyny Drabczyńskiej z Orkiestrą CORda Cracovia[:en]Conducting diploma concert by Martyna Drabczyńska with CORda Cracovia Orchestra[:]
DESCRIPTION:
URL:https://www.amuz.krakow.pl/wydzialy/wydzial-i-tworczosci-interpretacji-i-edukacji-muzycznej/katedra-dyrygentury/aktualnosci-23/koncert-dyplomowy-magisterski-z-dyrygentury-studentki-martyny-drabczynskiej/
ATTACH;FMTTYPE=image/jpeg:https://www.amuz.krakow.pl/wp-content/uploads/2023/06/kafel-dyplomowy.jpg
END:VEVENT
BEGIN:VEVENT
DTSTART;TZID=Europe/Warsaw:20230930T180000
DTEND;TZID=Europe/Warsaw:20230930T180000
DTSTAMP:20260423T074302
CREATED:20230908T103614Z
LAST-MODIFIED:20230908T103614Z
UID:77815-1696096800-1696096800@www.amuz.krakow.pl
SUMMARY:[:pl]Koncert finałowy HORNWEEK[:en]HORNWEEK final concert[:]
DESCRIPTION:
URL:https://www.amuz.krakow.pl/wydzialy/wydzial-ii-instrumentalny/katedra-instrumentow-detych-blaszanych/aktualnosci-23/koncert-finalowy-hornweek-w-kopalni-soli-w-bochni/
ATTACH;FMTTYPE=image/jpeg:https://www.amuz.krakow.pl/wp-content/uploads/2023/09/koncert-hornweek-2023-web.jpg
END:VEVENT
BEGIN:VEVENT
DTSTART;TZID=Europe/Warsaw:20230930T180000
DTEND;TZID=Europe/Warsaw:20230930T180000
DTSTAMP:20260423T074302
CREATED:20230929T120616Z
LAST-MODIFIED:20230929T121352Z
UID:78347-1696096800-1696096800@www.amuz.krakow.pl
SUMMARY:[:pl]Koncert Krakowskiego Festiwalu Akordeonowego[:en]Concert of Kraków Accordion Festival[:]
DESCRIPTION:
URL:https://www.amuz.krakow.pl/koncerty-krakowskiego-festiwalu-akordeonowego/
ATTACH;FMTTYPE=image/jpeg:https://www.amuz.krakow.pl/wp-content/uploads/2023/09/KKFA_FB-TLO_small.jpg
END:VEVENT
BEGIN:VEVENT
DTSTART;TZID=Europe/Warsaw:20231005T180000
DTEND;TZID=Europe/Warsaw:20231005T180000
DTSTAMP:20260423T074302
CREATED:20230915T123547Z
LAST-MODIFIED:20230915T123547Z
UID:78015-1696528800-1696528800@www.amuz.krakow.pl
SUMMARY:[:pl]Saksofon i Elektronika - Andrzej Rzymkowski i Michał Pawełek[:en]Saxophone & Electronics - Andrzej Rzymkowski and Michał Pawełek[:]
DESCRIPTION:
URL:https://www.amuz.krakow.pl/wydzialy/wydzial-i-tworczosci-interpretacji-i-edukacji-muzycznej/katedra-kompozycji/aktualnosci-23/saksofon-i-elektronika-andrzej-rzymkowski-i-michal-pawelek/
ATTACH;FMTTYPE=image/jpeg:https://www.amuz.krakow.pl/wp-content/uploads/2022/05/koncert-1.jpg
END:VEVENT
BEGIN:VEVENT
DTSTART;TZID=Europe/Warsaw:20231005T180000
DTEND;TZID=Europe/Warsaw:20231005T180000
DTSTAMP:20260423T074302
CREATED:20230929T121420Z
LAST-MODIFIED:20230929T121420Z
UID:78350-1696528800-1696528800@www.amuz.krakow.pl
SUMMARY:[:pl]Koncert Krakowskiego Festiwalu Akordeonowego[:en]Concert of Kraków Accordion Festival[:]
DESCRIPTION:
URL:https://www.amuz.krakow.pl/koncerty-krakowskiego-festiwalu-akordeonowego/
ATTACH;FMTTYPE=image/jpeg:https://www.amuz.krakow.pl/wp-content/uploads/2023/09/KKFA_FB-TLO_small.jpg
END:VEVENT
BEGIN:VEVENT
DTSTART;TZID=Europe/Warsaw:20231010T180000
DTEND;TZID=Europe/Warsaw:20231010T180000
DTSTAMP:20260423T074302
CREATED:20230929T121433Z
LAST-MODIFIED:20231005T100727Z
UID:78351-1696960800-1696960800@www.amuz.krakow.pl
SUMMARY:[:pl]Koncert Krakowskiego Festiwalu Akordeonowego w Sali Koncertowej AMKP[:en]Concert of Kraków Accordion Festival in AMKP Concert Hall[:]
DESCRIPTION:
URL:https://www.amuz.krakow.pl/koncerty-krakowskiego-festiwalu-akordeonowego/
ATTACH;FMTTYPE=image/jpeg:https://www.amuz.krakow.pl/wp-content/uploads/2023/09/KKFA_FB-TLO_small.jpg
END:VEVENT
BEGIN:VEVENT
DTSTART;VALUE=DATE:20231011
DTEND;VALUE=DATE:20231013
DTSTAMP:20260423T074302
CREATED:20230929T122939Z
LAST-MODIFIED:20231006T121137Z
UID:78370-1696982400-1697155199@www.amuz.krakow.pl
SUMMARY:[:pl]Sympozjum z zakresu improwizacji jazzowej[:en]Improvising composition - composing improvisation[:]
DESCRIPTION:
URL:https://www.amuz.krakow.pl/wydzialy/wydzial-ii-instrumentalny/katedra-jazzu/aktualnosci-23/improwizowanie-kompozycji-komponowanie-improwizacji/
ATTACH;FMTTYPE=image/jpeg:https://www.amuz.krakow.pl/wp-content/uploads/2023/10/sympozjum-jazzu-kafel.jpg
END:VEVENT
BEGIN:VEVENT
DTSTART;TZID=Europe/Warsaw:20231014T180000
DTEND;TZID=Europe/Warsaw:20231014T180000
DTSTAMP:20260423T074302
CREATED:20231005T101336Z
LAST-MODIFIED:20231024T090727Z
UID:78485-1697306400-1697306400@www.amuz.krakow.pl
SUMMARY:[:pl]Koncert w Auli Florianka w ramach festiwalu „Na drodze do nowej harmonii”[:en]Concert in Florianka Hall as part of the festival "On the way to a new harmony"[:]
DESCRIPTION:
URL:https://www.amuz.krakow.pl/fundacja-amkp/projekty/miedzynarodowy-festiwal-muzyczny-na-drodze-do-nowej-harmonii/
ATTACH;FMTTYPE=image/jpeg:https://www.amuz.krakow.pl/wp-content/uploads/2023/09/NOWA-HARMONIA_FB-BACKGROUND-.jpg
END:VEVENT
BEGIN:VEVENT
DTSTART;VALUE=DATE:20231015
DTEND;VALUE=DATE:20231017
DTSTAMP:20260423T074302
CREATED:20231003T102236Z
LAST-MODIFIED:20231009T092916Z
UID:78433-1697328000-1697500799@www.amuz.krakow.pl
SUMMARY:[:pl]Polsko-amerykańskie spotkanie z perkusją[:en]Polish-American meeting with percussion[:]
DESCRIPTION:
URL:https://www.amuz.krakow.pl/wydzialy/wydzial-ii-instrumentalny/katedra-perkusji-i-muzyki-wspolczesnej/aktualnosci-23/polsko-amerykanskie-spotkanie-z-perkusja/
ATTACH;FMTTYPE=image/jpeg:https://www.amuz.krakow.pl/wp-content/uploads/2023/10/spotkanie-z-perkusja-kafelek.jpg
END:VEVENT
BEGIN:VEVENT
DTSTART;TZID=Europe/Warsaw:20231015T133000
DTEND;TZID=Europe/Warsaw:20231015T133000
DTSTAMP:20260423T074302
CREATED:20231009T111143Z
LAST-MODIFIED:20231009T111143Z
UID:78625-1697376600-1697376600@www.amuz.krakow.pl
SUMMARY:[:pl]XVIII Organowe Matinée w wykonaniu Karoliny Kusz (UPJPII) oraz Miriam Wójciak (UPJPII/AMKP)[:en]18th Organ Matinée - DUO TROPICALE: Karolina Kusz (UPJPII) and Miriam Wójciak (UPJPII/AMKP)[:]
DESCRIPTION:
URL:https://www.amuz.krakow.pl/wydzialy/wydzial-ii-instrumentalny/katedra-organow/aktualnosci-23/xviii-organowe-matinee-w-wykonaniu-karoliny-kusz-upjpii-oraz-miriam-wojciak-upjpii-amkp/
ATTACH;FMTTYPE=image/jpeg:https://www.amuz.krakow.pl/wp-content/uploads/2023/10/organowy-plakat-15-10.jpg
END:VEVENT
BEGIN:VEVENT
DTSTART;TZID=Europe/Warsaw:20231015T190000
DTEND;TZID=Europe/Warsaw:20231015T190000
DTSTAMP:20260423T074302
CREATED:20231005T095855Z
LAST-MODIFIED:20231005T095917Z
UID:78464-1697396400-1697396400@www.amuz.krakow.pl
SUMMARY:[:pl]Koncert w Auli Florianka w ramach XV Międzynarodowego Festiwalu Pianistycznego[:en]Concert in Florianka Hall as part of the 15th International Royal Cracow Piano Festival[:]
DESCRIPTION:
URL:https://www.amuz.krakow.pl/wydzialy/wydzial-ii-instrumentalny/katedra-fortepianu/aktualnosci-23/kurs-mistrzowski-profesor-raubo/
ATTACH;FMTTYPE=image/jpeg:https://www.amuz.krakow.pl/wp-content/uploads/2023/10/15-MFP-KRAKOW-kafelek-do-koncertow-Internet_1.jpg
END:VEVENT
BEGIN:VEVENT
DTSTART;TZID=Europe/Warsaw:20231017T080000
DTEND;TZID=Europe/Warsaw:20231017T170000
DTSTAMP:20260423T074302
CREATED:20230927T114010Z
LAST-MODIFIED:20231026T125726Z
UID:78248-1697529600-1697562000@www.amuz.krakow.pl
SUMMARY:[:pl]Zbigniew Bujarski. Kompozytor\, malarz\, profesor - sesja naukowa[:en]Zbigniew Bujarski. Composer\, painter\, profeessor - academic meeting[:]
DESCRIPTION:
URL:https://www.amuz.krakow.pl/wydzialy/wydzial-i-tworczosci-interpretacji-i-edukacji-muzycznej/katedra-kompozycji/aktualnosci-23/zbigniew-bujarski-90-lecie-urodzin/
END:VEVENT
BEGIN:VEVENT
DTSTART;TZID=Europe/Warsaw:20231017T190000
DTEND;TZID=Europe/Warsaw:20231017T190000
DTSTAMP:20260423T074302
CREATED:20231012T113905Z
LAST-MODIFIED:20231012T113905Z
UID:78780-1697569200-1697569200@www.amuz.krakow.pl
SUMMARY:[:pl]Koncert saksofonisty Patricka Stadlera (Hochschule für Musik Nürnberg)[:en]Concert of Patrick Stadler - saxophone (Hochschule für Musik Nürnberg)[:]
DESCRIPTION:
URL:https://www.amuz.krakow.pl/wydzialy/wydzial-ii-instrumentalny/katedra-instrumentow-detych-drewnianych-i-akordeonu-2/aktualnosci-23/koncert-patrick-stadler/
ATTACH;FMTTYPE=image/jpeg:https://www.amuz.krakow.pl/wp-content/uploads/2023/10/SADLER.jpg
END:VEVENT
BEGIN:VEVENT
DTSTART;TZID=Europe/Warsaw:20231017T193000
DTEND;TZID=Europe/Warsaw:20231017T193000
DTSTAMP:20260423T074302
CREATED:20230927T115005Z
LAST-MODIFIED:20230927T122127Z
UID:78252-1697571000-1697571000@www.amuz.krakow.pl
SUMMARY:[:pl]Zbigniew Bujarski i przyjaciele - koncert[:en]Zbigniew Bujarski and friends - concert[:]
DESCRIPTION:
URL:https://www.amuz.krakow.pl/wydzialy/wydzial-i-tworczosci-interpretacji-i-edukacji-muzycznej/katedra-kompozycji/aktualnosci-23/zbigniew-bujarski-90-lecie-urodzin/
END:VEVENT
BEGIN:VEVENT
DTSTART;TZID=Europe/Warsaw:20231018T190000
DTEND;TZID=Europe/Warsaw:20231018T190000
DTSTAMP:20260423T074302
CREATED:20231005T100046Z
LAST-MODIFIED:20231005T100046Z
UID:78469-1697655600-1697655600@www.amuz.krakow.pl
SUMMARY:[:pl]Koncert w Auli Florianka w ramach XV Międzynarodowego Festiwalu Pianistycznego[:en]Concert in Florianka Hall as part of the 15th International Royal Cracow Piano Festival[:]
DESCRIPTION:
URL:https://www.amuz.krakow.pl/wydzialy/wydzial-ii-instrumentalny/katedra-fortepianu/aktualnosci-23/kurs-mistrzowski-profesor-raubo/
ATTACH;FMTTYPE=image/jpeg:https://www.amuz.krakow.pl/wp-content/uploads/2023/10/15-MFP-KRAKOW-kafelek-do-koncertow-Internet_1.jpg
END:VEVENT
BEGIN:VEVENT
DTSTART;TZID=Europe/Warsaw:20231019T103000
DTEND;TZID=Europe/Warsaw:20231019T135000
DTSTAMP:20260423T074302
CREATED:20231005T114125Z
LAST-MODIFIED:20241216T130459Z
UID:78508-1697711400-1697723400@www.amuz.krakow.pl
SUMMARY:[:pl]Spotkanie z ekspertem: Greg Przygocki. Jak zwiększyć szanse na wejście na międzynarodowy rynek muzyczny?[:en]Meet the expert: Greg Przygocki. How to increase your chances to enter the international music market?[:]
DESCRIPTION:
URL:https://www.amuz.krakow.pl/spotkanie-z-ekspertem-19-10-2023/
ATTACH;FMTTYPE=image/jpeg:https://www.amuz.krakow.pl/wp-content/uploads/2023/10/CRK-ekspert-10-2023.jpg
END:VEVENT
BEGIN:VEVENT
DTSTART;TZID=Europe/Warsaw:20231019T130000
DTEND;TZID=Europe/Warsaw:20231019T143000
DTSTAMP:20260423T074302
CREATED:20231003T120531Z
LAST-MODIFIED:20231009T124350Z
UID:78437-1697720400-1697725800@www.amuz.krakow.pl
SUMMARY:[:pl]Warsztaty z Jihye Kim: bębny koreańskie i improwizacja[:en]Workshops with Jihye Kim: Korean drums and improvisation[:]
DESCRIPTION:
URL:https://www.amuz.krakow.pl/wydzialy/wydzial-ii-instrumentalny/katedra-perkusji-i-muzyki-wspolczesnej/aktualnosci-23/warsztaty-z-jihye-kim-bebny-koreanskie-i-improwizacja/
ATTACH;FMTTYPE=image/jpeg:https://www.amuz.krakow.pl/wp-content/uploads/2023/10/warsztaty-19-10-kafelek.jpg
END:VEVENT
BEGIN:VEVENT
DTSTART;VALUE=DATE:20231020
DTEND;VALUE=DATE:20231022
DTSTAMP:20260423T074302
CREATED:20231011T112024Z
LAST-MODIFIED:20231019T095021Z
UID:78724-1697760000-1697932799@www.amuz.krakow.pl
SUMMARY:[:pl]SFERA – konferencja i koncerty w 50-lecie Studia Muzyki Elektroakustycznej AMKP[:en]SPHERE - academic conference and concerts in the 50th anniversary of AMKP Electroacoustic Music Studio[:]
DESCRIPTION:
URL:https://www.amuz.krakow.pl/wydzialy/wydzial-i-tworczosci-interpretacji-i-edukacji-muzycznej/katedra-kompozycji/aktualnosci-23/sfera/
ATTACH;FMTTYPE=image/jpeg:https://www.amuz.krakow.pl/wp-content/uploads/2023/10/sfera-plakat-OK.jpg
END:VEVENT
BEGIN:VEVENT
DTSTART;TZID=Europe/Warsaw:20231020T190000
DTEND;TZID=Europe/Warsaw:20231020T190000
DTSTAMP:20260423T074302
CREATED:20231005T100040Z
LAST-MODIFIED:20231005T100040Z
UID:78470-1697828400-1697828400@www.amuz.krakow.pl
SUMMARY:[:pl]Koncert w Auli Florianka w ramach XV Międzynarodowego Festiwalu Pianistycznego[:en]Concert in Florianka Hall as part of the 15th International Royal Cracow Piano Festival[:]
DESCRIPTION:
URL:https://www.amuz.krakow.pl/wydzialy/wydzial-ii-instrumentalny/katedra-fortepianu/aktualnosci-23/kurs-mistrzowski-profesor-raubo/
ATTACH;FMTTYPE=image/jpeg:https://www.amuz.krakow.pl/wp-content/uploads/2023/10/15-MFP-KRAKOW-kafelek-do-koncertow-Internet_1.jpg
END:VEVENT
BEGIN:VEVENT
DTSTART;TZID=Europe/Warsaw:20231022T180000
DTEND;TZID=Europe/Warsaw:20231022T180000
DTSTAMP:20260423T074302
CREATED:20231011T114120Z
LAST-MODIFIED:20231011T114120Z
UID:78732-1697997600-1697997600@www.amuz.krakow.pl
SUMMARY:[:pl]Beethoven - sonatas for piano and cello[:]
DESCRIPTION:
URL:https://www.amuz.krakow.pl/wydzialy/wydzial-ii-instrumentalny/katedra-wiolonczeli-i-kontrabasu/aktualnosci-23/beethoven-sonaty-na-fortepian-i-wiolonczele/
ATTACH;FMTTYPE=image/jpeg:https://www.amuz.krakow.pl/wp-content/uploads/2023/10/beethoven-22-10-plakat.jpg
END:VEVENT
BEGIN:VEVENT
DTSTART;TZID=Europe/Warsaw:20231023T090000
DTEND;TZID=Europe/Warsaw:20231024T150000
DTSTAMP:20260423T074302
CREATED:20231020T113824Z
LAST-MODIFIED:20231020T113824Z
UID:79046-1698051600-1698159600@www.amuz.krakow.pl
SUMMARY:[:pl]Kurs mistrzowski z prof. Stefanem Stroissingiem (Universität für Musik und darstellende Kunst Wien)[:en]Masterclass with professor Stefan Stroissing (Universität für Musik und darstellende Kunst Wien)[:]
DESCRIPTION:
URL:https://www.amuz.krakow.pl/wydzialy/wydzial-ii-instrumentalny/katedra-fortepianu/aktualnosci-23/kurs-mistrzowski-z-prof-stefanem-stroissingiem-23-24-10-2023/
ATTACH;FMTTYPE=image/jpeg:https://www.amuz.krakow.pl/wp-content/uploads/2023/10/stroissing.jpg
END:VEVENT
END:VCALENDAR