BEGIN:VCALENDAR
VERSION:2.0
PRODID:-//Akademia Muzyczna im. Krzysztofa Pendereckiego w Krakowie - ECPv6.15.20//NONSGML v1.0//EN
CALSCALE:GREGORIAN
METHOD:PUBLISH
X-ORIGINAL-URL:https://www.amuz.krakow.pl
X-WR-CALDESC:Wydarzenia dla Akademia Muzyczna im. Krzysztofa Pendereckiego w Krakowie
REFRESH-INTERVAL;VALUE=DURATION:PT1H
X-Robots-Tag:noindex
X-PUBLISHED-TTL:PT1H
BEGIN:VTIMEZONE
TZID:Europe/Warsaw
BEGIN:DAYLIGHT
TZOFFSETFROM:+0100
TZOFFSETTO:+0200
TZNAME:CEST
DTSTART:20220327T010000
END:DAYLIGHT
BEGIN:STANDARD
TZOFFSETFROM:+0200
TZOFFSETTO:+0100
TZNAME:CET
DTSTART:20221030T010000
END:STANDARD
BEGIN:DAYLIGHT
TZOFFSETFROM:+0100
TZOFFSETTO:+0200
TZNAME:CEST
DTSTART:20230326T010000
END:DAYLIGHT
BEGIN:STANDARD
TZOFFSETFROM:+0200
TZOFFSETTO:+0100
TZNAME:CET
DTSTART:20231029T010000
END:STANDARD
BEGIN:DAYLIGHT
TZOFFSETFROM:+0100
TZOFFSETTO:+0200
TZNAME:CEST
DTSTART:20240331T010000
END:DAYLIGHT
BEGIN:STANDARD
TZOFFSETFROM:+0200
TZOFFSETTO:+0100
TZNAME:CET
DTSTART:20241027T010000
END:STANDARD
END:VTIMEZONE
BEGIN:VEVENT
DTSTART;TZID=Europe/Warsaw:20230205T163000
DTEND;TZID=Europe/Warsaw:20230205T163000
DTSTAMP:20260423T174620
CREATED:20230127T125356Z
LAST-MODIFIED:20230127T125356Z
UID:70727-1675614600-1675614600@www.amuz.krakow.pl
SUMMARY:[:pl]Koncert gitarowy w wykonaniu studentów AMKS w Katowicach[:en]Guitar concert by students from the Karol Szymanowski Academy of Music in Katowice[:]
DESCRIPTION:
URL:https://www.amuz.krakow.pl/wydzialy/wydzial-ii-instrumentalny/katedra-gitary-i-harfy/aktualnosci-22/koncert-wymienny-amks-w-katowicach-5-02-2023/
ATTACH;FMTTYPE=image/jpeg:https://www.amuz.krakow.pl/wp-content/uploads/2022/05/koncert-4.jpg
END:VEVENT
BEGIN:VEVENT
DTSTART;TZID=Europe/Warsaw:20230214T190000
DTEND;TZID=Europe/Warsaw:20230214T190000
DTSTAMP:20260423T174620
CREATED:20230203T111135Z
LAST-MODIFIED:20230203T111135Z
UID:70866-1676401200-1676401200@www.amuz.krakow.pl
SUMMARY:[:pl]Recital fortepianowy Lelin Qi[:en]Lelin Qi Chopin recital[:]
DESCRIPTION:
URL:https://www.amuz.krakow.pl/recital-fortepianowy-lelin-qi/
ATTACH;FMTTYPE=image/jpeg:https://www.amuz.krakow.pl/wp-content/uploads/2023/02/Poster-pic_page-0001.jpg
END:VEVENT
BEGIN:VEVENT
DTSTART;VALUE=DATE:20230217
DTEND;VALUE=DATE:20230220
DTSTAMP:20260423T174620
CREATED:20230112T105130Z
LAST-MODIFIED:20230112T134715Z
UID:70132-1676592000-1676851199@www.amuz.krakow.pl
SUMMARY:[:pl]BRAHMSODIA – w 190. rocznicę urodzin Johannesa Brahmsa[:en]BRAHMSODIA – in the 190th birth anniversary of Johannes Brahms[:]
DESCRIPTION:
URL:https://www.amuz.krakow.pl/wydzialy/wydzial-i-tworczosci-interpretacji-i-edukacji-muzycznej/katedra-teorii-i-interpretacji-dziela-muzycznego/aktualnosci/brahmsodia-17-19-02-2023/
END:VEVENT
BEGIN:VEVENT
DTSTART;TZID=Europe/Warsaw:20230218T180000
DTEND;TZID=Europe/Warsaw:20230218T180000
DTSTAMP:20260423T174620
CREATED:20230130T134412Z
LAST-MODIFIED:20230130T134412Z
UID:70773-1676743200-1676743200@www.amuz.krakow.pl
SUMMARY:Harmonia Mundi
DESCRIPTION:
URL:https://www.amuz.krakow.pl/wydzialy/wydzial-ii-instrumentalny/katedra-instrumentow-detych-drewnianych-i-akordeonu-2/aktualnosci-22/harmonia-mundi-18-02-2023/
ATTACH;FMTTYPE=image/jpeg:https://www.amuz.krakow.pl/wp-content/uploads/2022/05/koncert-3.jpg
END:VEVENT
BEGIN:VEVENT
DTSTART;TZID=Europe/Warsaw:20230219T133000
DTEND;TZID=Europe/Warsaw:20230219T133000
DTSTAMP:20260423T174620
CREATED:20230215T095923Z
LAST-MODIFIED:20230215T095923Z
UID:71178-1676813400-1676813400@www.amuz.krakow.pl
SUMMARY:[:pl]XII Organowe Matinée w wykonaniu studenta AMKP - Bartłomieja Maziarza[:en]12th Organ Matinée - Bartłomiej Maziarz[:]
DESCRIPTION:
URL:https://www.amuz.krakow.pl/wydzialy/wydzial-ii-instrumentalny/katedra-organow/aktualnosci-22/xii-matinee-organowe-bartlomiej-maziarz/
ATTACH;FMTTYPE=image/jpeg:https://www.amuz.krakow.pl/wp-content/uploads/2023/02/organowy-plakat-19-02.jpg
END:VEVENT
BEGIN:VEVENT
DTSTART;TZID=Europe/Warsaw:20230219T160000
DTEND;TZID=Europe/Warsaw:20230219T160000
DTSTAMP:20260423T174620
CREATED:20230213T115759Z
LAST-MODIFIED:20230213T115759Z
UID:71121-1676822400-1676822400@www.amuz.krakow.pl
SUMMARY:[:pl]Koncert gitarowy w wykonaniu studentów AMKL we Wrocławiu[:en]Guitar concert by students from AMKL in Wrocław[:]
DESCRIPTION:
URL:https://www.amuz.krakow.pl/wydzialy/wydzial-ii-instrumentalny/katedra-gitary-i-harfy/aktualnosci-22/koncert-gitarowy-w-wykonaniu-studentow-amkl/
END:VEVENT
BEGIN:VEVENT
DTSTART;VALUE=DATE:20230220
DTEND;VALUE=DATE:20230221
DTSTAMP:20260423T174620
CREATED:20230207T102208Z
LAST-MODIFIED:20230207T102208Z
UID:70953-1676851200-1676937599@www.amuz.krakow.pl
SUMMARY:[:pl]Warsztaty menedżerskie Koła Naukowego Skrzypków (20.02\, 17.03)[:en]Management workshops of Violin Student Research Group (20.02\, 17.03)[:]
DESCRIPTION:
URL:https://www.amuz.krakow.pl/warsztaty-menedzerskie-kola-naukowego-skrzypkow/
ATTACH;FMTTYPE=image/jpeg:https://www.amuz.krakow.pl/wp-content/uploads/2023/02/warsztaty-kafelek.jpg
END:VEVENT
BEGIN:VEVENT
DTSTART;TZID=Europe/Warsaw:20230222T173000
DTEND;TZID=Europe/Warsaw:20230222T173000
DTSTAMP:20260423T174620
CREATED:20230209T122502Z
LAST-MODIFIED:20230209T122502Z
UID:71056-1677087000-1677087000@www.amuz.krakow.pl
SUMMARY:[:pl]Koncert improwizacji fortepianowej studentek specjalności rytmika[:en]Piano improvisation concert by rhytmics students[:]
DESCRIPTION:
URL:https://www.amuz.krakow.pl/wydzialy/wydzial-i-tworczosci-interpretacji-i-edukacji-muzycznej/katedra-badan-muzyczno-edukacyjnych/aktualnosci/koncert-improwizacji-fortepianowej-22-02-2023/
ATTACH;FMTTYPE=image/jpeg:https://www.amuz.krakow.pl/wp-content/uploads/2023/02/rytmiczki2023.jpg
END:VEVENT
BEGIN:VEVENT
DTSTART;TZID=Europe/Warsaw:20230224T100000
DTEND;TZID=Europe/Warsaw:20230224T100000
DTSTAMP:20260423T174620
CREATED:20230216T133259Z
LAST-MODIFIED:20231026T125831Z
UID:71276-1677232800-1677232800@www.amuz.krakow.pl
SUMMARY:[:pl]V Ogólnopolska Sesja Naukowa “Metodologia warsztatu badawczego organisty w aspekcie naukowej tradycji dawnej i nowej"[:en]5th Organ Academic Conference[:]
DESCRIPTION:
URL:https://www.amuz.krakow.pl/wydzialy/wydzial-ii-instrumentalny/katedra-organow/aktualnosci-22/metodologia-warsztatu-badawczego-organisty-w-aspekcie-naukowej-tradycji-dawnej-i-nowej/
ATTACH;FMTTYPE=image/jpeg:https://www.amuz.krakow.pl/wp-content/uploads/2023/02/organowa-konferencja-kafelek.jpg
END:VEVENT
BEGIN:VEVENT
DTSTART;TZID=Europe/Warsaw:20230225T163000
DTEND;TZID=Europe/Warsaw:20230225T163000
DTSTAMP:20260423T174620
CREATED:20230203T125958Z
LAST-MODIFIED:20230207T104154Z
UID:70884-1677342600-1677342600@www.amuz.krakow.pl
SUMMARY:[:pl]Koncert Katedry Instrumentów Dętych Drewnianych i Akordeonu[:en]Concert of Department of Woodwind and Accordion[:]
DESCRIPTION:
URL:https://www.amuz.krakow.pl/wydzialy/wydzial-ii-instrumentalny/katedra-instrumentow-detych-drewnianych-i-akordeonu-2/aktualnosci-22/koncert-katedry-instrumentow-detych-drewnianych-i-akordeonu/
ATTACH;FMTTYPE=image/jpeg:https://www.amuz.krakow.pl/wp-content/uploads/2023/02/gabrisova-A3.jpg
END:VEVENT
BEGIN:VEVENT
DTSTART;TZID=Europe/Warsaw:20230225T183000
DTEND;TZID=Europe/Warsaw:20230225T183000
DTSTAMP:20260423T174620
CREATED:20230127T130820Z
LAST-MODIFIED:20230202T101339Z
UID:70738-1677349800-1677349800@www.amuz.krakow.pl
SUMMARY:[:pl]Gala AMKP w Operze[:en]AMKP Gala in Opera[:]
DESCRIPTION:
URL:https://www.amuz.krakow.pl/wydzialy/wydzial-iii-wokalno-aktorski/pracownicy-katedry-2/aktualnosci-22/gala-amkp-w-operze-25-02-2023/
ATTACH;FMTTYPE=image/jpeg:https://www.amuz.krakow.pl/wp-content/uploads/2023/02/gala-operowa-pl.jpg
END:VEVENT
BEGIN:VEVENT
DTSTART;TZID=Europe/Warsaw:20230226T160000
DTEND;TZID=Europe/Warsaw:20230226T160000
DTSTAMP:20260423T174620
CREATED:20230222T102907Z
LAST-MODIFIED:20230222T102907Z
UID:71468-1677427200-1677427200@www.amuz.krakow.pl
SUMMARY:[:pl]Koncert gitarowy w wykonaniu studentów Akademii Muzycznej w Łodzi[:en]Guitar concert by students from the Academy of Music in Łódź[:]
DESCRIPTION:
URL:https://www.amuz.krakow.pl/wydzialy/wydzial-ii-instrumentalny/katedra-gitary-i-harfy/aktualnosci-22/koncert-gitarowy-w-wykonaniu-studentow-akademii-muzycznej-w-lodzi/
ATTACH;FMTTYPE=image/jpeg:https://www.amuz.krakow.pl/wp-content/uploads/2023/02/Plakat-26.jpg
END:VEVENT
BEGIN:VEVENT
DTSTART;TZID=Europe/Warsaw:20230226T180000
DTEND;TZID=Europe/Warsaw:20230226T180000
DTSTAMP:20260423T174620
CREATED:20220921T131041Z
LAST-MODIFIED:20221012T130329Z
UID:65769-1677434400-1677434400@www.amuz.krakow.pl
SUMMARY:[:pl]Koncert Orkiestry Dętej[:en]Wind Orchestra concert[:]
DESCRIPTION:
URL:https://www.amuz.krakow.pl/orkiestry-akademickie/orkiestra-deta/koncerty-2022-2023/koncert-orkiestry-detej-26-02-2023/
ATTACH;FMTTYPE=image/jpeg:https://www.amuz.krakow.pl/wp-content/uploads/2022/09/orkiestra-deta-kafelek.jpg
END:VEVENT
BEGIN:VEVENT
DTSTART;TZID=Europe/Warsaw:20230227T110000
DTEND;TZID=Europe/Warsaw:20230227T110000
DTSTAMP:20260423T174620
CREATED:20230210T125903Z
LAST-MODIFIED:20230210T125903Z
UID:71112-1677495600-1677495600@www.amuz.krakow.pl
SUMMARY:[:pl]Spotkanie z ekspertem: ABC pracy w orkiestrze[:en]Meet an expert: how is it to work in an orchestra[:]
DESCRIPTION:
URL:https://www.amuz.krakow.pl/spotkanie-z-ekspertem-abc-pracy-w-orkiestrze/
ATTACH;FMTTYPE=image/jpeg:https://www.amuz.krakow.pl/wp-content/uploads/2023/02/warsztaty-kafelek.jpg
END:VEVENT
BEGIN:VEVENT
DTSTART;VALUE=DATE:20230301
DTEND;VALUE=DATE:20230304
DTSTAMP:20260423T174620
CREATED:20230214T122151Z
LAST-MODIFIED:20230220T131511Z
UID:71161-1677628800-1677887999@www.amuz.krakow.pl
SUMMARY:[:pl]Mistrzowski kurs wokalny z maestrą prof. Evą Blahovą[:en]Vocal masterclass with Maestra Prof. Eva Blahova[:]
DESCRIPTION:
URL:https://www.amuz.krakow.pl/wydzialy/wydzial-iii-wokalno-aktorski/pracownicy-katedry-2/aktualnosci-22/mistrzowski-kurs-wokalny-z-maestra-prof-eva-blahova/
ATTACH;FMTTYPE=image/jpeg:https://www.amuz.krakow.pl/wp-content/uploads/2023/02/blachova.jpg
END:VEVENT
BEGIN:VEVENT
DTSTART;VALUE=DATE:20230301
DTEND;VALUE=DATE:20230304
DTSTAMP:20260423T174620
CREATED:20230220T121415Z
LAST-MODIFIED:20230220T121415Z
UID:71372-1677628800-1677887999@www.amuz.krakow.pl
SUMMARY:[:pl]Mistrzowski kurs pianistyczny z prof. Heribertem Kochem[:en]Piano masterclass with Prof. Heribert Koch[:]
DESCRIPTION:
URL:https://www.amuz.krakow.pl/wydzialy/wydzial-ii-instrumentalny/katedra-fortepianu/aktualnosci-22/mistrzowski-kurs-pianistyczny/
ATTACH;FMTTYPE=image/jpeg:https://www.amuz.krakow.pl/wp-content/uploads/2023/02/lekcej-mistrzowskie.jpg
END:VEVENT
BEGIN:VEVENT
DTSTART;VALUE=DATE:20230302
DTEND;VALUE=DATE:20230305
DTSTAMP:20260423T174620
CREATED:20230214T131348Z
LAST-MODIFIED:20231026T125522Z
UID:71165-1677715200-1677974399@www.amuz.krakow.pl
SUMMARY:[:pl]Koncerty i seminarium: perkusja post perkusja[:en]Concerts and academic meeting: percussion post percussion[:]
DESCRIPTION:
URL:https://www.amuz.krakow.pl/wydzialy/wydzial-ii-instrumentalny/katedra-perkusji-i-muzyki-wspolczesnej/aktualnosci-22/koncerty-i-seminarium-perkusja-post-perkusja/
END:VEVENT
BEGIN:VEVENT
DTSTART;TZID=Europe/Warsaw:20230303T180000
DTEND;TZID=Europe/Warsaw:20230303T180000
DTSTAMP:20260423T174620
CREATED:20230216T130316Z
LAST-MODIFIED:20230216T130316Z
UID:71255-1677866400-1677866400@www.amuz.krakow.pl
SUMMARY:[:pl]Koncert akordeonowy "Improviso in Loco"[:en]Accordion concert "Improviso in Loco"[:]
DESCRIPTION:
URL:https://www.amuz.krakow.pl/wydzialy/wydzial-ii-instrumentalny/katedra-instrumentow-detych-drewnianych-i-akordeonu-2/aktualnosci-22/improviso-in-loco/
ATTACH;FMTTYPE=image/jpeg:https://www.amuz.krakow.pl/wp-content/uploads/2023/02/Paulo-Jorge-Ferreira-—-kafelek-scaled.jpg
END:VEVENT
BEGIN:VEVENT
DTSTART;TZID=Europe/Warsaw:20230305T190000
DTEND;TZID=Europe/Warsaw:20230305T190000
DTSTAMP:20260423T174620
CREATED:20230220T115200Z
LAST-MODIFIED:20230221T100658Z
UID:71358-1678042800-1678042800@www.amuz.krakow.pl
SUMMARY:[:pl]Młodzi pianiści w AMKP - koncert[:en]Young pianists in AMKP - concert[:]
DESCRIPTION:
URL:https://www.amuz.krakow.pl/wydzialy/wydzial-ii-instrumentalny/katedra-fortepianu/aktualnosci-22/mlodzi-pianisci-w-amkp/
ATTACH;FMTTYPE=image/jpeg:https://www.amuz.krakow.pl/wp-content/uploads/2023/02/mlodzi-w-amkp.jpg
END:VEVENT
BEGIN:VEVENT
DTSTART;VALUE=DATE:20230306
DTEND;VALUE=DATE:20230307
DTSTAMP:20260423T174620
CREATED:20230220T125718Z
LAST-MODIFIED:20231026T125821Z
UID:71377-1678060800-1678147199@www.amuz.krakow.pl
SUMMARY:[:pl]Muzyka ukraińska - sesja naukowa i koncert[:en]Ukrainian music - academic meeting and concert[:]
DESCRIPTION:
URL:https://www.amuz.krakow.pl/wydzialy/wydzial-ii-instrumentalny/katedra-fortepianu/aktualnosci-22/muzyka-ukrainska/
ATTACH;FMTTYPE=image/jpeg:https://www.amuz.krakow.pl/wp-content/uploads/2023/02/muzyka-ukrainska.jpg
END:VEVENT
BEGIN:VEVENT
DTSTART;TZID=Europe/Warsaw:20230306T090000
DTEND;TZID=Europe/Warsaw:20230306T143000
DTSTAMP:20260423T174620
CREATED:20230214T111206Z
LAST-MODIFIED:20230214T113600Z
UID:71145-1678093200-1678113000@www.amuz.krakow.pl
SUMMARY:[:pl]Ciało i emocje. Podstawy psychoterapii tańcem i ruchem - warsztaty[:en]Body and emotions. Basics of Dance Movement Psychotherapy - workshops[:]
DESCRIPTION:
URL:https://www.amuz.krakow.pl/wydzialy/wydzial-i-tworczosci-interpretacji-i-edukacji-muzycznej/katedra-badan-muzyczno-edukacyjnych/aktualnosci/cialo-i-emocje-podstawy-psychoterapii-tancem-i-ruchem/
ATTACH;FMTTYPE=image/jpeg:https://www.amuz.krakow.pl/wp-content/uploads/2023/02/warsztaty-kafelek.jpg
END:VEVENT
BEGIN:VEVENT
DTSTART;TZID=Europe/Warsaw:20230307T090000
DTEND;TZID=Europe/Warsaw:20230307T123000
DTSTAMP:20260423T174620
CREATED:20230222T114142Z
LAST-MODIFIED:20230222T114142Z
UID:71504-1678179600-1678192200@www.amuz.krakow.pl
SUMMARY:[:pl]Warsztaty "Konnakol - indyjski system rytmu i jego zastosowanie w podziałach rytmicznych"[:en]Workshops "Konnakol - Indian rythm language and its usage in rhythmis divisions"[:]
DESCRIPTION:
URL:https://www.amuz.krakow.pl/wydzialy/wydzial-i-tworczosci-interpretacji-i-edukacji-muzycznej/katedra-badan-muzyczno-edukacyjnych/aktualnosci/warsztaty-konnakol/
ATTACH;FMTTYPE=image/jpeg:https://www.amuz.krakow.pl/wp-content/uploads/2023/02/warsztaty-kafelek.jpg
END:VEVENT
BEGIN:VEVENT
DTSTART;TZID=Europe/Warsaw:20230309T110000
DTEND;TZID=Europe/Warsaw:20230309T110000
DTSTAMP:20260423T174620
CREATED:20230302T083229Z
LAST-MODIFIED:20230302T083229Z
UID:71831-1678359600-1678359600@www.amuz.krakow.pl
SUMMARY:[:pl]Koncert klasy oboju prof. Marka Mleczki połączony z prezentacją nowego oboju firmy Orlowski[:en]Concert of the oboe class of prof. Marek Mleczko\, with the presentation of the new oboe by Orlowski[:]
DESCRIPTION:
URL:https://www.amuz.krakow.pl/wydzialy/wydzial-ii-instrumentalny/katedra-instrumentow-detych-drewnianych-i-akordeonu-2/aktualnosci-22/koncert-klasy-oboju/
ATTACH;FMTTYPE=image/jpeg:https://www.amuz.krakow.pl/wp-content/uploads/2023/01/koncert-5.jpg
END:VEVENT
BEGIN:VEVENT
DTSTART;VALUE=DATE:20230310
DTEND;VALUE=DATE:20230312
DTSTAMP:20260423T174620
CREATED:20230222T115430Z
LAST-MODIFIED:20230227T113404Z
UID:71508-1678406400-1678579199@www.amuz.krakow.pl
SUMMARY:[:pl]10. edycja ELEMENTI - "Potencjalność"[:en]10th edition of ELEMENTI - "Potentiality"[:]
DESCRIPTION:
URL:https://www.amuz.krakow.pl/wydzialy/wydzial-i-tworczosci-interpretacji-i-edukacji-muzycznej/katedra-teorii-i-interpretacji-dziela-muzycznego/aktualnosci/10-edycja-elementi-potencjalnosc/
ATTACH;FMTTYPE=image/jpeg:https://www.amuz.krakow.pl/wp-content/uploads/2023/02/elementi-10-kafel.jpg
END:VEVENT
BEGIN:VEVENT
DTSTART;TZID=Europe/Warsaw:20230310T180000
DTEND;TZID=Europe/Warsaw:20230310T180000
DTSTAMP:20260423T174620
CREATED:20230224T134651Z
LAST-MODIFIED:20230224T134651Z
UID:71650-1678471200-1678471200@www.amuz.krakow.pl
SUMMARY:[:pl]Koncert "Przedwiośnie Młodych"[:en]"Early Spring of Youth" concert[:]
DESCRIPTION:
URL:https://www.amuz.krakow.pl/koncert-przedwiosnie-mlodych/
ATTACH;FMTTYPE=image/jpeg:https://www.amuz.krakow.pl/wp-content/uploads/2023/02/przedwosnie-mlodych.jpg
END:VEVENT
BEGIN:VEVENT
DTSTART;TZID=Europe/Warsaw:20230311T180000
DTEND;TZID=Europe/Warsaw:20230311T180000
DTSTAMP:20260423T174620
CREATED:20230227T123156Z
LAST-MODIFIED:20230227T123156Z
UID:71687-1678557600-1678557600@www.amuz.krakow.pl
SUMMARY:[:pl]Koncert "La Catedral"[:en]Concert "La Catedral"[:]
DESCRIPTION:
URL:https://www.amuz.krakow.pl/koncert-la-catedral/
ATTACH;FMTTYPE=image/jpeg:https://www.amuz.krakow.pl/wp-content/uploads/2023/01/koncert-5.jpg
END:VEVENT
BEGIN:VEVENT
DTSTART;VALUE=DATE:20230312
DTEND;VALUE=DATE:20230319
DTSTAMP:20260423T174620
CREATED:20230210T115405Z
LAST-MODIFIED:20230301T114802Z
UID:71087-1678579200-1679183999@www.amuz.krakow.pl
SUMMARY:[:pl]10. Festiwal Krakowska Wiosna Wiolonczelowa - 12-18 marca 2023 // 10th Krakow Cello Spring Festival - 12-18 March 2023[:en]10th Krakow Cello Spring Festival - 12-18 March 2023[:]
DESCRIPTION:
URL:https://www.amuz.krakow.pl/wydzialy/wydzial-ii-instrumentalny/katedra-wiolonczeli-i-kontrabasu/aktualnosci-22/10-krakowska-wiosna-wiolonczelowa/
ATTACH;FMTTYPE=image/jpeg:https://www.amuz.krakow.pl/wp-content/uploads/2023/02/KWW-10.jpg
END:VEVENT
BEGIN:VEVENT
DTSTART;TZID=Europe/Warsaw:20230315T100000
DTEND;TZID=Europe/Warsaw:20230315T120000
DTSTAMP:20260423T174620
CREATED:20230308T142321Z
LAST-MODIFIED:20230308T142321Z
UID:72057-1678874400-1678881600@www.amuz.krakow.pl
SUMMARY:[:pl]Warsztat BHP dla pianistów i kompozytorów[:en]Workshops on health and safety at work for pianists and composers[:]
DESCRIPTION:
URL:https://www.amuz.krakow.pl/wydzialy/wydzial-ii-instrumentalny/katedra-perkusji-i-muzyki-wspolczesnej/aktualnosci-22/warsztat-bhp-dla-pianistow-i-kompozytorow/
ATTACH;FMTTYPE=image/jpeg:https://www.amuz.krakow.pl/wp-content/uploads/2023/03/warszataty-plakat1.jpg
END:VEVENT
BEGIN:VEVENT
DTSTART;VALUE=DATE:20230319
DTEND;VALUE=DATE:20230327
DTSTAMP:20260423T174620
CREATED:20230301T114205Z
LAST-MODIFIED:20230301T114728Z
UID:71790-1679184000-1679875199@www.amuz.krakow.pl
SUMMARY:[:pl]IX Międzynarodowy Konkurs Fletowy Kraków 2023 - 19-26 marca 2023 // 9th International Flute Competition Kraków 2023 - 19-26 March 2023[:en]9th International Flute Competition Kraków 2023 - 19-26 March 2023[:]
DESCRIPTION:
URL:https://konkursfletowy.krakow.pl/
ATTACH;FMTTYPE=image/jpeg:https://www.amuz.krakow.pl/wp-content/uploads/2021/01/Miedzynarodowy-Konkurs-Fletowy.jpg
END:VEVENT
BEGIN:VEVENT
DTSTART;TZID=Europe/Warsaw:20230319T133000
DTEND;TZID=Europe/Warsaw:20230319T133000
DTSTAMP:20260423T174620
CREATED:20230227T125729Z
LAST-MODIFIED:20230227T125729Z
UID:71695-1679232600-1679232600@www.amuz.krakow.pl
SUMMARY:[:pl]XIII Organowe Matinée - Zofia Rogalska i Filip Konieczny[:en]13th Organ Matinée - Zofia Rogalska and Filip Konieczny[:]
DESCRIPTION:
URL:https://www.amuz.krakow.pl/wydzialy/wydzial-ii-instrumentalny/katedra-organow/aktualnosci-22/xiii-organowe-matinee-zofia-rogalska-filip-konieczny/
ATTACH;FMTTYPE=image/jpeg:https://www.amuz.krakow.pl/wp-content/uploads/2022/04/organowy-matinee-www.jpg
END:VEVENT
END:VCALENDAR