BEGIN:VCALENDAR
VERSION:2.0
PRODID:-//Akademia Muzyczna im. Krzysztofa Pendereckiego w Krakowie - ECPv6.15.20//NONSGML v1.0//EN
CALSCALE:GREGORIAN
METHOD:PUBLISH
X-ORIGINAL-URL:https://www.amuz.krakow.pl
X-WR-CALDESC:Wydarzenia dla Akademia Muzyczna im. Krzysztofa Pendereckiego w Krakowie
REFRESH-INTERVAL;VALUE=DURATION:PT1H
X-Robots-Tag:noindex
X-PUBLISHED-TTL:PT1H
BEGIN:VTIMEZONE
TZID:Europe/Warsaw
BEGIN:DAYLIGHT
TZOFFSETFROM:+0100
TZOFFSETTO:+0200
TZNAME:CEST
DTSTART:20210328T010000
END:DAYLIGHT
BEGIN:STANDARD
TZOFFSETFROM:+0200
TZOFFSETTO:+0100
TZNAME:CET
DTSTART:20211031T010000
END:STANDARD
BEGIN:DAYLIGHT
TZOFFSETFROM:+0100
TZOFFSETTO:+0200
TZNAME:CEST
DTSTART:20220327T010000
END:DAYLIGHT
BEGIN:STANDARD
TZOFFSETFROM:+0200
TZOFFSETTO:+0100
TZNAME:CET
DTSTART:20221030T010000
END:STANDARD
BEGIN:DAYLIGHT
TZOFFSETFROM:+0100
TZOFFSETTO:+0200
TZNAME:CEST
DTSTART:20230326T010000
END:DAYLIGHT
BEGIN:STANDARD
TZOFFSETFROM:+0200
TZOFFSETTO:+0100
TZNAME:CET
DTSTART:20231029T010000
END:STANDARD
END:VTIMEZONE
BEGIN:VEVENT
DTSTART;TZID=Europe/Warsaw:20221103T100000
DTEND;TZID=Europe/Warsaw:20221103T140000
DTSTAMP:20260423T224057
CREATED:20221010T142655Z
LAST-MODIFIED:20221014T132212Z
UID:66402-1667469600-1667484000@www.amuz.krakow.pl
SUMMARY:[:pl]Sesja naukowa w ramach festiwalu "Zaduszki Organowe" im. prof. J. Jargonia[:en]Academic meeting as part of the prof. J. Jargoń “All Souls’ Day Organ Meeting”[:]
DESCRIPTION:
URL:https://www.amuz.krakow.pl/wydzialy/wydzial-ii-instrumentalny/katedra-organow/aktualnosci-22/zaduszki-organowe/
ATTACH;FMTTYPE=image/jpeg:https://www.amuz.krakow.pl/wp-content/uploads/2022/10/KFK2022_ZO_B1_PP_page-0001-scaled.jpg
END:VEVENT
BEGIN:VEVENT
DTSTART;TZID=Europe/Warsaw:20221105T160000
DTEND;TZID=Europe/Warsaw:20221105T160000
DTSTAMP:20260423T224057
CREATED:20221024T114159Z
LAST-MODIFIED:20221026T124248Z
UID:67119-1667664000-1667664000@www.amuz.krakow.pl
SUMMARY:[:pl]Stefański 1917-1982. Wieczór wspomnień prof. Ludwika Stefańskiego[:en]Stefański 1917-1982. Memorial evening for Professor Ludwik Stefański[:]
DESCRIPTION:
URL:https://www.amuz.krakow.pl/wydzialy/wydzial-ii-instrumentalny/katedra-fortepianu/aktualnosci-22/wieczor-wspomnien-prof-stefanskiego-5-11-2022/
ATTACH;FMTTYPE=image/jpeg:https://www.amuz.krakow.pl/wp-content/uploads/2022/10/stefanski-ok.jpg
END:VEVENT
BEGIN:VEVENT
DTSTART;TZID=Europe/Warsaw:20221107T170000
DTEND;TZID=Europe/Warsaw:20221107T170000
DTSTAMP:20260423T224057
CREATED:20221025T101155Z
LAST-MODIFIED:20221025T120344Z
UID:67157-1667840400-1667840400@www.amuz.krakow.pl
SUMMARY:[:pl]#Szymanowski_2022 - koncert wokalny[:en]#Szymanowski_2022 - vocal concert[:]
DESCRIPTION:
URL:https://www.amuz.krakow.pl/wydzialy/wydzial-iii-wokalno-aktorski/pracownicy-katedry-2/aktualnosci-22/szymanowski_2022-7-11-2022/
ATTACH;FMTTYPE=image/jpeg:https://www.amuz.krakow.pl/wp-content/uploads/2022/10/szymanowski-2022.jpg
END:VEVENT
BEGIN:VEVENT
DTSTART;TZID=Europe/Warsaw:20221107T190000
DTEND;TZID=Europe/Warsaw:20221107T203000
DTSTAMP:20260423T224057
CREATED:20221010T142751Z
LAST-MODIFIED:20221014T132140Z
UID:66414-1667847600-1667853000@www.amuz.krakow.pl
SUMMARY:[:pl]Koncert w ramach festiwalu “Zaduszki Organowe” im. prof. J. Jargonia[:en]Concert as part of the prof. J. Jargoń “All Souls’ Day Organ Meeting”[:]
DESCRIPTION:
URL:https://www.amuz.krakow.pl/wydzialy/wydzial-ii-instrumentalny/katedra-organow/aktualnosci-22/zaduszki-organowe/
ATTACH;FMTTYPE=image/jpeg:https://www.amuz.krakow.pl/wp-content/uploads/2022/10/KFK2022_ZO_B1_PP_page-0001-scaled.jpg
END:VEVENT
BEGIN:VEVENT
DTSTART;TZID=Europe/Warsaw:20221108T100000
DTEND;TZID=Europe/Warsaw:20221108T183000
DTSTAMP:20260423T224057
CREATED:20221014T124057Z
LAST-MODIFIED:20221014T124057Z
UID:66716-1667901600-1667932200@www.amuz.krakow.pl
SUMMARY:[:pl]Sesja naukowa "Muzyka wobec poezji i nauczania Karola Wojtyły i Jana Pawła II"[:en]Academic meeting "Music in relation to poetry and teaching of Karol Wojtyła and John Paul II"[:]
DESCRIPTION:
URL:https://www.amuz.krakow.pl/wydzialy/wydzial-i-tworczosci-interpretacji-i-edukacji-muzycznej/katedra-teorii-i-interpretacji-dziela-muzycznego/aktualnosci/sesja-naukowa-8-11-2022/
END:VEVENT
BEGIN:VEVENT
DTSTART;TZID=Europe/Warsaw:20221108T193000
DTEND;TZID=Europe/Warsaw:20221108T193000
DTSTAMP:20260423T224057
CREATED:20221027T131436Z
LAST-MODIFIED:20221027T131436Z
UID:67244-1667935800-1667935800@www.amuz.krakow.pl
SUMMARY:[:pl]Sacrum Profanum: Interakcje - koncert zespołu Synaesthesis[:en]Sacrum Profanum: Interactions - Synaesthesis concert[:]
DESCRIPTION:
URL:https://www.amuz.krakow.pl/wydzialy/wydzial-i-tworczosci-interpretacji-i-edukacji-muzycznej/katedra-kompozycji/aktualnosci22/sacrum-profanum-interakcje-8-11-2022/
ATTACH;FMTTYPE=image/jpeg:https://www.amuz.krakow.pl/wp-content/uploads/2022/10/Plakat-B1-680x980-mm-5-mm-spadu_Syanesthesis_-scaled.jpg
END:VEVENT
BEGIN:VEVENT
DTSTART;TZID=Europe/Warsaw:20221109T193000
DTEND;TZID=Europe/Warsaw:20221109T193000
DTSTAMP:20260423T224057
CREATED:20220902T113408Z
LAST-MODIFIED:20221018T105259Z
UID:65159-1668022200-1668022200@www.amuz.krakow.pl
SUMMARY:[:pl]Koncert Orkiestry Kameralnej i Chóru AMKP w ramach XVII Dni Jana Pawła II[:en]Concert of AMKP Choir and AMKP Chamber Orchestra as part of 17th Days of John Paul II[:]
DESCRIPTION:
URL:https://www.amuz.krakow.pl/orkiestry-akademickie/orkiestra-kameralna/koncerty-2022-2023/koncert-orkiestry-kameralnej-i-choru-9-11-22/
ATTACH;FMTTYPE=image/jpeg:https://www.amuz.krakow.pl/wp-content/uploads/2022/10/kafelki-na-web-chor-kamrl.jpg
END:VEVENT
BEGIN:VEVENT
DTSTART;VALUE=DATE:20221112
DTEND;VALUE=DATE:20221113
DTSTAMP:20260423T224057
CREATED:20221020T121349Z
LAST-MODIFIED:20221020T121349Z
UID:67054-1668211200-1668297599@www.amuz.krakow.pl
SUMMARY:[:pl]Kursy dla studentów dyrygentury z profesjonalną orkiestrą[:en]Workshops for students of conducting with a professional orchestra[:]
DESCRIPTION:
URL:https://www.amuz.krakow.pl/wydzialy/wydzial-i-tworczosci-interpretacji-i-edukacji-muzycznej/katedra-dyrygentury/aktualnosci/warsztaty-12-11-2022/
END:VEVENT
BEGIN:VEVENT
DTSTART;VALUE=DATE:20221113
DTEND;VALUE=DATE:20221117
DTSTAMP:20260423T224057
CREATED:20221017T102226Z
LAST-MODIFIED:20221103T125345Z
UID:66791-1668297600-1668643199@www.amuz.krakow.pl
SUMMARY:[:pl]Sesja naukowa: "Kultura organowa siedemnastowiecznych Węgier"[:en]Academic conference: "The Organ Culture of Hungary in the Seventeenth Century"[:]
DESCRIPTION:
URL:https://www.amuz.krakow.pl/wydzialy/wydzial-ii-instrumentalny/katedra-organow/aktualnosci-22/sesja-naukowa-13-16-11-2022/
ATTACH;FMTTYPE=image/jpeg:https://www.amuz.krakow.pl/wp-content/uploads/2022/10/organ-culture2.jpg
END:VEVENT
BEGIN:VEVENT
DTSTART;TZID=Europe/Warsaw:20221113T110000
DTEND;TZID=Europe/Warsaw:20221113T170000
DTSTAMP:20260423T224057
CREATED:20221025T115741Z
LAST-MODIFIED:20221104T111146Z
UID:67163-1668337200-1668358800@www.amuz.krakow.pl
SUMMARY:[:pl]Idea kompozytorska a idiom instrumentalny - pole wspólne\, czy pole konfliktu?[:en]Composition ideas and instrumental idioms - common or conflict areas?[:]
DESCRIPTION:
URL:https://www.amuz.krakow.pl/wydzialy/wydzial-ii-instrumentalny/katedra-gitary-i-harfy/aktualnosci-22/sesja-artystyczno-naukowa-kompozytor-wykonawca-13-11-2022/
ATTACH;FMTTYPE=image/jpeg:https://www.amuz.krakow.pl/wp-content/uploads/2022/11/gitara-kkonferencja-final.jpg
END:VEVENT
BEGIN:VEVENT
DTSTART;TZID=Europe/Warsaw:20221113T180000
DTEND;TZID=Europe/Warsaw:20221113T180000
DTSTAMP:20260423T224057
CREATED:20221104T123901Z
LAST-MODIFIED:20221109T125905Z
UID:67432-1668362400-1668362400@www.amuz.krakow.pl
SUMMARY:[:pl]Koncert "Na dworze Fryderyka Wielkiego"[:en]"At the court of Frederick the Great" - concert[:]
DESCRIPTION:
URL:https://www.amuz.krakow.pl/wydzialy/wydzial-ii-instrumentalny/katedra-muzyki-dawnej/aktualnosci-22/koncert-na-dworze-fryderyka-wielkiego-13-11-2022/
ATTACH;FMTTYPE=image/jpeg:https://www.amuz.krakow.pl/wp-content/uploads/2022/11/dwor-wielkiego.jpg
END:VEVENT
BEGIN:VEVENT
DTSTART;VALUE=DATE:20221115
DTEND;VALUE=DATE:20221117
DTSTAMP:20260423T224057
CREATED:20221028T111721Z
LAST-MODIFIED:20221109T124638Z
UID:67259-1668470400-1668643199@www.amuz.krakow.pl
SUMMARY:[:pl]Music & Freedom. Polsko-litewska sesja naukowa[:en]Music & Freedom. Polish-Lithuanian conference[:]
DESCRIPTION:
URL:https://www.amuz.krakow.pl/wydzialy/wydzial-i-tworczosci-interpretacji-i-edukacji-muzycznej/katedra-teorii-i-interpretacji-dziela-muzycznego/aktualnosci/music-and-freedom/
ATTACH;FMTTYPE=image/jpeg:https://www.amuz.krakow.pl/wp-content/uploads/2022/11/freedom-2022.jpg
END:VEVENT
BEGIN:VEVENT
DTSTART;VALUE=DATE:20221115
DTEND;VALUE=DATE:20221118
DTSTAMP:20260423T224057
CREATED:20221024T125941Z
LAST-MODIFIED:20221024T125941Z
UID:67127-1668470400-1668729599@www.amuz.krakow.pl
SUMMARY:[:pl]Metodyka nauczania polskich tańców narodowych oraz ludowych - warsztaty[:en]Methodology of teaching Polish national and folk dances - workshops[:]
DESCRIPTION:
URL:https://www.amuz.krakow.pl/wydzialy/wydzial-i-tworczosci-interpretacji-i-edukacji-muzycznej/katedra-badan-muzyczno-edukacyjnych/aktualnosci/metodyka-nauczania-polskich-tancow/
END:VEVENT
BEGIN:VEVENT
DTSTART;TZID=Europe/Warsaw:20221116T180000
DTEND;TZID=Europe/Warsaw:20221116T180000
DTSTAMP:20260423T224057
CREATED:20221028T112044Z
LAST-MODIFIED:20221109T124559Z
UID:67269-1668621600-1668621600@www.amuz.krakow.pl
SUMMARY:[:pl]Music & Freedom - koncert[:en]Music & Freedom - concert[:]
DESCRIPTION:
URL:https://www.amuz.krakow.pl/wydzialy/wydzial-i-tworczosci-interpretacji-i-edukacji-muzycznej/katedra-teorii-i-interpretacji-dziela-muzycznego/aktualnosci/music-and-freedom/
ATTACH;FMTTYPE=image/jpeg:https://www.amuz.krakow.pl/wp-content/uploads/2022/11/freedom-2022-web.jpg
END:VEVENT
BEGIN:VEVENT
DTSTART;TZID=Europe/Warsaw:20221117T180000
DTEND;TZID=Europe/Warsaw:20221117T180000
DTSTAMP:20260423T224057
CREATED:20221020T123442Z
LAST-MODIFIED:20221110T133142Z
UID:67061-1668708000-1668708000@www.amuz.krakow.pl
SUMMARY:[:pl]I koncert z okazji 225. rocznicy urodzin Franza Schuberta[:en]1st concert on occasion of Franz Schubert 225th birth anniversary[:]
DESCRIPTION:
URL:https://www.amuz.krakow.pl/wydzialy/wydzial-ii-instrumentalny/katedra-skrzypiec-i-altowki/aktualnosci-22/koncerty-225-rocznica-urodzin-schuberta/
ATTACH;FMTTYPE=image/jpeg:https://www.amuz.krakow.pl/wp-content/uploads/2022/11/schubert.jpg
END:VEVENT
BEGIN:VEVENT
DTSTART;TZID=Europe/Warsaw:20221117T200000
DTEND;TZID=Europe/Warsaw:20221117T200000
DTSTAMP:20260423T224057
CREATED:20221024T131500Z
LAST-MODIFIED:20221024T131500Z
UID:67141-1668715200-1668715200@www.amuz.krakow.pl
SUMMARY:[:pl]Koncert studentów Klasy Perkusji[:en]Concert of the Percussion class students[:]
DESCRIPTION:
URL:https://www.amuz.krakow.pl/wydzialy/wydzial-ii-instrumentalny/katedra-perkusji-i-muzyki-wspolczesnej/aktualnosci-22/koncert-studentow-klasy-perkusji-17-11-2022/
ATTACH;FMTTYPE=image/jpeg:https://www.amuz.krakow.pl/wp-content/uploads/2022/05/koncert-1.jpg
END:VEVENT
BEGIN:VEVENT
DTSTART;VALUE=DATE:20221118
DTEND;VALUE=DATE:20221128
DTSTAMP:20260423T224057
CREATED:20221109T123945Z
LAST-MODIFIED:20221110T114756Z
UID:67632-1668729600-1669593599@www.amuz.krakow.pl
SUMMARY:[:pl]30. edycja Festiwalu Audio Art    __________________________________________________________________________________________________________   Audio Art[:en]Audio Art Festival - 30th edition     _____________________________________________________________________________________________________________   Audio Art[:]
DESCRIPTION:
URL:https://www.amuz.krakow.pl/wydzialy/wydzial-i-tworczosci-interpretacji-i-edukacji-muzycznej/katedra-kompozycji/aktualnosci22/30-edycja-festiwalu-audio-art/
ATTACH;FMTTYPE=image/png:https://www.amuz.krakow.pl/wp-content/uploads/2022/11/AA2022_www_kafelek_850x425.png
END:VEVENT
BEGIN:VEVENT
DTSTART;TZID=Europe/Warsaw:20221118T190000
DTEND;TZID=Europe/Warsaw:20221119T190000
DTSTAMP:20260423T224057
CREATED:20221104T121725Z
LAST-MODIFIED:20231026T125938Z
UID:67426-1668798000-1668884400@www.amuz.krakow.pl
SUMMARY:[:pl]Tribute to Paderewski. Muzyczne wspomnienie - sesja naukowa i dwa koncerty[:en]Tribute to Paderewski. Musical memory - academic meeting and two concerts[:]
DESCRIPTION:
URL:https://www.amuz.krakow.pl/wydzialy/wydzial-ii-instrumentalny/katedra-fortepianu/aktualnosci-22/tribute-to-paderewski-18-19-11-2022/
ATTACH;FMTTYPE=image/jpeg:https://www.amuz.krakow.pl/wp-content/uploads/2022/11/paderewski-scaled.jpg
END:VEVENT
BEGIN:VEVENT
DTSTART;TZID=Europe/Warsaw:20221119T160000
DTEND;TZID=Europe/Warsaw:20221119T160000
DTSTAMP:20260423T224057
CREATED:20221025T133013Z
LAST-MODIFIED:20221110T132157Z
UID:67185-1668873600-1668873600@www.amuz.krakow.pl
SUMMARY:[:pl]Koncert w ramach jubileuszu 50-lecia Katedry Kameralistyki[:en]Concert as a part of the 50th anniversary of Chamber Music Department[:]
DESCRIPTION:
URL:https://www.amuz.krakow.pl/wydzialy/wydzial-ii-instrumentalny/katedra-kameralistyki/aktualnosci-22/koncert-w-ramach-jubileuszu-50-lecia-katedry-kameralistyki-19-11-2022/
ATTACH;FMTTYPE=image/jpeg:https://www.amuz.krakow.pl/wp-content/uploads/2022/04/kameralisrtyka-web2.jpg
END:VEVENT
BEGIN:VEVENT
DTSTART;TZID=Europe/Warsaw:20221120T133000
DTEND;TZID=Europe/Warsaw:20221120T133000
DTSTAMP:20260423T224057
CREATED:20221020T124651Z
LAST-MODIFIED:20221020T124651Z
UID:67077-1668951000-1668951000@www.amuz.krakow.pl
SUMMARY:[:pl]IX Organowe Matinée - Hanna Zalewska[:en]9th Organ Matinée - Hanna Zalewska[:]
DESCRIPTION:
URL:https://www.amuz.krakow.pl/wydzialy/wydzial-ii-instrumentalny/katedra-organow/aktualnosci-22/ix-organowe-matinee-hanna-zalewska-20-11-2022/
ATTACH;FMTTYPE=image/jpeg:https://www.amuz.krakow.pl/wp-content/uploads/2022/04/organowy-matinee-www.jpg
END:VEVENT
BEGIN:VEVENT
DTSTART;TZID=Europe/Warsaw:20221120T160000
DTEND;TZID=Europe/Warsaw:20221120T160000
DTSTAMP:20260423T224057
CREATED:20221109T110353Z
LAST-MODIFIED:20221109T110353Z
UID:67616-1668960000-1668960000@www.amuz.krakow.pl
SUMMARY:[:pl]Wieczór patriotyczny "Spotkajmy się u Paderewskiego"[:en]Patriotic evening "Meeting at Paderewski's"[:]
DESCRIPTION:
URL:https://www.amuz.krakow.pl/wieczor-patriotyczny-20-11-2022/
ATTACH;FMTTYPE=image/jpeg:https://www.amuz.krakow.pl/wp-content/uploads/2022/11/Spotkajmy-sie-plakat-2022_popr-scaled.jpg
END:VEVENT
BEGIN:VEVENT
DTSTART;TZID=Europe/Warsaw:20221120T190000
DTEND;TZID=Europe/Warsaw:20221120T190000
DTSTAMP:20260423T224057
CREATED:20220902T105517Z
LAST-MODIFIED:20220907T075705Z
UID:65144-1668970800-1668970800@www.amuz.krakow.pl
SUMMARY:[:pl]Koncert Orkiestry Symfonicznej[:en]Symphony Orchestra concert[:]
DESCRIPTION:
URL:https://www.amuz.krakow.pl/koncert-orkiestry-symfonicznej-20-11-22/
ATTACH;FMTTYPE=image/jpeg:https://www.amuz.krakow.pl/wp-content/uploads/2022/09/orkiestra-symfoniczna-kafelek.jpg
END:VEVENT
BEGIN:VEVENT
DTSTART;VALUE=DATE:20221121
DTEND;VALUE=DATE:20221123
DTSTAMP:20260423T224057
CREATED:20221115T130033Z
LAST-MODIFIED:20221115T130033Z
UID:67794-1668988800-1669161599@www.amuz.krakow.pl
SUMMARY:[:pl]Peter-Jan Wagemans w AMKP - koncert i warsztaty[:en]Peter-Jan Wagemans at AMKP - concert and workshops[:]
DESCRIPTION:
URL:https://www.amuz.krakow.pl/wydzialy/wydzial-i-tworczosci-interpretacji-i-edukacji-muzycznej/katedra-kompozycji/aktualnosci22/peter-jan-wagemans-w-amkp/
END:VEVENT
BEGIN:VEVENT
DTSTART;TZID=Europe/Warsaw:20221123T180000
DTEND;TZID=Europe/Warsaw:20221123T180000
DTSTAMP:20260423T224057
CREATED:20221110T124445Z
LAST-MODIFIED:20221110T132141Z
UID:67698-1669226400-1669226400@www.amuz.krakow.pl
SUMMARY:[:pl]Koncert w ramach jubileuszu 50-lecia Katedry Kameralistyki[:en]Concert as a part of the 50th anniversary of Chamber Music Department[:]
DESCRIPTION:
URL:https://www.amuz.krakow.pl/wydzialy/wydzial-ii-instrumentalny/katedra-kameralistyki/aktualnosci-22/50-lecie-katedry-kameralistyki-23-11-2022/
ATTACH;FMTTYPE=image/jpeg:https://www.amuz.krakow.pl/wp-content/uploads/2021/12/kameralisrtyka-na-luty.jpg
END:VEVENT
BEGIN:VEVENT
DTSTART;TZID=Europe/Warsaw:20221123T190000
DTEND;TZID=Europe/Warsaw:20221123T190000
DTSTAMP:20260423T224057
CREATED:20221121T131101Z
LAST-MODIFIED:20221121T131101Z
UID:68512-1669230000-1669230000@www.amuz.krakow.pl
SUMMARY:[:pl]Ad libitum – audycja studentów Wydziału Wokalno-Aktorskiego[:en]Ad libitum - concert of students from Voice and Drama Faculty[:]
DESCRIPTION:
URL:https://www.amuz.krakow.pl/wydzialy/wydzial-iii-wokalno-aktorski/pracownicy-katedry-2/aktualnosci-22/ad-libitum-1/
ATTACH;FMTTYPE=image/png:https://www.amuz.krakow.pl/wp-content/uploads/2022/11/AdLibitum.png
END:VEVENT
BEGIN:VEVENT
DTSTART;VALUE=DATE:20221124
DTEND;VALUE=DATE:20221127
DTSTAMP:20260423T224057
CREATED:20221115T145917Z
LAST-MODIFIED:20221116T103551Z
UID:67839-1669248000-1669507199@www.amuz.krakow.pl
SUMMARY:[:pl]Na drodze do nowej harmonii VI „Źródła\, inspiracje\, konteksty. Literatura solowa i kameralna na instrumenty dęte drewniane i akordeon”[:en]On the way to new harmony - 6th edition[:]
DESCRIPTION:
URL:https://www.amuz.krakow.pl/wydzialy/wydzial-ii-instrumentalny/katedra-instrumentow-detych-drewnianych-i-akordeonu-2/aktualnosci-22/na-drodze-do-nowej-harmonii-vi/
END:VEVENT
BEGIN:VEVENT
DTSTART;TZID=Europe/Warsaw:20221124T200000
DTEND;TZID=Europe/Warsaw:20221124T200000
DTSTAMP:20260423T224057
CREATED:20221115T134800Z
LAST-MODIFIED:20221115T134800Z
UID:67812-1669320000-1669320000@www.amuz.krakow.pl
SUMMARY:[:pl]Koncert skandynawskiego zespołu I.P.A[:en]Concert of I.P.A.\, the Scandinavian jazzband[:]
DESCRIPTION:
URL:https://www.amuz.krakow.pl/wydzialy/wydzial-ii-instrumentalny/katedra-jazzu/aktualnosci-22/koncert-i-p-a-24-11-2022/
ATTACH;FMTTYPE=image/jpeg:https://www.amuz.krakow.pl/wp-content/uploads/2022/11/Zdjecie-IPA-kafelek.jpg
END:VEVENT
BEGIN:VEVENT
DTSTART;TZID=Europe/Warsaw:20221127T130000
DTEND;TZID=Europe/Warsaw:20221127T130000
DTSTAMP:20260423T224057
CREATED:20221019T103329Z
LAST-MODIFIED:20221116T110452Z
UID:66881-1669554000-1669554000@www.amuz.krakow.pl
SUMMARY:[:pl]Koncert w ramach projektu "Mosty"[:en]Concert as part of the "Bridges" project[:]
DESCRIPTION:
URL:https://www.amuz.krakow.pl/wydzialy/wydzial-i-tworczosci-interpretacji-i-edukacji-muzycznej/katedra-teorii-i-interpretacji-dziela-muzycznego/aktualnosci/mosty-27-11-2022/
ATTACH;FMTTYPE=image/jpeg:https://www.amuz.krakow.pl/wp-content/uploads/2022/11/mosty-web.jpg
END:VEVENT
BEGIN:VEVENT
DTSTART;TZID=Europe/Warsaw:20221129T180000
DTEND;TZID=Europe/Warsaw:20221129T180000
DTSTAMP:20260423T224057
CREATED:20221020T123626Z
LAST-MODIFIED:20221110T133334Z
UID:67066-1669744800-1669744800@www.amuz.krakow.pl
SUMMARY:[:pl]II koncert z okazji 225. rocznicy urodzin Franza Schuberta[:en]2nd concert on occasion of Franz Schubert 225th birth anniversary[:]
DESCRIPTION:
URL:https://www.amuz.krakow.pl/wydzialy/wydzial-ii-instrumentalny/katedra-skrzypiec-i-altowki/aktualnosci-22/koncerty-225-rocznica-urodzin-schuberta/
ATTACH;FMTTYPE=image/jpeg:https://www.amuz.krakow.pl/wp-content/uploads/2022/11/schubert-web.jpg
END:VEVENT
BEGIN:VEVENT
DTSTART;TZID=Europe/Warsaw:20221201T100000
DTEND;TZID=Europe/Warsaw:20221201T100000
DTSTAMP:20260423T224057
CREATED:20221124T131622Z
LAST-MODIFIED:20231026T125930Z
UID:68668-1669888800-1669888800@www.amuz.krakow.pl
SUMMARY:[:pl]Nowe odkrycia\, nurty\, rozwiązania - seminarium[:en]New discoveries\, trends\, solutions - academic meeting[:]
DESCRIPTION:
URL:https://www.amuz.krakow.pl/event/nowe-odkrycia-nurty-rozwiazania-seminarium/
ATTACH;FMTTYPE=image/jpeg:https://www.amuz.krakow.pl/wp-content/uploads/2022/11/koncert-erato-web.jpg
END:VEVENT
END:VCALENDAR