BEGIN:VCALENDAR
VERSION:2.0
PRODID:-//Akademia Muzyczna im. Krzysztofa Pendereckiego w Krakowie - ECPv6.15.20//NONSGML v1.0//EN
CALSCALE:GREGORIAN
METHOD:PUBLISH
X-WR-CALNAME:Akademia Muzyczna im. Krzysztofa Pendereckiego w Krakowie
X-ORIGINAL-URL:https://www.amuz.krakow.pl
X-WR-CALDESC:Wydarzenia dla Akademia Muzyczna im. Krzysztofa Pendereckiego w Krakowie
REFRESH-INTERVAL;VALUE=DURATION:PT1H
X-Robots-Tag:noindex
X-PUBLISHED-TTL:PT1H
BEGIN:VTIMEZONE
TZID:Europe/Warsaw
BEGIN:DAYLIGHT
TZOFFSETFROM:+0100
TZOFFSETTO:+0200
TZNAME:CEST
DTSTART:20220327T010000
END:DAYLIGHT
BEGIN:STANDARD
TZOFFSETFROM:+0200
TZOFFSETTO:+0100
TZNAME:CET
DTSTART:20221030T010000
END:STANDARD
BEGIN:DAYLIGHT
TZOFFSETFROM:+0100
TZOFFSETTO:+0200
TZNAME:CEST
DTSTART:20230326T010000
END:DAYLIGHT
BEGIN:STANDARD
TZOFFSETFROM:+0200
TZOFFSETTO:+0100
TZNAME:CET
DTSTART:20231029T010000
END:STANDARD
BEGIN:DAYLIGHT
TZOFFSETFROM:+0100
TZOFFSETTO:+0200
TZNAME:CEST
DTSTART:20240331T010000
END:DAYLIGHT
BEGIN:STANDARD
TZOFFSETFROM:+0200
TZOFFSETTO:+0100
TZNAME:CET
DTSTART:20241027T010000
END:STANDARD
END:VTIMEZONE
BEGIN:VEVENT
DTSTART;TZID=Europe/Warsaw:20230504T100000
DTEND;TZID=Europe/Warsaw:20230504T190000
DTSTAMP:20260423T124127
CREATED:20230412T125431Z
LAST-MODIFIED:20230412T125431Z
UID:73145-1683194400-1683226800@www.amuz.krakow.pl
SUMMARY:[:pl]II Ogólnopolska Konferencja i koncert Doktorów i Doktorantów Wokalistyki[:en]2nd Conference and Concert of Doctors and Doctoral Students of Vocal Studies[:]
DESCRIPTION:
URL:https://www.amuz.krakow.pl/wydzialy/wydzial-iii-wokalno-aktorski/pracownicy-katedry-2/aktualnosci-22/ii-ogolnopolska-konferencja-i-koncert-doktorow-i-doktorantow-wokalistyki/
ATTACH;FMTTYPE=image/jpeg:https://www.amuz.krakow.pl/wp-content/uploads/2023/04/Konferencja-II-kafel.jpg
END:VEVENT
BEGIN:VEVENT
DTSTART;TZID=Europe/Warsaw:20230506T183000
DTEND;TZID=Europe/Warsaw:20230506T183000
DTSTAMP:20260423T124127
CREATED:20230421T121901Z
LAST-MODIFIED:20230424T123717Z
UID:73626-1683397800-1683397800@www.amuz.krakow.pl
SUMMARY:[:pl]Koncert Koła Studentów Kompozycji[:en]Concert of the Composition Students Research Group[:]
DESCRIPTION:
URL:https://www.amuz.krakow.pl/wydzialy/wydzial-i-tworczosci-interpretacji-i-edukacji-muzycznej/katedra-kompozycji/aktualnosci22/koncert-kola-studentow-kompozycji/
ATTACH;FMTTYPE=image/jpeg:https://www.amuz.krakow.pl/wp-content/uploads/2023/04/kolo-kompozycji-web.jpg
END:VEVENT
BEGIN:VEVENT
DTSTART;TZID=Europe/Warsaw:20230507T180000
DTEND;TZID=Europe/Warsaw:20230507T180000
DTSTAMP:20260423T124127
CREATED:20230111T111722Z
LAST-MODIFIED:20230111T111722Z
UID:70073-1683482400-1683482400@www.amuz.krakow.pl
SUMMARY:[:pl]Koncert dyplomowy licencjacki studentów dyrygentury z Orkiestrą Symfoniczną[:en]Diploma concert of students of conducting at the first degree level with Symphony Orchestra[:]
DESCRIPTION:
URL:https://www.amuz.krakow.pl/orkiestry-akademickie/orkiestra-symfoniczna/koncerty-22-23/koncert-dyplomowy-licencjacki-studentow-dyrygentury-7-05-2023/
ATTACH;FMTTYPE=image/jpeg:https://www.amuz.krakow.pl/wp-content/uploads/2022/09/orkiestra-symfoniczna-kafelek.jpg
END:VEVENT
BEGIN:VEVENT
DTSTART;TZID=Europe/Warsaw:20230508T100000
DTEND;TZID=Europe/Warsaw:20230508T160000
DTSTAMP:20260423T124127
CREATED:20230428T134136Z
LAST-MODIFIED:20241216T130600Z
UID:74030-1683540000-1683561600@www.amuz.krakow.pl
SUMMARY:[:pl]Spotkanie z ekspertem: Media społecznościowe dla artystów[:en]Meet the expert: Social media for artists[:]
DESCRIPTION:
URL:https://www.amuz.krakow.pl/spotkanie-z-ekspertem-8-05-2023/
ATTACH;FMTTYPE=image/jpeg:https://www.amuz.krakow.pl/wp-content/uploads/2023/02/kafelek-CRK-ekspert.jpg
END:VEVENT
BEGIN:VEVENT
DTSTART;TZID=Europe/Warsaw:20230510T190000
DTEND;TZID=Europe/Warsaw:20230510T190000
DTSTAMP:20260423T124127
CREATED:20230419T134212Z
LAST-MODIFIED:20230510T100835Z
UID:73516-1683745200-1683745200@www.amuz.krakow.pl
SUMMARY:[:pl]Spektakl sceniczny “Straszny dwór” Stanisława Moniuszki[:en]Moniuszko's "The Haunted Manor" opera performance[:]
DESCRIPTION:
URL:https://www.amuz.krakow.pl/spektakl-sceniczny-straszny-dwor-stanislawa-moniuszki/
ATTACH;FMTTYPE=image/png:https://www.amuz.krakow.pl/wp-content/uploads/2023/04/STRASZNA-REKLAMA_1.png
END:VEVENT
BEGIN:VEVENT
DTSTART;VALUE=DATE:20230511
DTEND;VALUE=DATE:20230513
DTSTAMP:20260423T124127
CREATED:20230511T110003Z
LAST-MODIFIED:20230511T110003Z
UID:74255-1683763200-1683935999@www.amuz.krakow.pl
SUMMARY:[:pl]Lekcje mistrzowskie z prof. Martinem Rummelem[:en]Masterclass with Professor Martin Rummel[:]
DESCRIPTION:
URL:https://www.amuz.krakow.pl/wydzialy/wydzial-ii-instrumentalny/katedra-wiolonczeli-i-kontrabasu/aktualnosci-22/lekcje-mistrzowskie-z-prof-martinem-rummelem/
ATTACH;FMTTYPE=image/jpeg:https://www.amuz.krakow.pl/wp-content/uploads/2023/05/rummel.jpg
END:VEVENT
BEGIN:VEVENT
DTSTART;TZID=Europe/Warsaw:20230511T190000
DTEND;TZID=Europe/Warsaw:20230511T190000
DTSTAMP:20260423T124127
CREATED:20230428T131002Z
LAST-MODIFIED:20230428T131002Z
UID:74017-1683831600-1683831600@www.amuz.krakow.pl
SUMMARY:[:pl]Koncert Katedry Perkusji i Muzyki Współczesnej[:en]Concert of the Department of Percussion and Contemporary Music[:]
DESCRIPTION:
URL:https://www.amuz.krakow.pl/wydzialy/wydzial-ii-instrumentalny/katedra-perkusji-i-muzyki-wspolczesnej/aktualnosci-22/koncert-katedry-perkusji-i-muzyki-wspolczesnej/
ATTACH;FMTTYPE=image/jpeg:https://www.amuz.krakow.pl/wp-content/uploads/2023/04/kolo-perksuji-i-muzyki.jpg
END:VEVENT
BEGIN:VEVENT
DTSTART;VALUE=DATE:20230512
DTEND;VALUE=DATE:20230516
DTSTAMP:20260423T124127
CREATED:20230424T131125Z
LAST-MODIFIED:20230428T125124Z
UID:73692-1683849600-1684195199@www.amuz.krakow.pl
SUMMARY:[:pl]VII Dni Jana Nepomucena Bobrowicza - 12-15 maja 2023[:en]7th Jan Nepomucen Bobrowicz Days - 12-15 May 2023[:]
DESCRIPTION:
URL:https://www.amuz.krakow.pl/wydzialy/wydzial-ii-instrumentalny/katedra-gitary-i-harfy/aktualnosci-22/vii-dni-jana-nepomucena-bobrowicza/
ATTACH;FMTTYPE=image/jpeg:https://www.amuz.krakow.pl/wp-content/uploads/2023/04/bobrowicz-kafelek.jpg
END:VEVENT
BEGIN:VEVENT
DTSTART;TZID=Europe/Warsaw:20230512T190000
DTEND;TZID=Europe/Warsaw:20230512T190000
DTSTAMP:20260423T124127
CREATED:20230111T112919Z
LAST-MODIFIED:20230509T103009Z
UID:70079-1683918000-1683918000@www.amuz.krakow.pl
SUMMARY:[:pl]Koncert Orkiestry Barokowej “Viola d’amore”[:en]Baroque Orchestra concert “Viola d’amore”[:]
DESCRIPTION:
URL:https://www.amuz.krakow.pl/orkiestry-akademickie/orkiestra-barokowa/koncerty-2022-2023/koncert-orkiestry-barokowej-viola-damore-12-05-2023/
ATTACH;FMTTYPE=image/jpeg:https://www.amuz.krakow.pl/wp-content/uploads/2022/09/orkiestra-barokowa-kafelek.jpg
END:VEVENT
BEGIN:VEVENT
DTSTART;TZID=Europe/Warsaw:20230512T190000
DTEND;TZID=Europe/Warsaw:20230512T190000
DTSTAMP:20260423T124127
CREATED:20230425T101744Z
LAST-MODIFIED:20230510T100830Z
UID:73715-1683918000-1683918000@www.amuz.krakow.pl
SUMMARY:[:pl]Spektakl sceniczny "Straszny dwór" Stanisława Moniuszki[:en]Moniuszko's "The Haunted Manor" opera performance[:]
DESCRIPTION:
URL:https://www.amuz.krakow.pl/spektakl-sceniczny-straszny-dwor-stanislawa-moniuszki/
ATTACH;FMTTYPE=image/png:https://www.amuz.krakow.pl/wp-content/uploads/2023/04/STRASZNA-REKLAMA_1.png
END:VEVENT
BEGIN:VEVENT
DTSTART;VALUE=DATE:20230513
DTEND;VALUE=DATE:20230515
DTSTAMP:20260423T124127
CREATED:20230425T120758Z
LAST-MODIFIED:20230428T124426Z
UID:73745-1683936000-1684108799@www.amuz.krakow.pl
SUMMARY:[:pl]Horyzonty perkusji\, edycja III[:en]Percussion horizons\, 3rd edition[:]
DESCRIPTION:
URL:https://www.amuz.krakow.pl/wydzialy/wydzial-ii-instrumentalny/katedra-perkusji-i-muzyki-wspolczesnej/aktualnosci-22/horyzonty-perkusji-edycja-iii/
ATTACH;FMTTYPE=image/jpeg:https://www.amuz.krakow.pl/wp-content/uploads/2023/04/horyzonty-perkusji-2023-web.jpg
END:VEVENT
BEGIN:VEVENT
DTSTART;TZID=Europe/Warsaw:20230513T100000
DTEND;TZID=Europe/Warsaw:20230513T140000
DTSTAMP:20260423T124127
CREATED:20230508T092751Z
LAST-MODIFIED:20230508T092837Z
UID:74108-1683972000-1683986400@www.amuz.krakow.pl
SUMMARY:[:pl]II Międzynarodowa Konferencja Lutnicza[:en]2nd International Luthier Conference[:]
DESCRIPTION:
URL:https://www.amuz.krakow.pl/wydzialy/wydzial-ii-instrumentalny/katedra-gitary-i-harfy/aktualnosci-22/ii-miedzynarodowa-konferencja-lutnicza/
ATTACH;FMTTYPE=image/jpeg:https://www.amuz.krakow.pl/wp-content/uploads/2023/05/bobrowicz-kafelek2-1.jpg
END:VEVENT
BEGIN:VEVENT
DTSTART;TZID=Europe/Warsaw:20230513T170000
DTEND;TZID=Europe/Warsaw:20230513T170000
DTSTAMP:20260423T124127
CREATED:20230425T113646Z
LAST-MODIFIED:20230428T125134Z
UID:73735-1683997200-1683997200@www.amuz.krakow.pl
SUMMARY:[:pl]Koncert dawnej i nie tylko dawnej muzyki wokalnej[:en]Concert of early and not only early vocal music[:]
DESCRIPTION:
URL:https://www.amuz.krakow.pl/wydzialy/wydzial-iii-wokalno-aktorski/pracownicy-katedry-2/aktualnosci-22/koncert-dawnej-i-nie-tylko-dawnej-muzyki-wokalnej/
ATTACH;FMTTYPE=image/jpeg:https://www.amuz.krakow.pl/wp-content/uploads/2023/04/dawna-i-nie-dawna-web.jpg
END:VEVENT
BEGIN:VEVENT
DTSTART;VALUE=DATE:20230515
DTEND;VALUE=DATE:20230517
DTSTAMP:20260423T124127
CREATED:20230425T121727Z
LAST-MODIFIED:20230510T100940Z
UID:73757-1684108800-1684281599@www.amuz.krakow.pl
SUMMARY:[:pl]Muzyka brazylijska[:en]Brazilian music[:]
DESCRIPTION:
URL:https://www.amuz.krakow.pl/wydzialy/wydzial-ii-instrumentalny/katedra-fortepianu/aktualnosci-22/muzyka-brazylijska/
ATTACH;FMTTYPE=image/jpeg:https://www.amuz.krakow.pl/wp-content/uploads/2023/04/brazylijska-15-maja.jpg
END:VEVENT
BEGIN:VEVENT
DTSTART;VALUE=DATE:20230515
DTEND;VALUE=DATE:20230517
DTSTAMP:20260423T124127
CREATED:20230425T123304Z
LAST-MODIFIED:20230425T123304Z
UID:73760-1684108800-1684281599@www.amuz.krakow.pl
SUMMARY:[:pl]Clave: mity i prawdy - warsztaty z José Manuelem Albánem Juárezem[:en]Clave: myths and truths - workshops with José Manuel Albán Juárez[:]
DESCRIPTION:
URL:https://www.amuz.krakow.pl/wydzialy/wydzial-ii-instrumentalny/katedra-jazzu/aktualnosci-22/clave-mity-i-prawdy/
ATTACH;FMTTYPE=image/jpeg:https://www.amuz.krakow.pl/wp-content/uploads/2023/02/warsztaty-kafelek.jpg
END:VEVENT
BEGIN:VEVENT
DTSTART;TZID=Europe/Warsaw:20230517T190000
DTEND;TZID=Europe/Warsaw:20230517T190000
DTSTAMP:20260423T124127
CREATED:20230111T113425Z
LAST-MODIFIED:20230428T115749Z
UID:70085-1684350000-1684350000@www.amuz.krakow.pl
SUMMARY:[:pl]Koncert Big Bandu AMKP[:en]AMKP Big Band's concert[:]
DESCRIPTION:
URL:https://www.amuz.krakow.pl/orkiestry-akademickie/big-band/koncerty-2022-2023/koncert-big-bandu-17-05-2023/
ATTACH;FMTTYPE=image/jpeg:https://www.amuz.krakow.pl/wp-content/uploads/2023/01/plakat-jazz-w-akademii.jpg
END:VEVENT
BEGIN:VEVENT
DTSTART;VALUE=DATE:20230518
DTEND;VALUE=DATE:20230519
DTSTAMP:20260423T124127
CREATED:20230425T124911Z
LAST-MODIFIED:20230509T075904Z
UID:73771-1684368000-1684454399@www.amuz.krakow.pl
SUMMARY:[:pl]KOPERNIKIADA - Kosmos w muzyce i idee muzyki kosmicznej[:en]KOPERNIKIADA - Cosmos in music and cosmic music ideas[:]
DESCRIPTION:
URL:https://www.amuz.krakow.pl/wydzialy/wydzial-i-tworczosci-interpretacji-i-edukacji-muzycznej/katedra-teorii-i-interpretacji-dziela-muzycznego/aktualnosci/kopernikada/
END:VEVENT
BEGIN:VEVENT
DTSTART;TZID=Europe/Warsaw:20230519T100000
DTEND;TZID=Europe/Warsaw:20230520T190000
DTSTAMP:20260423T124127
CREATED:20230515T131309Z
LAST-MODIFIED:20230515T131309Z
UID:74541-1684490400-1684609200@www.amuz.krakow.pl
SUMMARY:[:pl]Koncerty Koła Kameralistów AMKP[:en]Concerts of the Chamber Musicians Student Research Group[:]
DESCRIPTION:
URL:https://www.amuz.krakow.pl/wydzialy/wydzial-ii-instrumentalny/katedra-kameralistyki/aktualnosci-22/koncerty-kola-kameralistow-amkp/
ATTACH;FMTTYPE=image/jpeg:https://www.amuz.krakow.pl/wp-content/uploads/2022/05/koncert-4.jpg
END:VEVENT
BEGIN:VEVENT
DTSTART;TZID=Europe/Warsaw:20230519T190000
DTEND;TZID=Europe/Warsaw:20230519T190000
DTSTAMP:20260423T124127
CREATED:20230516T100548Z
LAST-MODIFIED:20230516T100548Z
UID:74556-1684522800-1684522800@www.amuz.krakow.pl
SUMMARY:[:pl]Koncert Scholi Gregoriana AMKP[:en]AMKP Schola Gregoriana concert[:]
DESCRIPTION:
URL:https://www.amuz.krakow.pl/wydzialy/wydzial-i-tworczosci-interpretacji-i-edukacji-muzycznej/katedra-muzyki-religijnej/aktualnosci/koncert-scholi-gregoriana-amkp/
ATTACH;FMTTYPE=image/jpeg:https://www.amuz.krakow.pl/wp-content/uploads/2023/05/plakat-misterium-salutis-scaled.jpg
END:VEVENT
BEGIN:VEVENT
DTSTART;TZID=Europe/Warsaw:20230520T130000
DTEND;TZID=Europe/Warsaw:20230520T130000
DTSTAMP:20260423T124127
CREATED:20230517T103126Z
LAST-MODIFIED:20230517T103126Z
UID:74617-1684587600-1684587600@www.amuz.krakow.pl
SUMMARY:[:pl]Koncert Katedry Gitary i Harfy AMKP - "Trybuna wyobraźni"[:en]Concert of the Department of Guitar and Harp - "Stand of Imagination"[:]
DESCRIPTION:
URL:https://www.amuz.krakow.pl/wydzialy/wydzial-ii-instrumentalny/katedra-gitary-i-harfy/aktualnosci-22/trybuna-wyobrazni/
ATTACH;FMTTYPE=image/jpeg:https://www.amuz.krakow.pl/wp-content/uploads/2023/05/kafelek-na-strone-2.jpg
END:VEVENT
BEGIN:VEVENT
DTSTART;TZID=Europe/Warsaw:20230520T190000
DTEND;TZID=Europe/Warsaw:20230520T190000
DTSTAMP:20260423T124127
CREATED:20230509T084717Z
LAST-MODIFIED:20230509T084717Z
UID:74152-1684609200-1684609200@www.amuz.krakow.pl
SUMMARY:[:pl]Koncert Chóru Nazareth College z Rochester (USA)[:en]Concert of the Nazareth College Choir from Rochester (USA)[:]
DESCRIPTION:
URL:https://www.amuz.krakow.pl/koncert-choru-nazareth-college-z-rochester-usa/
ATTACH;FMTTYPE=image/png:https://www.amuz.krakow.pl/wp-content/uploads/2023/05/Rochester_Plakat_1.png
END:VEVENT
BEGIN:VEVENT
DTSTART;TZID=Europe/Warsaw:20230520T190000
DTEND;TZID=Europe/Warsaw:20230520T190000
DTSTAMP:20260423T124127
CREATED:20230512T100528Z
LAST-MODIFIED:20230512T100528Z
UID:74362-1684609200-1684609200@www.amuz.krakow.pl
SUMMARY:[:pl]Konstruktywne dysonanse - koncert dyplomowy studentów kompozycji[:en]Constructive dissonance - diploma concert of composition students[:]
DESCRIPTION:
URL:https://www.amuz.krakow.pl/wydzialy/wydzial-i-tworczosci-interpretacji-i-edukacji-muzycznej/katedra-kompozycji/aktualnosci22/konstruktywne-dysonanse-koncert-dyplomowy-studentow-kompozycji/
ATTACH;FMTTYPE=image/jpeg:https://www.amuz.krakow.pl/wp-content/uploads/2023/05/konstruktywne-OK-2023.jpg
END:VEVENT
BEGIN:VEVENT
DTSTART;TZID=Europe/Warsaw:20230521T133000
DTEND;TZID=Europe/Warsaw:20230521T133000
DTSTAMP:20260423T124127
CREATED:20230509T090659Z
LAST-MODIFIED:20230509T090659Z
UID:74159-1684675800-1684675800@www.amuz.krakow.pl
SUMMARY:[:pl]XV Organowe Matinée w wykonaniu Pawła Michalika (AMKP)[:en]15th Organ Matinée - Paweł Michalik (AMKP)[:]
DESCRIPTION:
URL:https://www.amuz.krakow.pl/wydzialy/wydzial-ii-instrumentalny/katedra-organow/aktualnosci-22/xv-organowe-matinee-pawel-michalik-amkp/
ATTACH;FMTTYPE=image/jpeg:https://www.amuz.krakow.pl/wp-content/uploads/2023/05/organowy-plakat-21-05.jpg
END:VEVENT
BEGIN:VEVENT
DTSTART;TZID=Europe/Warsaw:20230521T190000
DTEND;TZID=Europe/Warsaw:20230521T190000
DTSTAMP:20260423T124127
CREATED:20230508T120949Z
LAST-MODIFIED:20230508T120949Z
UID:74139-1684695600-1684695600@www.amuz.krakow.pl
SUMMARY:[:pl]Koncert Chóru AMKP[:en]AMKP Choir Concert [:]
DESCRIPTION:
URL:https://www.amuz.krakow.pl/chor-amkp/koncerty-2022-2023/koncert-choru-amkp/
ATTACH;FMTTYPE=image/jpeg:https://www.amuz.krakow.pl/wp-content/uploads/2022/09/chor.jpg
END:VEVENT
BEGIN:VEVENT
DTSTART;VALUE=DATE:20230522
DTEND;VALUE=DATE:20230525
DTSTAMP:20260423T124127
CREATED:20230519T101808Z
LAST-MODIFIED:20230519T102543Z
UID:74707-1684713600-1684972799@www.amuz.krakow.pl
SUMMARY:[:pl]Kurs mistrzowski z prof. Wolfgangiem Brunnerem (Universität Mozarteum Salzburg)[:en]Masterclass with prof. Wolfgang Brunner (Universität Mozarteum Salzburg)[:]
DESCRIPTION:
URL:https://www.amuz.krakow.pl/wydzialy/wydzial-ii-instrumentalny/katedra-fortepianu/aktualnosci-22/warsztaty-z-prof-wolfgangiem-brunnerem-universitat-mozarteum-salzburg/
ATTACH;FMTTYPE=image/jpeg:https://www.amuz.krakow.pl/wp-content/uploads/2023/02/lekcej-mistrzowskie.jpg
END:VEVENT
BEGIN:VEVENT
DTSTART;TZID=Europe/Warsaw:20230522T104500
DTEND;TZID=Europe/Warsaw:20230522T140000
DTSTAMP:20260423T124127
CREATED:20230515T105533Z
LAST-MODIFIED:20241216T130543Z
UID:74516-1684752300-1684764000@www.amuz.krakow.pl
SUMMARY:[:pl]Spotkanie z ekspertem: Dr Julia Kaleńska-Rodzaj. Stres\, trema\, opanowanie emocji. Psychologia ćwiczenia i występowania[:en]Meet the expert: Dr Julia Kaleńska-Rodzaj. How to cope with stress\, stage fright\, and emotions? Psychology of practising and performance[:]
DESCRIPTION:
URL:https://www.amuz.krakow.pl/spotkanie-z-ekspertem-22-05-2023/
ATTACH;FMTTYPE=image/jpeg:https://www.amuz.krakow.pl/wp-content/uploads/2023/02/kafelek-CRK-ekspert.jpg
END:VEVENT
BEGIN:VEVENT
DTSTART;VALUE=DATE:20230524
DTEND;VALUE=DATE:20230526
DTSTAMP:20260423T124127
CREATED:20230519T104356Z
LAST-MODIFIED:20230519T104356Z
UID:74720-1684886400-1685059199@www.amuz.krakow.pl
SUMMARY:Jazz Combo Live
DESCRIPTION:
URL:https://www.amuz.krakow.pl/wydzialy/wydzial-ii-instrumentalny/katedra-jazzu/aktualnosci-22/jazz-combo-live/
ATTACH;FMTTYPE=image/jpeg:https://www.amuz.krakow.pl/wp-content/uploads/2022/05/koncert-4.jpg
END:VEVENT
BEGIN:VEVENT
DTSTART;TZID=Europe/Warsaw:20230524T190000
DTEND;TZID=Europe/Warsaw:20230524T190000
DTSTAMP:20260423T124127
CREATED:20230509T092458Z
LAST-MODIFIED:20230516T091629Z
UID:74186-1684954800-1684954800@www.amuz.krakow.pl
SUMMARY:[:pl]BRAHMSowskie trzy po trzy...[:en]BRAHMS's Three Trios...[:]
DESCRIPTION:
URL:https://www.amuz.krakow.pl/wydzialy/wydzial-ii-instrumentalny/katedra-instrumentow-detych-drewnianych-i-akordeonu-2/aktualnosci-22/brahmsowskie-trzy-po-trzy/
ATTACH;FMTTYPE=image/jpeg:https://www.amuz.krakow.pl/wp-content/uploads/2023/05/3-po-3-kafel.jpg
END:VEVENT
BEGIN:VEVENT
DTSTART;TZID=Europe/Warsaw:20230525T100000
DTEND;TZID=Europe/Warsaw:20230525T100000
DTSTAMP:20260423T124127
CREATED:20230522T111012Z
LAST-MODIFIED:20230522T111012Z
UID:74765-1685008800-1685008800@www.amuz.krakow.pl
SUMMARY:[:pl]Wykład z kompozytorem dr. Yatim Durantem[:en]Lecture with the composer dr Yati Durant[:]
DESCRIPTION:
URL:https://www.amuz.krakow.pl/wydzialy/wydzial-i-tworczosci-interpretacji-i-edukacji-muzycznej/katedra-kompozycji/aktualnosci22/wyklad-z-dr-yatim-durantem/
ATTACH;FMTTYPE=image/jpeg:https://www.amuz.krakow.pl/wp-content/uploads/2023/05/yati-1.jpg
END:VEVENT
BEGIN:VEVENT
DTSTART;TZID=Europe/Warsaw:20230525T113000
DTEND;TZID=Europe/Warsaw:20230525T133000
DTSTAMP:20260423T124127
CREATED:20230523T105257Z
LAST-MODIFIED:20230523T114540Z
UID:74803-1685014200-1685021400@www.amuz.krakow.pl
SUMMARY:[:pl]I Konkurs Miniatur[:en]1st Miniature Competition[:]
DESCRIPTION:
URL:https://www.amuz.krakow.pl/wydzialy/wydzial-ii-instrumentalny/katedra-skrzypiec-i-altowki/aktualnosci-22/i-konkurs-miniatur/
ATTACH;FMTTYPE=image/jpeg:https://www.amuz.krakow.pl/wp-content/uploads/2023/05/konkurs-miniatur-kafel.jpg
END:VEVENT
END:VCALENDAR