BEGIN:VCALENDAR
VERSION:2.0
PRODID:-//Akademia Muzyczna im. Krzysztofa Pendereckiego w Krakowie - ECPv6.15.20//NONSGML v1.0//EN
CALSCALE:GREGORIAN
METHOD:PUBLISH
X-WR-CALNAME:Akademia Muzyczna im. Krzysztofa Pendereckiego w Krakowie
X-ORIGINAL-URL:https://www.amuz.krakow.pl
X-WR-CALDESC:Wydarzenia dla Akademia Muzyczna im. Krzysztofa Pendereckiego w Krakowie
REFRESH-INTERVAL;VALUE=DURATION:PT1H
X-Robots-Tag:noindex
X-PUBLISHED-TTL:PT1H
BEGIN:VTIMEZONE
TZID:Europe/Warsaw
BEGIN:DAYLIGHT
TZOFFSETFROM:+0100
TZOFFSETTO:+0200
TZNAME:CEST
DTSTART:20210328T010000
END:DAYLIGHT
BEGIN:STANDARD
TZOFFSETFROM:+0200
TZOFFSETTO:+0100
TZNAME:CET
DTSTART:20211031T010000
END:STANDARD
BEGIN:DAYLIGHT
TZOFFSETFROM:+0100
TZOFFSETTO:+0200
TZNAME:CEST
DTSTART:20220327T010000
END:DAYLIGHT
BEGIN:STANDARD
TZOFFSETFROM:+0200
TZOFFSETTO:+0100
TZNAME:CET
DTSTART:20221030T010000
END:STANDARD
BEGIN:DAYLIGHT
TZOFFSETFROM:+0100
TZOFFSETTO:+0200
TZNAME:CEST
DTSTART:20230326T010000
END:DAYLIGHT
BEGIN:STANDARD
TZOFFSETFROM:+0200
TZOFFSETTO:+0100
TZNAME:CET
DTSTART:20231029T010000
END:STANDARD
BEGIN:DAYLIGHT
TZOFFSETFROM:+0100
TZOFFSETTO:+0200
TZNAME:CEST
DTSTART:20240331T010000
END:DAYLIGHT
BEGIN:STANDARD
TZOFFSETFROM:+0200
TZOFFSETTO:+0100
TZNAME:CET
DTSTART:20241027T010000
END:STANDARD
END:VTIMEZONE
BEGIN:VEVENT
DTSTART;TZID=Europe/Warsaw:20221201T100000
DTEND;TZID=Europe/Warsaw:20221201T100000
DTSTAMP:20260423T205937
CREATED:20221124T131622Z
LAST-MODIFIED:20231026T125930Z
UID:68668-1669888800-1669888800@www.amuz.krakow.pl
SUMMARY:[:pl]Nowe odkrycia\, nurty\, rozwiązania - seminarium[:en]New discoveries\, trends\, solutions - academic meeting[:]
DESCRIPTION:
URL:https://www.amuz.krakow.pl/event/nowe-odkrycia-nurty-rozwiazania-seminarium/
ATTACH;FMTTYPE=image/jpeg:https://www.amuz.krakow.pl/wp-content/uploads/2022/11/koncert-erato-web.jpg
END:VEVENT
BEGIN:VEVENT
DTSTART;TZID=Europe/Warsaw:20221201T180000
DTEND;TZID=Europe/Warsaw:20221201T180000
DTSTAMP:20260423T205937
CREATED:20221028T140650Z
LAST-MODIFIED:20221124T132713Z
UID:67299-1669917600-1669917600@www.amuz.krakow.pl
SUMMARY:[:pl]Nowe odkrycia\, nurty\, rozwiązania - koncert Erato Alakiozidou i Kwartetu DAFO[:en]New discoveries\, trends\, solutions - concert[:]
DESCRIPTION:
URL:https://www.amuz.krakow.pl/wydzialy/wydzial-ii-instrumentalny/katedra-perkusji-i-muzyki-wspolczesnej/aktualnosci-22/nowe-odkrycia-nurty-rozwiazania/
ATTACH;FMTTYPE=image/jpeg:https://www.amuz.krakow.pl/wp-content/uploads/2022/11/koncert-erato-web.jpg
END:VEVENT
BEGIN:VEVENT
DTSTART;TZID=Europe/Warsaw:20221201T190000
DTEND;TZID=Europe/Warsaw:20221201T190000
DTSTAMP:20260423T205937
CREATED:20221123T124416Z
LAST-MODIFIED:20221128T154050Z
UID:68616-1669921200-1669921200@www.amuz.krakow.pl
SUMMARY:[:pl]Koncert międzynarodowych zespołów „European Jazz’s Cool”[:en]„European Jazz’s Cool” concert of international ensembles[:]
DESCRIPTION:
URL:https://www.amuz.krakow.pl/wydzialy/wydzial-ii-instrumentalny/katedra-jazzu/aktualnosci-22/european-jazzs-cool/
ATTACH;FMTTYPE=image/jpeg:https://www.amuz.krakow.pl/wp-content/uploads/2022/11/European-Jazzs-Cool-2022.jpg
END:VEVENT
BEGIN:VEVENT
DTSTART;VALUE=DATE:20221202
DTEND;VALUE=DATE:20221203
DTSTAMP:20260423T205937
CREATED:20221024T132757Z
LAST-MODIFIED:20221114T130610Z
UID:67149-1669939200-1670025599@www.amuz.krakow.pl
SUMMARY:[:pl]“Nauczyciel muzyki – wyzwania zawodowe” – sesja naukowa i warsztaty[:en]“Professional challenges of a music teacher” – academic meeting and workshops[:]
DESCRIPTION:
URL:https://www.amuz.krakow.pl/wydzialy/wydzial-i-tworczosci-interpretacji-i-edukacji-muzycznej/katedra-badan-muzyczno-edukacyjnych/aktualnosci/nauczyciel-muzyki-wyzwania-zawodowe-sesja-naukowa-i-warsztaty-2-12-2022/
ATTACH;FMTTYPE=image/jpeg:https://www.amuz.krakow.pl/wp-content/uploads/2022/11/sesja-naukowa.jpg
END:VEVENT
BEGIN:VEVENT
DTSTART;TZID=Europe/Warsaw:20221202T190000
DTEND;TZID=Europe/Warsaw:20221202T190000
DTSTAMP:20260423T205937
CREATED:20221122T142455Z
LAST-MODIFIED:20221129T110402Z
UID:68579-1670007600-1670007600@www.amuz.krakow.pl
SUMMARY:[:pl]Inauguracja fortepianu koncertowego Steinway & Sons w AMKP[:en]Inauguration of the new Steinway & Sons grand piano in AMKP[:]
DESCRIPTION:
URL:https://www.amuz.krakow.pl/wydzialy/wydzial-ii-instrumentalny/katedra-fortepianu/aktualnosci-22/inauguracja-fortepianu-koncertowego-w-amkp/
ATTACH;FMTTYPE=image/jpeg:https://www.amuz.krakow.pl/wp-content/uploads/2022/11/inauguracja-fortepianu.jpg
END:VEVENT
BEGIN:VEVENT
DTSTART;VALUE=DATE:20221203
DTEND;VALUE=DATE:20221207
DTSTAMP:20260423T205937
CREATED:20221123T134503Z
LAST-MODIFIED:20221124T122601Z
UID:68627-1670025600-1670371199@www.amuz.krakow.pl
SUMMARY:[:pl]2. edycja Festiwalu duetów skrzypcowych "A due"[:en]2nd edition of "A due" violin duos festival [:]
DESCRIPTION:
URL:https://www.amuz.krakow.pl/wydzialy/wydzial-ii-instrumentalny/katedra-skrzypiec-i-altowki/aktualnosci-22/2-festiwal-duetow-skrzypcowych-a-due/
ATTACH;FMTTYPE=image/jpeg:https://www.amuz.krakow.pl/wp-content/uploads/2022/11/a-duo-wev-2022.jpg
END:VEVENT
BEGIN:VEVENT
DTSTART;TZID=Europe/Warsaw:20221203T180000
DTEND;TZID=Europe/Warsaw:20221203T180000
DTSTAMP:20260423T205937
CREATED:20221122T140923Z
LAST-MODIFIED:20221122T140923Z
UID:68568-1670090400-1670090400@www.amuz.krakow.pl
SUMMARY:[:pl]Finałowy koncert w ramach jubileuszu 50-lecia Katedry Kameralistyki[:en]Final concert as part of the 50th anniversary of Chamber Department[:]
DESCRIPTION:
URL:https://www.amuz.krakow.pl/wydzialy/wydzial-ii-instrumentalny/katedra-kameralistyki/aktualnosci-22/50-lecie-katedry-kameralistyki-3-12-2022/
ATTACH;FMTTYPE=image/jpeg:https://www.amuz.krakow.pl/wp-content/uploads/2022/11/kameralisrtyka-final-web.jpg
END:VEVENT
BEGIN:VEVENT
DTSTART;TZID=Europe/Warsaw:20221204T180000
DTEND;TZID=Europe/Warsaw:20221204T180000
DTSTAMP:20260423T205937
CREATED:20221124T142050Z
LAST-MODIFIED:20221124T142050Z
UID:68677-1670176800-1670176800@www.amuz.krakow.pl
SUMMARY:[:pl]II koncert studentów klasy perkusji[:en]2nd concert of percussion class students[:]
DESCRIPTION:
URL:https://www.amuz.krakow.pl/wydzialy/wydzial-ii-instrumentalny/katedra-perkusji-i-muzyki-wspolczesnej/aktualnosci-22/ii-koncert-studentow-klasy-perkusji-4-12-2022/
ATTACH;FMTTYPE=image/jpeg:https://www.amuz.krakow.pl/wp-content/uploads/2022/11/koncert-perkusji-web.jpg
END:VEVENT
BEGIN:VEVENT
DTSTART;TZID=Europe/Warsaw:20221206T100000
DTEND;TZID=Europe/Warsaw:20221206T203000
DTSTAMP:20260423T205937
CREATED:20221128T102144Z
LAST-MODIFIED:20231026T125922Z
UID:68794-1670320800-1670358600@www.amuz.krakow.pl
SUMMARY:[:pl]Improwizacja organowa - warsztat organisty liturgicznego - sesja naukowa i koncert[:en]Organ improvisation - church organist skills - academic meeting and concert[:]
DESCRIPTION:
URL:https://www.amuz.krakow.pl/wydzialy/wydzial-i-tworczosci-interpretacji-i-edukacji-muzycznej/katedra-muzyki-religijnej/aktualnosci/improwizacja-organowa/
END:VEVENT
BEGIN:VEVENT
DTSTART;TZID=Europe/Warsaw:20221206T200000
DTEND;TZID=Europe/Warsaw:20221206T200000
DTSTAMP:20260423T205937
CREATED:20221125T142621Z
LAST-MODIFIED:20221125T142621Z
UID:68750-1670356800-1670356800@www.amuz.krakow.pl
SUMMARY:[:pl]Mistrzowie i ich uczniowie - koncert[:en]Masters and their students - concert[:]
DESCRIPTION:
URL:https://www.amuz.krakow.pl/wydzialy/wydzial-i-tworczosci-interpretacji-i-edukacji-muzycznej/katedra-kompozycji/aktualnosci22/mistrzowie-i-ich-uczniowie/
END:VEVENT
BEGIN:VEVENT
DTSTART;TZID=Europe/Warsaw:20221207T190000
DTEND;TZID=Europe/Warsaw:20221207T190000
DTSTAMP:20260423T205937
CREATED:20220907T113721Z
LAST-MODIFIED:20221014T131605Z
UID:65286-1670439600-1670439600@www.amuz.krakow.pl
SUMMARY:[:pl]Koncert Orkiestry Symfonicznej[:en]Symphony Orchestra concert[:]
DESCRIPTION:
URL:https://www.amuz.krakow.pl/koncert-orkiestry-symfonicznej-7-12-2022/
ATTACH;FMTTYPE=image/jpeg:https://www.amuz.krakow.pl/wp-content/uploads/2022/09/orkiestra-symfoniczna-kafelek.jpg
END:VEVENT
BEGIN:VEVENT
DTSTART;VALUE=DATE:20221208
DTEND;VALUE=DATE:20221212
DTSTAMP:20260423T205937
CREATED:20221128T111559Z
LAST-MODIFIED:20221201T115857Z
UID:68797-1670457600-1670803199@www.amuz.krakow.pl
SUMMARY:[:pl]8. Dni Muzyki: César Franck w 200. rocznicę urodzin kompozytora[:en]8th Days of Music: César Franck in the composer's 200th birth anniversary[:]
DESCRIPTION:
URL:https://www.amuz.krakow.pl/wydzialy/wydzial-ii-instrumentalny/katedra-wiolonczeli-i-kontrabasu/aktualnosci-22/8-dni-muzyki-cesar-franck/
END:VEVENT
BEGIN:VEVENT
DTSTART;TZID=Europe/Warsaw:20221209T093000
DTEND;TZID=Europe/Warsaw:20221209T123000
DTSTAMP:20260423T205937
CREATED:20221129T120924Z
LAST-MODIFIED:20221130T083430Z
UID:68826-1670578200-1670589000@www.amuz.krakow.pl
SUMMARY:[:pl]Muzyczna bajka "Zimowa opowieść" - spektakl edukacyjny[:en]"A Winter's Tale" - music fairytale - educational show[:]
DESCRIPTION:
URL:https://www.amuz.krakow.pl/wydzialy/wydzial-i-tworczosci-interpretacji-i-edukacji-muzycznej/katedra-badan-muzyczno-edukacyjnych/aktualnosci/muzyczna-bajka-zimowa-opowiesc/
ATTACH;FMTTYPE=image/jpeg:https://www.amuz.krakow.pl/wp-content/uploads/2022/11/Zimowa-opowiesc-plakat_page-0001-scaled.jpg
END:VEVENT
BEGIN:VEVENT
DTSTART;TZID=Europe/Warsaw:20221210T180000
DTEND;TZID=Europe/Warsaw:20221210T180000
DTSTAMP:20260423T205937
CREATED:20221129T125208Z
LAST-MODIFIED:20221129T125348Z
UID:68857-1670695200-1670695200@www.amuz.krakow.pl
SUMMARY:[:pl]Muzyka z ekranu. Sequel[:en]Screen music. Sequel [:]
DESCRIPTION:
URL:https://www.amuz.krakow.pl/wydzialy/wydzial-i-tworczosci-interpretacji-i-edukacji-muzycznej/katedra-teorii-i-interpretacji-dziela-muzycznego/aktualnosci/muzyka-z-ekranu-sequel/
ATTACH;FMTTYPE=image/png:https://www.amuz.krakow.pl/wp-content/uploads/2022/11/Logo-kola-muzyki-filmowej.png
END:VEVENT
BEGIN:VEVENT
DTSTART;VALUE=DATE:20221212
DTEND;VALUE=DATE:20221215
DTSTAMP:20260423T205937
CREATED:20221202T104536Z
LAST-MODIFIED:20221202T104629Z
UID:68929-1670803200-1671062399@www.amuz.krakow.pl
SUMMARY:[:pl]"Współczesna literatura na instrumenty dęte blaszane. Nurty\, tendencje\, prognozy" - międzynarodowa konferencja naukowo-artystyczna [:en]"Modern literature on brass. Trends\, tendencies and predictions" - international artistic/academic conference[:]
DESCRIPTION:
URL:https://www.amuz.krakow.pl/wydzialy/wydzial-ii-instrumentalny/katedra-instrumentow-detych-blaszanych/aktualnosci-22/wspolczesna-literatura-na-instrumenty-dete-blaszane/
ATTACH;FMTTYPE=image/jpeg:https://www.amuz.krakow.pl/wp-content/uploads/2022/11/sesja-naukowa.jpg
END:VEVENT
BEGIN:VEVENT
DTSTART;TZID=Europe/Warsaw:20221212T180000
DTEND;TZID=Europe/Warsaw:20221212T180000
DTSTAMP:20260423T205937
CREATED:20221020T123733Z
LAST-MODIFIED:20221110T133344Z
UID:67069-1670868000-1670868000@www.amuz.krakow.pl
SUMMARY:[:pl]III koncert z okazji 225. rocznicy urodzin Franza Schuberta[:en]3rd concert on occasion of Franz Schubert 225th birth anniversary[:]
DESCRIPTION:
URL:https://www.amuz.krakow.pl/wydzialy/wydzial-ii-instrumentalny/katedra-skrzypiec-i-altowki/aktualnosci-22/koncerty-225-rocznica-urodzin-schuberta/
ATTACH;FMTTYPE=image/jpeg:https://www.amuz.krakow.pl/wp-content/uploads/2022/11/schubert-web.jpg
END:VEVENT
BEGIN:VEVENT
DTSTART;TZID=Europe/Warsaw:20221214T130000
DTEND;TZID=Europe/Warsaw:20221214T190000
DTSTAMP:20260423T205937
CREATED:20221205T105258Z
LAST-MODIFIED:20221212T162002Z
UID:69019-1671022800-1671044400@www.amuz.krakow.pl
SUMMARY:[:pl]Improwizowanie kompozycji. Komponowanie improwizacji - warsztaty z koncertem[:en]Improvising compositions. Composing improvisations - workshops with concert[:]
DESCRIPTION:
URL:https://www.amuz.krakow.pl/wydzialy/wydzial-ii-instrumentalny/katedra-jazzu/aktualnosci-22/improwizowanie-kompozycji-komponowanie-improwizacji/
ATTACH;FMTTYPE=image/jpeg:https://www.amuz.krakow.pl/wp-content/uploads/2022/12/improwizowanie-kompozycji-2022-1.jpg
END:VEVENT
BEGIN:VEVENT
DTSTART;VALUE=DATE:20221217
DTEND;VALUE=DATE:20221219
DTSTAMP:20260423T205937
CREATED:20221205T100713Z
LAST-MODIFIED:20231026T125904Z
UID:68999-1671235200-1671407999@www.amuz.krakow.pl
SUMMARY:[:pl]Sesja naukowo-artystyczna "Kontrabas + …"[:en]Artistic/academic conference"Double bass + ..."[:]
DESCRIPTION:
URL:https://www.amuz.krakow.pl/wydzialy/wydzial-ii-instrumentalny/katedra-wiolonczeli-i-kontrabasu/aktualnosci-22/sesja-naukowo-artystyczna-kontrabas/
ATTACH;FMTTYPE=image/jpeg:https://www.amuz.krakow.pl/wp-content/uploads/2022/12/KONTRABAS-PLAKAT.jpg
END:VEVENT
BEGIN:VEVENT
DTSTART;TZID=Europe/Warsaw:20221217T170000
DTEND;TZID=Europe/Warsaw:20221217T170000
DTSTAMP:20260423T205937
CREATED:20221209T102038Z
LAST-MODIFIED:20221209T102038Z
UID:69351-1671296400-1671296400@www.amuz.krakow.pl
SUMMARY:[:pl]Koncert kolęd "Bóg się rodzi - Бог ся рождає"[:en]Christmas carol concert "Bóg się rodzi - Бог ся рождає"[:]
DESCRIPTION:
URL:https://www.amuz.krakow.pl/wydzialy/wydzial-ii-instrumentalny/katedra-jazzu/aktualnosci-22/koncert-koled-bog-sie-rodzi/
ATTACH;FMTTYPE=image/jpeg:https://www.amuz.krakow.pl/wp-content/uploads/2022/12/plakat-koncert-koled-2022-scaled.jpg
END:VEVENT
BEGIN:VEVENT
DTSTART;TZID=Europe/Warsaw:20221217T190000
DTEND;TZID=Europe/Warsaw:20221217T190000
DTSTAMP:20260423T205937
CREATED:20221205T093937Z
LAST-MODIFIED:20221205T093937Z
UID:68992-1671303600-1671303600@www.amuz.krakow.pl
SUMMARY:[:pl]Koncert muzyki elektroakustycznej “NoiseINoise"[:en]Electroacoustic music concert “NoiseINoise"[:]
DESCRIPTION:
URL:https://www.amuz.krakow.pl/wydzialy/wydzial-i-tworczosci-interpretacji-i-edukacji-muzycznej/katedra-kompozycji/aktualnosci22/koncert-noiseinoise/
ATTACH;FMTTYPE=image/jpeg:https://www.amuz.krakow.pl/wp-content/uploads/2022/05/koncert-1.jpg
END:VEVENT
BEGIN:VEVENT
DTSTART;TZID=Europe/Warsaw:20221218T133000
DTEND;TZID=Europe/Warsaw:20221218T133000
DTSTAMP:20260423T205937
CREATED:20221206T132210Z
LAST-MODIFIED:20221206T132210Z
UID:69272-1671370200-1671370200@www.amuz.krakow.pl
SUMMARY:[:pl]X Organowe Matinée - Mikołaj Tokarczyk[:en]10th Organ Matinée - Mikołaj Tokarczyk[:]
DESCRIPTION:
URL:https://www.amuz.krakow.pl/wydzialy/wydzial-ii-instrumentalny/katedra-organow/aktualnosci-22/x-organowe-matinee-mikolaj-tokarczyk/
ATTACH;FMTTYPE=image/jpeg:https://www.amuz.krakow.pl/wp-content/uploads/2022/04/organowy-matinee-www.jpg
END:VEVENT
BEGIN:VEVENT
DTSTART;TZID=Europe/Warsaw:20221218T180000
DTEND;TZID=Europe/Warsaw:20221218T180000
DTSTAMP:20260423T205937
CREATED:20220907T122852Z
LAST-MODIFIED:20221014T131547Z
UID:65300-1671386400-1671386400@www.amuz.krakow.pl
SUMMARY:[:pl]Koncert Orkiestry Kameralnej[:en]Chamber Orchestra concert[:]
DESCRIPTION:
URL:https://www.amuz.krakow.pl/koncert-orkiestry-kameralnej-18-12-2022/
ATTACH;FMTTYPE=image/jpeg:https://www.amuz.krakow.pl/wp-content/uploads/2022/09/orkiestra-kameralna-kafelek.jpg
END:VEVENT
BEGIN:VEVENT
DTSTART;TZID=Europe/Warsaw:20221220T190000
DTEND;TZID=Europe/Warsaw:20221220T190000
DTSTAMP:20260423T205937
CREATED:20221207T124339Z
LAST-MODIFIED:20221207T124339Z
UID:69302-1671562800-1671562800@www.amuz.krakow.pl
SUMMARY:[:pl]ONLY CELLO! - koncert wiolonczelowy studentów z Polski i Korei[:en]ONLY CELLO! - concert of students from Poland and Korea[:]
DESCRIPTION:
URL:https://www.amuz.krakow.pl/wydzialy/wydzial-ii-instrumentalny/katedra-wiolonczeli-i-kontrabasu/aktualnosci-22/only-cello/
ATTACH;FMTTYPE=image/jpeg:https://www.amuz.krakow.pl/wp-content/uploads/2022/12/only-cello-20-12-2022-web.jpg
END:VEVENT
BEGIN:VEVENT
DTSTART;TZID=Europe/Warsaw:20230111T190000
DTEND;TZID=Europe/Warsaw:20230111T190000
DTSTAMP:20260423T205937
CREATED:20220921T124826Z
LAST-MODIFIED:20221014T131435Z
UID:65757-1673463600-1673463600@www.amuz.krakow.pl
SUMMARY:[:pl]Koncert Big Bandu AMKP[:en]AMKP Big Band's concert[:]
DESCRIPTION:
URL:https://www.amuz.krakow.pl/orkiestry-akademickie/big-band/koncerty-2022-2023/koncert-big-bandu-11-01-2023/
ATTACH;FMTTYPE=image/jpeg:https://www.amuz.krakow.pl/wp-content/uploads/2022/09/big-band2.jpg
END:VEVENT
BEGIN:VEVENT
DTSTART;VALUE=DATE:20230114
DTEND;VALUE=DATE:20230116
DTSTAMP:20260423T205937
CREATED:20221220T124919Z
LAST-MODIFIED:20221227T103111Z
UID:69762-1673654400-1673827199@www.amuz.krakow.pl
SUMMARY:[:pl]II Festiwal Kwartetów Smyczkowych "Symetrie" - 14-15 stycznia 2023[:en]Second String Quartet Festival "Symmetries" - 14-15 January 2023[:]
DESCRIPTION:
URL:https://www.amuz.krakow.pl/en/wydzialy/wydzial-ii-instrumentalny/katedra-kameralistyki/aktualnosci-22/ii-festiwal-kwartetow-smyczkowych-symetrie/
ATTACH;FMTTYPE=image/jpeg:https://www.amuz.krakow.pl/wp-content/uploads/2022/12/symetrie-2023-web-1.jpg
END:VEVENT
BEGIN:VEVENT
DTSTART;TZID=Europe/Warsaw:20230114T180000
DTEND;TZID=Europe/Warsaw:20230114T180000
DTSTAMP:20260423T205937
CREATED:20220921T125955Z
LAST-MODIFIED:20221014T131336Z
UID:65761-1673719200-1673719200@www.amuz.krakow.pl
SUMMARY:[:pl]Koncert Orkiestry Barokowej "Mr. Handel's Trumpeters"[:en]Baroque Orchestra concert "Mr. Handel's Trumpeters"[:]
DESCRIPTION:
URL:https://www.amuz.krakow.pl/orkiestry-akademickie/orkiestra-barokowa/koncerty-2022-2023/koncert-orkiestry-barokowej-14-01-2023/
ATTACH;FMTTYPE=image/jpeg:https://www.amuz.krakow.pl/wp-content/uploads/2022/09/orkiestra-barokowa-kafelek.jpg
END:VEVENT
BEGIN:VEVENT
DTSTART;TZID=Europe/Warsaw:20230115T133000
DTEND;TZID=Europe/Warsaw:20230115T133000
DTSTAMP:20260423T205937
CREATED:20230105T132713Z
LAST-MODIFIED:20230105T132713Z
UID:69985-1673789400-1673789400@www.amuz.krakow.pl
SUMMARY:[:pl]XI Organowe Matinée - koncert organowy w wykonaniu Filipa Koniecznego[:en]XI Organ Matinée - organ concert by Filip Konieczny[:]
DESCRIPTION:
URL:https://www.amuz.krakow.pl/wydzialy/wydzial-ii-instrumentalny/katedra-organow/aktualnosci-22/xi-organowe-matinee/
ATTACH;FMTTYPE=image/jpeg:https://www.amuz.krakow.pl/wp-content/uploads/2022/04/organowy-matinee-www.jpg
END:VEVENT
BEGIN:VEVENT
DTSTART;VALUE=DATE:20230117
DTEND;VALUE=DATE:20230118
DTSTAMP:20260423T205937
CREATED:20221228T120604Z
LAST-MODIFIED:20231026T125853Z
UID:69852-1673913600-1673999999@www.amuz.krakow.pl
SUMMARY:[:pl]“Problemy aplikaturowe i interpretacyjne w sonatach wiolonczelowych L. van Beethovena" - seminarium naukowe[:en]“Fingering and interpretation problems in L. van Beethoven's cello sonatas" - academic meeting[:]
DESCRIPTION:
URL:https://www.amuz.krakow.pl/wydzialy/wydzial-ii-instrumentalny/katedra-wiolonczeli-i-kontrabasu/aktualnosci-22/problemy-aplikaturowe-i-interpretacyjne-w-sonatach-wiolonczelowych-l-van-beethovena/
ATTACH;FMTTYPE=image/jpeg:https://www.amuz.krakow.pl/wp-content/uploads/2022/11/sesja-naukowa.jpg
END:VEVENT
BEGIN:VEVENT
DTSTART;TZID=Europe/Warsaw:20230118T180000
DTEND;TZID=Europe/Warsaw:20230118T180000
DTSTAMP:20260423T205937
CREATED:20230117T132310Z
LAST-MODIFIED:20230117T132310Z
UID:70203-1674064800-1674064800@www.amuz.krakow.pl
SUMMARY:[:pl]Ad libitum - audycja studentów Wydziału Wokalno-Aktorskiego[:en]Ad libitum - concert of students of the Faculty of Voice and Drama[:]
DESCRIPTION:
URL:https://www.amuz.krakow.pl/wydzialy/wydzial-iii-wokalno-aktorski/pracownicy-katedry-2/aktualnosci-22/ad-libitum-18-01-2023/
ATTACH;FMTTYPE=image/jpeg:https://www.amuz.krakow.pl/wp-content/uploads/2023/01/Plakat-18.01_page-0001.jpg
END:VEVENT
BEGIN:VEVENT
DTSTART;TZID=Europe/Warsaw:20230120T190000
DTEND;TZID=Europe/Warsaw:20230120T190000
DTSTAMP:20260423T205937
CREATED:20221220T130244Z
LAST-MODIFIED:20230119T110705Z
UID:69769-1674241200-1674241200@www.amuz.krakow.pl
SUMMARY:[:pl]Koncert studentów Katedry Perkusji i Muzyki Współczesnej[:en]Concert of students of Department of Percussion and Contemporary Music[:]
DESCRIPTION:
URL:https://www.amuz.krakow.pl/wydzialy/wydzial-ii-instrumentalny/katedra-perkusji-i-muzyki-wspolczesnej/aktualnosci-22/iii-koncert-studentow-katedry-perkusji/
ATTACH;FMTTYPE=image/jpeg:https://www.amuz.krakow.pl/wp-content/uploads/2023/01/koncert-5.jpg
END:VEVENT
END:VCALENDAR