BEGIN:VCALENDAR
VERSION:2.0
PRODID:-//Akademia Muzyczna im. Krzysztofa Pendereckiego w Krakowie - ECPv6.15.20//NONSGML v1.0//EN
CALSCALE:GREGORIAN
METHOD:PUBLISH
X-ORIGINAL-URL:https://www.amuz.krakow.pl/en
X-WR-CALDESC:Events for Akademia Muzyczna im. Krzysztofa Pendereckiego w Krakowie
REFRESH-INTERVAL;VALUE=DURATION:PT1H
X-Robots-Tag:noindex
X-PUBLISHED-TTL:PT1H
BEGIN:VTIMEZONE
TZID:Europe/Warsaw
BEGIN:DAYLIGHT
TZOFFSETFROM:+0100
TZOFFSETTO:+0200
TZNAME:CEST
DTSTART:20210328T010000
END:DAYLIGHT
BEGIN:STANDARD
TZOFFSETFROM:+0200
TZOFFSETTO:+0100
TZNAME:CET
DTSTART:20211031T010000
END:STANDARD
BEGIN:DAYLIGHT
TZOFFSETFROM:+0100
TZOFFSETTO:+0200
TZNAME:CEST
DTSTART:20220327T010000
END:DAYLIGHT
BEGIN:STANDARD
TZOFFSETFROM:+0200
TZOFFSETTO:+0100
TZNAME:CET
DTSTART:20221030T010000
END:STANDARD
BEGIN:DAYLIGHT
TZOFFSETFROM:+0100
TZOFFSETTO:+0200
TZNAME:CEST
DTSTART:20230326T010000
END:DAYLIGHT
BEGIN:STANDARD
TZOFFSETFROM:+0200
TZOFFSETTO:+0100
TZNAME:CET
DTSTART:20231029T010000
END:STANDARD
END:VTIMEZONE
BEGIN:VEVENT
DTSTART;TZID=Europe/Warsaw:20220702T170000
DTEND;TZID=Europe/Warsaw:20220702T170000
DTSTAMP:20260426T035534
CREATED:20220630T114625Z
LAST-MODIFIED:20220907T080407Z
UID:64118-1656781200-1656781200@www.amuz.krakow.pl
SUMMARY:[:pl]Konstruktywne Dysonanse[:]
DESCRIPTION:
URL:https://www.amuz.krakow.pl/wydzialy/wydzial-i-tworczosci-interpretacji-i-edukacji-muzycznej/katedra-kompozycji/aktualnosci/konstruktywne-dysonanse-2022/
ATTACH;FMTTYPE=image/jpeg:https://www.amuz.krakow.pl/wp-content/uploads/2022/05/koncert-2.jpg
END:VEVENT
BEGIN:VEVENT
DTSTART;TZID=Europe/Warsaw:20220702T200000
DTEND;TZID=Europe/Warsaw:20220702T200000
DTSTAMP:20260426T035534
CREATED:20220629T113150Z
LAST-MODIFIED:20220630T111823Z
UID:64082-1656792000-1656792000@www.amuz.krakow.pl
SUMMARY:[:pl]Koncert "Powitanie lata" z udziałem laureatów konkursu AMKP „Gram z orkiestrą"[:]
DESCRIPTION:
URL:https://www.amuz.krakow.pl/powitanie-lata-koncert/
ATTACH;FMTTYPE=image/jpeg:https://www.amuz.krakow.pl/wp-content/uploads/2022/06/d0c42546bbadb69847efba27330ceef9.jpg
END:VEVENT
BEGIN:VEVENT
DTSTART;TZID=Europe/Warsaw:20220710T183000
DTEND;TZID=Europe/Warsaw:20220710T183000
DTSTAMP:20260426T035534
CREATED:20220523T084210Z
LAST-MODIFIED:20220629T112754Z
UID:62650-1657477800-1657477800@www.amuz.krakow.pl
SUMMARY:[:pl]Koncert Orkiestry Muzyki Nowej w Cricotece - prezentacja utworu doktorskiego Pawła Malinowskiego[:]
DESCRIPTION:
URL:https://www.amuz.krakow.pl/wydzialy/wydzial-i-tworczosci-interpretacji-i-edukacji-muzycznej/katedra-kompozycji/aktualnosci/koncert-orkiestry-muzyki-nowej-w-cricotece-prezentacja-utworu-doktorskiego-pawla-malinowskiego/
LOCATION:Cricoteka\, ul. Nadwiślańska 2/4\, Kraków
ATTACH;FMTTYPE=image/jpeg:https://www.amuz.krakow.pl/wp-content/uploads/2022/06/5-scaled.jpg
END:VEVENT
END:VCALENDAR