BEGIN:VCALENDAR
VERSION:2.0
PRODID:-//Akademia Muzyczna im. Krzysztofa Pendereckiego w Krakowie - ECPv6.15.20//NONSGML v1.0//EN
CALSCALE:GREGORIAN
METHOD:PUBLISH
X-ORIGINAL-URL:https://www.amuz.krakow.pl/en
X-WR-CALDESC:Events for Akademia Muzyczna im. Krzysztofa Pendereckiego w Krakowie
REFRESH-INTERVAL;VALUE=DURATION:PT1H
X-Robots-Tag:noindex
X-PUBLISHED-TTL:PT1H
BEGIN:VTIMEZONE
TZID:Europe/Warsaw
BEGIN:DAYLIGHT
TZOFFSETFROM:+0100
TZOFFSETTO:+0200
TZNAME:CEST
DTSTART:20210328T010000
END:DAYLIGHT
BEGIN:STANDARD
TZOFFSETFROM:+0200
TZOFFSETTO:+0100
TZNAME:CET
DTSTART:20211031T010000
END:STANDARD
BEGIN:DAYLIGHT
TZOFFSETFROM:+0100
TZOFFSETTO:+0200
TZNAME:CEST
DTSTART:20220327T010000
END:DAYLIGHT
BEGIN:STANDARD
TZOFFSETFROM:+0200
TZOFFSETTO:+0100
TZNAME:CET
DTSTART:20221030T010000
END:STANDARD
BEGIN:DAYLIGHT
TZOFFSETFROM:+0100
TZOFFSETTO:+0200
TZNAME:CEST
DTSTART:20230326T010000
END:DAYLIGHT
BEGIN:STANDARD
TZOFFSETFROM:+0200
TZOFFSETTO:+0100
TZNAME:CET
DTSTART:20231029T010000
END:STANDARD
END:VTIMEZONE
BEGIN:VEVENT
DTSTART;TZID=Europe/Warsaw:20220218T190000
DTEND;TZID=Europe/Warsaw:20220218T190000
DTSTAMP:20260425T192314
CREATED:20220207T135652Z
LAST-MODIFIED:20220207T140028Z
UID:57580-1645210800-1645210800@www.amuz.krakow.pl
SUMMARY:Johann Sebastian Bach „Das Wohltemperierte Clavier” 1722–2022
DESCRIPTION:
URL:https://www.amuz.krakow.pl/jsbach-das-wohltemperierte-clavier/
ATTACH;FMTTYPE=image/png:https://www.amuz.krakow.pl/wp-content/uploads/2022/02/das-woltepieran-klavier-web.png
END:VEVENT
BEGIN:VEVENT
DTSTART;TZID=Europe/Warsaw:20220219T190000
DTEND;TZID=Europe/Warsaw:20220219T190000
DTSTAMP:20260425T192314
CREATED:20220117T142605Z
LAST-MODIFIED:20220203T135502Z
UID:57132-1645297200-1645297200@www.amuz.krakow.pl
SUMMARY:[:pl]Koncert w ramach Jubileuszu 50-lecia Katedry Kameralistyki - ODWOŁANY![:en]Koncert w ramach Jubileuszu 50-lecia Katedry Kameralistyki[:]
DESCRIPTION:
URL:https://www.amuz.krakow.pl/jubileusz-katedry-kameralistyki2/
ATTACH;FMTTYPE=image/jpeg:https://www.amuz.krakow.pl/wp-content/uploads/2022/01/50-KK-odwolany.jpg
END:VEVENT
BEGIN:VEVENT
DTSTART;TZID=Europe/Warsaw:20220220T131500
DTEND;TZID=Europe/Warsaw:20220220T140000
DTSTAMP:20260425T192314
CREATED:20220215T113530Z
LAST-MODIFIED:20220216T102530Z
UID:57681-1645362900-1645365600@www.amuz.krakow.pl
SUMMARY:[:pl]„Matinée Organowe” w wykonaniu studentów Akademii Muzycznej im. Grażyny i Kiejstuta Bacewiczów w Łodzi[:en]„Matineé Organowe” w wykonaniu studentów Akademii Muzycznej im. Grażyny i Kiejstuta Bacewiczów w Łodzi[:]
DESCRIPTION:
URL:https://www.amuz.krakow.pl/matinee-organowe2/
ATTACH;FMTTYPE=image/jpeg:https://www.amuz.krakow.pl/wp-content/uploads/2022/02/organowy-matinee-www.jpg
END:VEVENT
BEGIN:VEVENT
DTSTART;TZID=Europe/Warsaw:20220220T180000
DTEND;TZID=Europe/Warsaw:20220220T180000
DTSTAMP:20260425T192314
CREATED:20220207T135858Z
LAST-MODIFIED:20220207T135858Z
UID:57583-1645380000-1645380000@www.amuz.krakow.pl
SUMMARY:Johann Sebastian Bach „Das Wohltemperierte Clavier” 1722–2022
DESCRIPTION:
URL:https://www.amuz.krakow.pl/jsbach-das-wohltemperierte-clavier/
ATTACH;FMTTYPE=image/png:https://www.amuz.krakow.pl/wp-content/uploads/2022/02/das-woltepieran-klavier-web.png
END:VEVENT
BEGIN:VEVENT
DTSTART;TZID=Europe/Warsaw:20220223T180000
DTEND;TZID=Europe/Warsaw:20220223T180000
DTSTAMP:20260425T192314
CREATED:20220215T140932Z
LAST-MODIFIED:20220215T140932Z
UID:57700-1645639200-1645639200@www.amuz.krakow.pl
SUMMARY:[:pl]Sonata triowa XXI wieku[:]
DESCRIPTION:
URL:https://www.amuz.krakow.pl/sonata-triowa-xxi-wieku/
ATTACH;FMTTYPE=image/jpeg:https://www.amuz.krakow.pl/wp-content/uploads/2022/02/sonata-triowa-web.jpg
END:VEVENT
BEGIN:VEVENT
DTSTART;TZID=Europe/Warsaw:20220225T190000
DTEND;TZID=Europe/Warsaw:20220225T190000
DTSTAMP:20260425T192314
CREATED:20220210T103749Z
LAST-MODIFIED:20220210T104111Z
UID:57637-1645815600-1645815600@www.amuz.krakow.pl
SUMMARY:[:pl]Recital fortepianowy dr. hab. Mariusza Ciołko[:]
DESCRIPTION:
URL:https://www.amuz.krakow.pl/recital-mariusz-ciolko/
ATTACH;FMTTYPE=image/jpeg:https://www.amuz.krakow.pl/wp-content/uploads/2022/02/koncert-1.jpg
END:VEVENT
BEGIN:VEVENT
DTSTART;TZID=Europe/Warsaw:20220227T180000
DTEND;TZID=Europe/Warsaw:20220227T180000
DTSTAMP:20260425T192314
CREATED:20211001T095939Z
LAST-MODIFIED:20220127T113829Z
UID:53338-1645984800-1645984800@www.amuz.krakow.pl
SUMMARY:Koncert Orkiestry Dętej
DESCRIPTION:
URL:https://www.amuz.krakow.pl/koncert-orkiestry-detej-27-02-2022/
LOCATION:Filharmonia im. K. Szymanowskiego
ATTACH;FMTTYPE=image/jpeg:https://www.amuz.krakow.pl/wp-content/uploads/2021/10/deta-23.10.2021-s.jpg
END:VEVENT
BEGIN:VEVENT
DTSTART;TZID=Europe/Warsaw:20220227T180000
DTEND;TZID=Europe/Warsaw:20220227T180000
DTSTAMP:20260425T192314
CREATED:20220210T110334Z
LAST-MODIFIED:20220210T135254Z
UID:57651-1645984800-1645984800@www.amuz.krakow.pl
SUMMARY:Recital fortepianowy dr. Piotra Kowala
DESCRIPTION:
URL:https://www.amuz.krakow.pl/recital-piotr-kowal/
ATTACH;FMTTYPE=image/jpeg:https://www.amuz.krakow.pl/wp-content/uploads/2022/02/koncert-2.jpg
END:VEVENT
BEGIN:VEVENT
DTSTART;TZID=Europe/Warsaw:20220228T100000
DTEND;TZID=Europe/Warsaw:20220302T190000
DTSTAMP:20260425T192314
CREATED:20220204T103417Z
LAST-MODIFIED:20220204T103510Z
UID:57548-1646042400-1646247600@www.amuz.krakow.pl
SUMMARY:I Międzynarodowa Konferencja Obojowa
DESCRIPTION:
URL:https://www.amuz.krakow.pl/miedzynarodowa-konferencja-obojowa1/#new_tab
ATTACH;FMTTYPE=image/png:https://www.amuz.krakow.pl/wp-content/uploads/2022/02/KONFERENCJA-OBOJOWA-web.png
END:VEVENT
END:VCALENDAR