BEGIN:VCALENDAR
VERSION:2.0
PRODID:-//Akademia Muzyczna im. Krzysztofa Pendereckiego w Krakowie - ECPv6.15.20//NONSGML v1.0//EN
CALSCALE:GREGORIAN
METHOD:PUBLISH
X-ORIGINAL-URL:https://www.amuz.krakow.pl/en
X-WR-CALDESC:Events for Akademia Muzyczna im. Krzysztofa Pendereckiego w Krakowie
REFRESH-INTERVAL;VALUE=DURATION:PT1H
X-Robots-Tag:noindex
X-PUBLISHED-TTL:PT1H
BEGIN:VTIMEZONE
TZID:Europe/Warsaw
BEGIN:DAYLIGHT
TZOFFSETFROM:+0100
TZOFFSETTO:+0200
TZNAME:CEST
DTSTART:20190331T010000
END:DAYLIGHT
BEGIN:STANDARD
TZOFFSETFROM:+0200
TZOFFSETTO:+0100
TZNAME:CET
DTSTART:20191027T010000
END:STANDARD
BEGIN:DAYLIGHT
TZOFFSETFROM:+0100
TZOFFSETTO:+0200
TZNAME:CEST
DTSTART:20200329T010000
END:DAYLIGHT
BEGIN:STANDARD
TZOFFSETFROM:+0200
TZOFFSETTO:+0100
TZNAME:CET
DTSTART:20201025T010000
END:STANDARD
BEGIN:DAYLIGHT
TZOFFSETFROM:+0100
TZOFFSETTO:+0200
TZNAME:CEST
DTSTART:20210328T010000
END:DAYLIGHT
BEGIN:STANDARD
TZOFFSETFROM:+0200
TZOFFSETTO:+0100
TZNAME:CET
DTSTART:20211031T010000
END:STANDARD
BEGIN:DAYLIGHT
TZOFFSETFROM:+0100
TZOFFSETTO:+0200
TZNAME:CEST
DTSTART:20220327T010000
END:DAYLIGHT
BEGIN:STANDARD
TZOFFSETFROM:+0200
TZOFFSETTO:+0100
TZNAME:CET
DTSTART:20221030T010000
END:STANDARD
END:VTIMEZONE
BEGIN:VEVENT
DTSTART;VALUE=DATE:20201223
DTEND;VALUE=DATE:20210124
DTSTAMP:20260425T135437
CREATED:20201218T223319Z
LAST-MODIFIED:20210110T223100Z
UID:45791-1608681600-1611446399@www.amuz.krakow.pl
SUMMARY:Krzysztof Penderecki. Drzewo Życia – Sesja naukowo-artystyczna
DESCRIPTION:Katedra Wiolonczeli i Kontrabasu\nAkademia Muzyczna w Krakowie\n23 grudnia 2020\, Premiera: godz. 18:00\nWydarzenie ONLINE \nSesja naukowo-artystyczna Krzysztof Penderecki. Drzewo Życia\nSesja naukowa poświęcona życiu i twórczości prof. Krzysztofa Pendereckiego. W programie wydarzenia znajdą się wyjątkowe wspomnienia o Mistrzu\, wykłady oraz Impresja filmowa na temat Suity per Cello Solo Krzysztofa Pendereckiego\, którą zagrają studenci Katedry Wiolonczeli i Kontrabasu Akademii Muzycznej w Krakowie. W wydarzeniu wezmą udział zaproszeni Goście: Krystyna Zachwatowicz-Wajda\, prof. dr hab. Teresa Malecka\, prof. dr h.c. Barbara Świątek-Żelazna\, Stanisław Radwan\, prof. dr hab. Zdzisław Łapiński\, dr Maciej Negrey oraz dyr. Adam Balas — ECM im. Krzysztofa Pendereckiego. \nCzęść I\nWSPOMNIENIA \nPortret Mistrza. Wspomnienia o Krzysztofie Pendereckim. \nKrystyna Zachwatowicz-Wajda\nprof. dr h.c Barbara Świątek-Żelazna\nprof. dr hab. Teresa Malecka\nprof. dr hab. Zdzisław Łapiński\nStanisław Radwan\ndyr. Adam Balas (ECM im. Krzysztofa Pendereckiego) \nCzęść II\nWYKŁADY \nprof.dr hab. Teresa Malecka\nFenomen Krzysztofa Pendereckiego.Wielkość i pasja. \nprof.dr hab.Zdzisław Łapiński\nMuzyka wiolonczelowa Krzysztofa Pendereckiego-od nowoczesności do tradycji. \ndr Maciej Negrey\nPamięć i świadomość.Kilka myśli w pierwszym roku bez Pendereckiego. \nCzęść III\nKONCERT \nImpresja filmowa: Krzysztof Penderecki (1933-2020) Suita per Cello solo \nMonika Krasicka-Gajownik – wiolonczela\nHe Xu – wiolonczela\nMartyna Miodońska – wiolonczela\nAnna Klimczyk – wiolonczela\nMonika Würsten – wiolonczela\nPaweł Czarakcziew – wiolonczela\nSamuel Jasiński – wiolonczela\nAndriy Vorontsov – wiolonczela\nJerzy Trela – słowo (teksty Krzysztofa Pendereckiego) \nImpresja zrealizowana według koncepcji i pomysłu Doroty Imiełowskiej. Realizacja nagrania: Tadeusz Oratowski.
URL:https://www.amuz.krakow.pl/en/event/krzysztof-penderecki-drzewo-zycia-sesja-naukowo-artystyczna/
LOCATION:AKADEMIA W SIECI
ATTACH;FMTTYPE=image/jpeg:https://www.amuz.krakow.pl/wp-content/uploads/2020/12/drzewo-1.jpg
END:VEVENT
END:VCALENDAR