BEGIN:VCALENDAR
VERSION:2.0
PRODID:-//Akademia Muzyczna im. Krzysztofa Pendereckiego w Krakowie - ECPv6.15.20//NONSGML v1.0//EN
CALSCALE:GREGORIAN
METHOD:PUBLISH
X-ORIGINAL-URL:https://www.amuz.krakow.pl/en
X-WR-CALDESC:Events for Akademia Muzyczna im. Krzysztofa Pendereckiego w Krakowie
REFRESH-INTERVAL;VALUE=DURATION:PT1H
X-Robots-Tag:noindex
X-PUBLISHED-TTL:PT1H
BEGIN:VTIMEZONE
TZID:Europe/Warsaw
BEGIN:DAYLIGHT
TZOFFSETFROM:+0100
TZOFFSETTO:+0200
TZNAME:CEST
DTSTART:20200329T010000
END:DAYLIGHT
BEGIN:STANDARD
TZOFFSETFROM:+0200
TZOFFSETTO:+0100
TZNAME:CET
DTSTART:20201025T010000
END:STANDARD
BEGIN:DAYLIGHT
TZOFFSETFROM:+0100
TZOFFSETTO:+0200
TZNAME:CEST
DTSTART:20210328T010000
END:DAYLIGHT
BEGIN:STANDARD
TZOFFSETFROM:+0200
TZOFFSETTO:+0100
TZNAME:CET
DTSTART:20211031T010000
END:STANDARD
BEGIN:DAYLIGHT
TZOFFSETFROM:+0100
TZOFFSETTO:+0200
TZNAME:CEST
DTSTART:20220327T010000
END:DAYLIGHT
BEGIN:STANDARD
TZOFFSETFROM:+0200
TZOFFSETTO:+0100
TZNAME:CET
DTSTART:20221030T010000
END:STANDARD
END:VTIMEZONE
BEGIN:VEVENT
DTSTART;VALUE=DATE:20211024
DTEND;VALUE=DATE:20211025
DTSTAMP:20260425T160606
CREATED:20211006T202320Z
LAST-MODIFIED:20211006T202320Z
UID:53618-1635033600-1635119999@www.amuz.krakow.pl
SUMMARY:Art Forum Festival
DESCRIPTION:
URL:https://www.amuz.krakow.pl/wydzialy/wydzial-ii-instrumentalny/katedra-instrumentow-detych-drewnianych-i-akordeonu-2/aktualnosci/art-forum-festival/
ATTACH;FMTTYPE=image/jpeg:https://www.amuz.krakow.pl/wp-content/uploads/2021/10/Art-Forum-Festiwal-2021-scaled.jpg
END:VEVENT
BEGIN:VEVENT
DTSTART;VALUE=DATE:20211024
DTEND;VALUE=DATE:20211025
DTSTAMP:20260425T160606
CREATED:20211018T201840Z
LAST-MODIFIED:20211018T201840Z
UID:54115-1635033600-1635119999@www.amuz.krakow.pl
SUMMARY:Warsztaty mistrzowskie fletowo-klarnetowe z cyklu „Per academiam ad astra”
DESCRIPTION:
URL:https://www.amuz.krakow.pl/wydzialy/wydzial-ii-instrumentalny/katedra-instrumentow-detych-drewnianych-i-akordeonu-2/aktualnosci/warsztaty-mistrzowskie-fletowo-klarnetowe-z-cyklu-per-academiam-ad-astra/
LOCATION:Sala Kameralna\, ul. św. Tomasza 43\, Kraków\, Poland
ATTACH;FMTTYPE=image/jpeg:https://www.amuz.krakow.pl/wp-content/uploads/2021/10/ad-astra-23-24.10.2021.jpg
END:VEVENT
BEGIN:VEVENT
DTSTART;TZID=Europe/Warsaw:20211024T180000
DTEND;TZID=Europe/Warsaw:20211024T180000
DTSTAMP:20260425T160606
CREATED:20210930T192823Z
LAST-MODIFIED:20211011T191419Z
UID:53274-1635098400-1635098400@www.amuz.krakow.pl
SUMMARY:Koncert Orkiestry Kameralnej
DESCRIPTION:
URL:https://www.amuz.krakow.pl/koncert-orkiestry-kameralnej-24-10-2021/
LOCATION:Sala Koncertowa Akademii Muzycznej im. Krzysztofa Pendereckiego w Krakowie
ATTACH;FMTTYPE=image/jpeg:https://www.amuz.krakow.pl/wp-content/uploads/2021/10/kameralna-24.210.2022-s.jpg
END:VEVENT
BEGIN:VEVENT
DTSTART;TZID=Europe/Warsaw:20211028T180000
DTEND;TZID=Europe/Warsaw:20211028T180000
DTSTAMP:20260425T160606
CREATED:20211018T203318Z
LAST-MODIFIED:20211018T203318Z
UID:54127-1635444000-1635444000@www.amuz.krakow.pl
SUMMARY:Johann Sebastian Bach kameratronicznie
DESCRIPTION:
URL:https://www.amuz.krakow.pl/wydzialy/wydzial-ii-instrumentalny/katedra-skrzypiec-i-altowki/aktualnosci/johann-sebastian-bach-kameratronicznie/
LOCATION:Aula Florianka
ATTACH;FMTTYPE=image/jpeg:https://www.amuz.krakow.pl/wp-content/uploads/2021/10/kameratronicznie-28.10.2021.jpg
END:VEVENT
BEGIN:VEVENT
DTSTART;TZID=Europe/Warsaw:20211030T190000
DTEND;TZID=Europe/Warsaw:20211030T190000
DTSTAMP:20260425T160606
CREATED:20211020T115656Z
LAST-MODIFIED:20211020T120217Z
UID:54217-1635620400-1635620400@www.amuz.krakow.pl
SUMMARY:Two by Four
DESCRIPTION:
URL:https://www.amuz.krakow.pl/wydzialy/wydzial-i-tworczosci-interpretacji-i-edukacji-muzycznej/katedra-kompozycji/aktualnosci/two-by-four/
LOCATION:Sala Koncertowa Akademii Muzycznej im. Krzysztofa Pendereckiego w Krakowie
ATTACH;FMTTYPE=image/jpeg:https://www.amuz.krakow.pl/wp-content/uploads/2021/10/two-by-four-kafelek-30.10.2021.jpg
END:VEVENT
BEGIN:VEVENT
DTSTART;TZID=Europe/Warsaw:20211030T190000
DTEND;TZID=Europe/Warsaw:20211030T190000
DTSTAMP:20260425T160606
CREATED:20211027T213303Z
LAST-MODIFIED:20211027T213303Z
UID:54557-1635620400-1635620400@www.amuz.krakow.pl
SUMMARY:Zaduszki Organowe im. prof. Jana Jargonia
DESCRIPTION:
URL:https://www.amuz.krakow.pl/zaduszki-organowe-im-prof-jana-jargonia/
ATTACH;FMTTYPE=image/jpeg:https://www.amuz.krakow.pl/wp-content/uploads/2021/10/zaduszki-organowe-2021.jpg
END:VEVENT
BEGIN:VEVENT
DTSTART;TZID=Europe/Warsaw:20211102T190000
DTEND;TZID=Europe/Warsaw:20211102T190000
DTSTAMP:20260425T160606
CREATED:20211027T213451Z
LAST-MODIFIED:20211027T213451Z
UID:54559-1635879600-1635879600@www.amuz.krakow.pl
SUMMARY:Zaduszki Organowe im. prof. Jana Jargonia
DESCRIPTION:
URL:https://www.amuz.krakow.pl/zaduszki-organowe-im-prof-jana-jargonia/
ATTACH;FMTTYPE=image/jpeg:https://www.amuz.krakow.pl/wp-content/uploads/2021/10/zaduszki-organowe-2021.jpg
END:VEVENT
BEGIN:VEVENT
DTSTART;TZID=Europe/Warsaw:20211103T200000
DTEND;TZID=Europe/Warsaw:20211103T200000
DTSTAMP:20260425T160606
CREATED:20211027T213553Z
LAST-MODIFIED:20211027T213553Z
UID:54560-1635969600-1635969600@www.amuz.krakow.pl
SUMMARY:Zaduszki Organowe im. prof. Jana Jargonia
DESCRIPTION:
URL:https://www.amuz.krakow.pl/zaduszki-organowe-im-prof-jana-jargonia/
ATTACH;FMTTYPE=image/jpeg:https://www.amuz.krakow.pl/wp-content/uploads/2021/10/zaduszki-organowe-2021.jpg
END:VEVENT
BEGIN:VEVENT
DTSTART;TZID=Europe/Warsaw:20211104T200000
DTEND;TZID=Europe/Warsaw:20211104T200000
DTSTAMP:20260425T160606
CREATED:20211027T213642Z
LAST-MODIFIED:20211027T213642Z
UID:54561-1636056000-1636056000@www.amuz.krakow.pl
SUMMARY:Zaduszki Organowe im. prof. Jana Jargonia
DESCRIPTION:
URL:https://www.amuz.krakow.pl/zaduszki-organowe-im-prof-jana-jargonia/
ATTACH;FMTTYPE=image/jpeg:https://www.amuz.krakow.pl/wp-content/uploads/2021/10/zaduszki-organowe-2021.jpg
END:VEVENT
BEGIN:VEVENT
DTSTART;TZID=Europe/Warsaw:20211105T100000
DTEND;TZID=Europe/Warsaw:20211105T100000
DTSTAMP:20260425T160606
CREATED:20211027T213745Z
LAST-MODIFIED:20211027T213745Z
UID:54562-1636106400-1636106400@www.amuz.krakow.pl
SUMMARY:Zaduszki Organowe im. prof. Jana Jargonia
DESCRIPTION:
URL:https://www.amuz.krakow.pl/zaduszki-organowe-im-prof-jana-jargonia/
ATTACH;FMTTYPE=image/jpeg:https://www.amuz.krakow.pl/wp-content/uploads/2021/10/zaduszki-organowe-2021.jpg
END:VEVENT
BEGIN:VEVENT
DTSTART;TZID=Europe/Warsaw:20211105T100000
DTEND;TZID=Europe/Warsaw:20211105T143000
DTSTAMP:20260425T160606
CREATED:20211029T093505Z
LAST-MODIFIED:20211029T093505Z
UID:54608-1636106400-1636122600@www.amuz.krakow.pl
SUMMARY:[:pl]Pierwiastek tradycyjny i nowoczesny w muzyce organowej XX stulecia - II Międzynarodowa sesja naukowa[:en]Pierwiastek tradycyjny i nowoczesny w muzyce organowej XX stulecia[:]
DESCRIPTION:
URL:https://www.amuz.krakow.pl/wydzialy/wydzial-ii-instrumentalny/katedra-organow/aktualnosci/pierwiastek-tradycyjny-i-nowoczesny-w-muzyce-organowej-xx-stulecia
ATTACH;FMTTYPE=image/jpeg:https://www.amuz.krakow.pl/wp-content/uploads/2021/10/KFK-zaduszki-2021-Miedzynarodowa-sesja-naukowa.jpg
END:VEVENT
BEGIN:VEVENT
DTSTART;TZID=Europe/Warsaw:20211105T190000
DTEND;TZID=Europe/Warsaw:20211105T190000
DTSTAMP:20260425T160606
CREATED:20211027T214001Z
LAST-MODIFIED:20211027T214001Z
UID:54567-1636138800-1636138800@www.amuz.krakow.pl
SUMMARY:Zaduszki Organowe im. prof. Jana Jargonia
DESCRIPTION:
URL:https://www.amuz.krakow.pl/zaduszki-organowe-im-prof-jana-jargonia/
ATTACH;FMTTYPE=image/jpeg:https://www.amuz.krakow.pl/wp-content/uploads/2021/10/zaduszki-organowe-2021.jpg
END:VEVENT
BEGIN:VEVENT
DTSTART;TZID=Europe/Warsaw:20211106T160000
DTEND;TZID=Europe/Warsaw:20211106T160000
DTSTAMP:20260425T160606
CREATED:20211026T102605Z
LAST-MODIFIED:20211027T210014Z
UID:54442-1636214400-1636214400@www.amuz.krakow.pl
SUMMARY:[:pl]Dédicace á Piotr Moss – konferencja naukowo-artystyczna[:]
DESCRIPTION:
URL:https://www.amuz.krakow.pl/wydzialy/wydzial-ii-instrumentalny/katedra-gitary-i-harfy/aktualnosci/dedicace-a-piotr-moss/
LOCATION:Sala Kameralna\, ul. św. Tomasza 43\, Kraków\, Poland
ATTACH;FMTTYPE=image/jpeg:https://www.amuz.krakow.pl/wp-content/uploads/2021/10/Dedicace-a-Piotr-Moss-06.11.2021.jpg
END:VEVENT
BEGIN:VEVENT
DTSTART;TZID=Europe/Warsaw:20211106T190000
DTEND;TZID=Europe/Warsaw:20211106T190000
DTSTAMP:20260425T160606
CREATED:20211027T214039Z
LAST-MODIFIED:20211027T214039Z
UID:54568-1636225200-1636225200@www.amuz.krakow.pl
SUMMARY:Zaduszki Organowe im. prof. Jana Jargonia
DESCRIPTION:
URL:https://www.amuz.krakow.pl/zaduszki-organowe-im-prof-jana-jargonia/
ATTACH;FMTTYPE=image/jpeg:https://www.amuz.krakow.pl/wp-content/uploads/2021/10/zaduszki-organowe-2021.jpg
END:VEVENT
BEGIN:VEVENT
DTSTART;TZID=Europe/Warsaw:20211107T170000
DTEND;TZID=Europe/Warsaw:20211107T170000
DTSTAMP:20260425T160606
CREATED:20211027T214144Z
LAST-MODIFIED:20211027T214144Z
UID:54569-1636304400-1636304400@www.amuz.krakow.pl
SUMMARY:Zaduszki Organowe im. prof. Jana Jargonia
DESCRIPTION:
URL:https://www.amuz.krakow.pl/zaduszki-organowe-im-prof-jana-jargonia/
ATTACH;FMTTYPE=image/jpeg:https://www.amuz.krakow.pl/wp-content/uploads/2021/10/zaduszki-organowe-2021.jpg
END:VEVENT
BEGIN:VEVENT
DTSTART;TZID=Europe/Warsaw:20211107T180000
DTEND;TZID=Europe/Warsaw:20211107T180000
DTSTAMP:20260425T160606
CREATED:20210930T200411Z
LAST-MODIFIED:20211026T100616Z
UID:53291-1636308000-1636308000@www.amuz.krakow.pl
SUMMARY:Koncert Orkiestry Symfonicznej
DESCRIPTION:
URL:https://www.amuz.krakow.pl/koncert-orkiestry-symfonicznej-07-11-2021/
LOCATION:Muzeum Lotnictwa Polskiego\, al. Jana Pawła II 39\, Kraków\, Poland
ATTACH;FMTTYPE=image/jpeg:https://www.amuz.krakow.pl/wp-content/uploads/2021/10/Koncert-Orkiestry-Symfonicznej-07.11.2021-s.jpg
END:VEVENT
BEGIN:VEVENT
DTSTART;TZID=Europe/Warsaw:20211108T190000
DTEND;TZID=Europe/Warsaw:20211108T190000
DTSTAMP:20260425T160606
CREATED:20211029T211257Z
LAST-MODIFIED:20211029T211257Z
UID:54625-1636398000-1636398000@www.amuz.krakow.pl
SUMMARY:Muzyczny bukiet dla Maestry
DESCRIPTION:
URL:https://www.amuz.krakow.pl/wydzialy/wydzial-iii-wokalno-aktorski/pracownicy-katedry-2/aktualnosci/muzyczny-bukiet-dla-maestry/
LOCATION:Sala Koncertowa Akademii Muzycznej im. Krzysztofa Pendereckiego w Krakowie
ATTACH;FMTTYPE=image/jpeg:https://www.amuz.krakow.pl/wp-content/uploads/2021/10/Muzyczny-bukiet-dla-Maestry-08.11.2021.jpg
END:VEVENT
BEGIN:VEVENT
DTSTART;TZID=Europe/Warsaw:20211108T190000
DTEND;TZID=Europe/Warsaw:20211108T190000
DTSTAMP:20260425T160606
CREATED:20211103T212301Z
LAST-MODIFIED:20211103T212301Z
UID:54658-1636398000-1636398000@www.amuz.krakow.pl
SUMMARY:Muzyka smyczkowa C. Saint-Saensa. Koncerty w 100. rocznicę śmierci kompozytora
DESCRIPTION:
URL:https://www.amuz.krakow.pl/wydzialy/wydzial-ii-instrumentalny/katedra-skrzypiec-i-altowki/aktualnosci/muzyka-smyczkowa-c-saint-saensa-koncerty-w-100-rocznice-smierci-kompozytora
LOCATION:Aula Florianka
ATTACH;FMTTYPE=image/jpeg:https://www.amuz.krakow.pl/wp-content/uploads/2021/11/Muzyka-smyczkowa-C.-Saint-Saensa-08.09-11.2021.jpg
END:VEVENT
BEGIN:VEVENT
DTSTART;TZID=Europe/Warsaw:20211108T200000
DTEND;TZID=Europe/Warsaw:20211108T200000
DTSTAMP:20260425T160606
CREATED:20211027T214219Z
LAST-MODIFIED:20211027T214219Z
UID:54570-1636401600-1636401600@www.amuz.krakow.pl
SUMMARY:Zaduszki Organowe im. prof. Jana Jargonia
DESCRIPTION:
URL:https://www.amuz.krakow.pl/zaduszki-organowe-im-prof-jana-jargonia/
ATTACH;FMTTYPE=image/jpeg:https://www.amuz.krakow.pl/wp-content/uploads/2021/10/zaduszki-organowe-2021.jpg
END:VEVENT
BEGIN:VEVENT
DTSTART;TZID=Europe/Warsaw:20211109T190000
DTEND;TZID=Europe/Warsaw:20211109T190000
DTSTAMP:20260425T160606
CREATED:20211027T214249Z
LAST-MODIFIED:20211027T214445Z
UID:54571-1636484400-1636484400@www.amuz.krakow.pl
SUMMARY:Zaduszki Organowe im. prof. Jana Jargonia
DESCRIPTION:
URL:https://www.amuz.krakow.pl/zaduszki-organowe-im-prof-jana-jargonia/
ATTACH;FMTTYPE=image/jpeg:https://www.amuz.krakow.pl/wp-content/uploads/2021/10/zaduszki-organowe-2021.jpg
END:VEVENT
BEGIN:VEVENT
DTSTART;TZID=Europe/Warsaw:20211109T190000
DTEND;TZID=Europe/Warsaw:20211109T190000
DTSTAMP:20260425T160606
CREATED:20211103T212454Z
LAST-MODIFIED:20211103T212454Z
UID:54662-1636484400-1636484400@www.amuz.krakow.pl
SUMMARY:Muzyka smyczkowa C. Saint-Saensa. Koncerty w 100. rocznicę śmierci kompozytora
DESCRIPTION:
URL:https://www.amuz.krakow.pl/wydzialy/wydzial-ii-instrumentalny/katedra-skrzypiec-i-altowki/aktualnosci/muzyka-smyczkowa-c-saint-saensa-koncerty-w-100-rocznice-smierci-kompozytora
LOCATION:Aula Florianka
ATTACH;FMTTYPE=image/jpeg:https://www.amuz.krakow.pl/wp-content/uploads/2021/11/Muzyka-smyczkowa-C.-Saint-Saensa-08.09-11.2021.jpg
END:VEVENT
BEGIN:VEVENT
DTSTART;TZID=Europe/Warsaw:20211112T120000
DTEND;TZID=Europe/Warsaw:20211112T190000
DTSTAMP:20260425T160606
CREATED:20211105T220747Z
LAST-MODIFIED:20211105T221043Z
UID:54698-1636718400-1636743600@www.amuz.krakow.pl
SUMMARY:29. Audio Art Festival 2021
DESCRIPTION:
URL:https://www.amuz.krakow.pl/29-audio-art-festival-2021
ATTACH;FMTTYPE=image/jpeg:https://www.amuz.krakow.pl/wp-content/uploads/2021/11/29.-Audio-Art-Festival-2021-kafelek.jpg
END:VEVENT
BEGIN:VEVENT
DTSTART;TZID=Europe/Warsaw:20211113T120000
DTEND;TZID=Europe/Warsaw:20211113T220000
DTSTAMP:20260425T160606
CREATED:20211105T221154Z
LAST-MODIFIED:20211105T221154Z
UID:54700-1636804800-1636840800@www.amuz.krakow.pl
SUMMARY:29. Audio Art Festival 2021
DESCRIPTION:
URL:https://www.amuz.krakow.pl/29-audio-art-festival-2021
ATTACH;FMTTYPE=image/jpeg:https://www.amuz.krakow.pl/wp-content/uploads/2021/11/29.-Audio-Art-Festival-2021-kafelek.jpg
END:VEVENT
BEGIN:VEVENT
DTSTART;TZID=Europe/Warsaw:20211114T120000
DTEND;TZID=Europe/Warsaw:20211114T200000
DTSTAMP:20260425T160606
CREATED:20211105T221427Z
LAST-MODIFIED:20211105T221427Z
UID:54703-1636891200-1636920000@www.amuz.krakow.pl
SUMMARY:29. Audio Art Festival 2021
DESCRIPTION:
URL:https://www.amuz.krakow.pl/29-audio-art-festival-2021
ATTACH;FMTTYPE=image/jpeg:https://www.amuz.krakow.pl/wp-content/uploads/2021/11/29.-Audio-Art-Festival-2021-kafelek.jpg
END:VEVENT
BEGIN:VEVENT
DTSTART;TZID=Europe/Warsaw:20211114T190000
DTEND;TZID=Europe/Warsaw:20211114T190000
DTSTAMP:20260425T160606
CREATED:20210930T201009Z
LAST-MODIFIED:20211027T201904Z
UID:53297-1636916400-1636916400@www.amuz.krakow.pl
SUMMARY:Koncert Orkiestry Kameralnej
DESCRIPTION:
URL:https://www.amuz.krakow.pl/koncert-orkiestry-kameralnej-14-11-2021/
LOCATION:Sala Hołdu Pruskiego\, Galeria Sztuki Polskiej XIX wieku w Sukiennicach
ATTACH;FMTTYPE=image/jpeg:https://www.amuz.krakow.pl/wp-content/uploads/2021/09/Orkiestra-Kameralna.jpg
END:VEVENT
BEGIN:VEVENT
DTSTART;TZID=Europe/Warsaw:20211116T100000
DTEND;TZID=Europe/Warsaw:20211116T173000
DTSTAMP:20260425T160606
CREATED:20211108T213354Z
LAST-MODIFIED:20211108T213354Z
UID:54778-1637056800-1637083800@www.amuz.krakow.pl
SUMMARY:„Muzyka wobec poezji i nauczania Karola Wojtyły i Jana Pawła II” (cz. XII)
DESCRIPTION:
URL:https://www.amuz.krakow.pl/muzyka-wobec-poezji-i-nauczania-karola-wojtyly-i-jana-pawla-ii-cz-xii
LOCATION:Sala Senacka
ATTACH;FMTTYPE=image/jpeg:https://www.amuz.krakow.pl/wp-content/uploads/2021/11/Muzyka-wobec-poezji-i-nauczania-Karola-Wojtyly-i-Jana-Pawla-II-2021.jpg
END:VEVENT
BEGIN:VEVENT
DTSTART;TZID=Europe/Warsaw:20211116T190000
DTEND;TZID=Europe/Warsaw:20211116T190000
DTSTAMP:20260425T160606
CREATED:20211112T161333Z
LAST-MODIFIED:20211112T161832Z
UID:54867-1637089200-1637089200@www.amuz.krakow.pl
SUMMARY:Muzyczna podróż przez Europę
DESCRIPTION:
URL:https://www.amuz.krakow.pl/wydzialy/wydzial-ii-instrumentalny/katedra-gitary-i-harfy/aktualnosci/muzyczna-podroz-przez-europe
LOCATION:Aula Florianka
ATTACH;FMTTYPE=image/jpeg:https://www.amuz.krakow.pl/wp-content/uploads/2021/09/Muzyczna-podroz-przez-Europe-16.11.2021.jpg
END:VEVENT
BEGIN:VEVENT
DTSTART;TZID=Europe/Warsaw:20211117T093000
DTEND;TZID=Europe/Warsaw:20211117T150000
DTSTAMP:20260425T160606
CREATED:20211108T213524Z
LAST-MODIFIED:20211108T213524Z
UID:54780-1637141400-1637161200@www.amuz.krakow.pl
SUMMARY:„Muzyka wobec poezji i nauczania Karola Wojtyły i Jana Pawła II” (cz. XII)
DESCRIPTION:
URL:https://www.amuz.krakow.pl/muzyka-wobec-poezji-i-nauczania-karola-wojtyly-i-jana-pawla-ii-cz-xii
LOCATION:Sala Senacka
ATTACH;FMTTYPE=image/jpeg:https://www.amuz.krakow.pl/wp-content/uploads/2021/11/Muzyka-wobec-poezji-i-nauczania-Karola-Wojtyly-i-Jana-Pawla-II-2021.jpg
END:VEVENT
BEGIN:VEVENT
DTSTART;TZID=Europe/Warsaw:20211117T200000
DTEND;TZID=Europe/Warsaw:20211117T200000
DTSTAMP:20260425T160606
CREATED:20211112T091421Z
LAST-MODIFIED:20211112T091421Z
UID:54846-1637179200-1637179200@www.amuz.krakow.pl
SUMMARY:Koncert w ramach XVI Dni Jana Pawła II pt. „Ku pojednaniu”
DESCRIPTION:
URL:https://www.amuz.krakow.pl/ku-pojednaniu
ATTACH;FMTTYPE=image/jpeg:https://www.amuz.krakow.pl/wp-content/uploads/2021/11/Koncert-w-ramach-XVI-Dni-Jana-Pawla-II-pt.-„Ku-pojednaniu-17.11.2021.jpg
END:VEVENT
BEGIN:VEVENT
DTSTART;TZID=Europe/Warsaw:20211118T120000
DTEND;TZID=Europe/Warsaw:20211118T190000
DTSTAMP:20260425T160606
CREATED:20211105T221640Z
LAST-MODIFIED:20211105T221640Z
UID:54705-1637236800-1637262000@www.amuz.krakow.pl
SUMMARY:29. Audio Art Festival 2021
DESCRIPTION:
URL:https://www.amuz.krakow.pl/29-audio-art-festival-2021
ATTACH;FMTTYPE=image/jpeg:https://www.amuz.krakow.pl/wp-content/uploads/2021/11/29.-Audio-Art-Festival-2021-kafelek.jpg
END:VEVENT
END:VCALENDAR