BEGIN:VCALENDAR
VERSION:2.0
PRODID:-//Akademia Muzyczna im. Krzysztofa Pendereckiego w Krakowie - ECPv6.15.20//NONSGML v1.0//EN
CALSCALE:GREGORIAN
METHOD:PUBLISH
X-WR-CALNAME:Akademia Muzyczna im. Krzysztofa Pendereckiego w Krakowie
X-ORIGINAL-URL:https://www.amuz.krakow.pl/en
X-WR-CALDESC:Events for Akademia Muzyczna im. Krzysztofa Pendereckiego w Krakowie
REFRESH-INTERVAL;VALUE=DURATION:PT1H
X-Robots-Tag:noindex
X-PUBLISHED-TTL:PT1H
BEGIN:VTIMEZONE
TZID:Europe/Warsaw
BEGIN:DAYLIGHT
TZOFFSETFROM:+0100
TZOFFSETTO:+0200
TZNAME:CEST
DTSTART:20210328T010000
END:DAYLIGHT
BEGIN:STANDARD
TZOFFSETFROM:+0200
TZOFFSETTO:+0100
TZNAME:CET
DTSTART:20211031T010000
END:STANDARD
BEGIN:DAYLIGHT
TZOFFSETFROM:+0100
TZOFFSETTO:+0200
TZNAME:CEST
DTSTART:20220327T010000
END:DAYLIGHT
BEGIN:STANDARD
TZOFFSETFROM:+0200
TZOFFSETTO:+0100
TZNAME:CET
DTSTART:20221030T010000
END:STANDARD
BEGIN:DAYLIGHT
TZOFFSETFROM:+0100
TZOFFSETTO:+0200
TZNAME:CEST
DTSTART:20230326T010000
END:DAYLIGHT
BEGIN:STANDARD
TZOFFSETFROM:+0200
TZOFFSETTO:+0100
TZNAME:CET
DTSTART:20231029T010000
END:STANDARD
END:VTIMEZONE
BEGIN:VEVENT
DTSTART;TZID=Europe/Warsaw:20220115T193000
DTEND;TZID=Europe/Warsaw:20220115T193000
DTSTAMP:20260426T004812
CREATED:20210930T204829Z
LAST-MODIFIED:20220105T131818Z
UID:53322-1642275000-1642275000@www.amuz.krakow.pl
SUMMARY:Koncert Orkiestry Barokowej
DESCRIPTION:
URL:https://www.amuz.krakow.pl/koncert-orkiestry-barokowej-15-01-2022/
LOCATION:Aula Florianka
ATTACH;FMTTYPE=image/jpeg:https://www.amuz.krakow.pl/wp-content/uploads/2021/12/barokowa-18-12-2021.jpg
END:VEVENT
BEGIN:VEVENT
DTSTART;TZID=Europe/Warsaw:20220120T190000
DTEND;TZID=Europe/Warsaw:20220122T210000
DTSTAMP:20260426T004812
CREATED:20220107T110035Z
LAST-MODIFIED:20220112T132334Z
UID:56643-1642705200-1642885200@www.amuz.krakow.pl
SUMMARY:[:pl]I Festiwal Kwartetów Smyczkowych „Symetrie”[:]
DESCRIPTION:
URL:https://www.amuz.krakow.pl/festiwal-symetrie1/
ATTACH;FMTTYPE=image/jpeg:https://www.amuz.krakow.pl/wp-content/uploads/2022/01/symetrie-WEB.jpg
END:VEVENT
BEGIN:VEVENT
DTSTART;TZID=Europe/Warsaw:20220218T190000
DTEND;TZID=Europe/Warsaw:20220218T190000
DTSTAMP:20260426T004812
CREATED:20220207T135652Z
LAST-MODIFIED:20220207T140028Z
UID:57580-1645210800-1645210800@www.amuz.krakow.pl
SUMMARY:Johann Sebastian Bach „Das Wohltemperierte Clavier” 1722–2022
DESCRIPTION:
URL:https://www.amuz.krakow.pl/jsbach-das-wohltemperierte-clavier/
ATTACH;FMTTYPE=image/png:https://www.amuz.krakow.pl/wp-content/uploads/2022/02/das-woltepieran-klavier-web.png
END:VEVENT
BEGIN:VEVENT
DTSTART;TZID=Europe/Warsaw:20220219T190000
DTEND;TZID=Europe/Warsaw:20220219T190000
DTSTAMP:20260426T004812
CREATED:20220117T142605Z
LAST-MODIFIED:20220203T135502Z
UID:57132-1645297200-1645297200@www.amuz.krakow.pl
SUMMARY:[:pl]Koncert w ramach Jubileuszu 50-lecia Katedry Kameralistyki - ODWOŁANY![:en]Koncert w ramach Jubileuszu 50-lecia Katedry Kameralistyki[:]
DESCRIPTION:
URL:https://www.amuz.krakow.pl/jubileusz-katedry-kameralistyki2/
ATTACH;FMTTYPE=image/jpeg:https://www.amuz.krakow.pl/wp-content/uploads/2022/01/50-KK-odwolany.jpg
END:VEVENT
BEGIN:VEVENT
DTSTART;TZID=Europe/Warsaw:20220220T131500
DTEND;TZID=Europe/Warsaw:20220220T140000
DTSTAMP:20260426T004812
CREATED:20220215T113530Z
LAST-MODIFIED:20220216T102530Z
UID:57681-1645362900-1645365600@www.amuz.krakow.pl
SUMMARY:[:pl]„Matinée Organowe” w wykonaniu studentów Akademii Muzycznej im. Grażyny i Kiejstuta Bacewiczów w Łodzi[:en]„Matineé Organowe” w wykonaniu studentów Akademii Muzycznej im. Grażyny i Kiejstuta Bacewiczów w Łodzi[:]
DESCRIPTION:
URL:https://www.amuz.krakow.pl/matinee-organowe2/
ATTACH;FMTTYPE=image/jpeg:https://www.amuz.krakow.pl/wp-content/uploads/2022/02/organowy-matinee-www.jpg
END:VEVENT
BEGIN:VEVENT
DTSTART;TZID=Europe/Warsaw:20220220T180000
DTEND;TZID=Europe/Warsaw:20220220T180000
DTSTAMP:20260426T004812
CREATED:20220207T135858Z
LAST-MODIFIED:20220207T135858Z
UID:57583-1645380000-1645380000@www.amuz.krakow.pl
SUMMARY:Johann Sebastian Bach „Das Wohltemperierte Clavier” 1722–2022
DESCRIPTION:
URL:https://www.amuz.krakow.pl/jsbach-das-wohltemperierte-clavier/
ATTACH;FMTTYPE=image/png:https://www.amuz.krakow.pl/wp-content/uploads/2022/02/das-woltepieran-klavier-web.png
END:VEVENT
BEGIN:VEVENT
DTSTART;TZID=Europe/Warsaw:20220223T180000
DTEND;TZID=Europe/Warsaw:20220223T180000
DTSTAMP:20260426T004812
CREATED:20220215T140932Z
LAST-MODIFIED:20220215T140932Z
UID:57700-1645639200-1645639200@www.amuz.krakow.pl
SUMMARY:[:pl]Sonata triowa XXI wieku[:]
DESCRIPTION:
URL:https://www.amuz.krakow.pl/sonata-triowa-xxi-wieku/
ATTACH;FMTTYPE=image/jpeg:https://www.amuz.krakow.pl/wp-content/uploads/2022/02/sonata-triowa-web.jpg
END:VEVENT
BEGIN:VEVENT
DTSTART;TZID=Europe/Warsaw:20220225T190000
DTEND;TZID=Europe/Warsaw:20220225T190000
DTSTAMP:20260426T004812
CREATED:20220210T103749Z
LAST-MODIFIED:20220210T104111Z
UID:57637-1645815600-1645815600@www.amuz.krakow.pl
SUMMARY:[:pl]Recital fortepianowy dr. hab. Mariusza Ciołko[:]
DESCRIPTION:
URL:https://www.amuz.krakow.pl/recital-mariusz-ciolko/
ATTACH;FMTTYPE=image/jpeg:https://www.amuz.krakow.pl/wp-content/uploads/2022/02/koncert-1.jpg
END:VEVENT
BEGIN:VEVENT
DTSTART;TZID=Europe/Warsaw:20220227T180000
DTEND;TZID=Europe/Warsaw:20220227T180000
DTSTAMP:20260426T004812
CREATED:20211001T095939Z
LAST-MODIFIED:20220127T113829Z
UID:53338-1645984800-1645984800@www.amuz.krakow.pl
SUMMARY:Koncert Orkiestry Dętej
DESCRIPTION:
URL:https://www.amuz.krakow.pl/koncert-orkiestry-detej-27-02-2022/
LOCATION:Filharmonia im. K. Szymanowskiego
ATTACH;FMTTYPE=image/jpeg:https://www.amuz.krakow.pl/wp-content/uploads/2021/10/deta-23.10.2021-s.jpg
END:VEVENT
BEGIN:VEVENT
DTSTART;TZID=Europe/Warsaw:20220227T180000
DTEND;TZID=Europe/Warsaw:20220227T180000
DTSTAMP:20260426T004812
CREATED:20220210T110334Z
LAST-MODIFIED:20220210T135254Z
UID:57651-1645984800-1645984800@www.amuz.krakow.pl
SUMMARY:Recital fortepianowy dr. Piotra Kowala
DESCRIPTION:
URL:https://www.amuz.krakow.pl/recital-piotr-kowal/
ATTACH;FMTTYPE=image/jpeg:https://www.amuz.krakow.pl/wp-content/uploads/2022/02/koncert-2.jpg
END:VEVENT
BEGIN:VEVENT
DTSTART;TZID=Europe/Warsaw:20220228T100000
DTEND;TZID=Europe/Warsaw:20220302T190000
DTSTAMP:20260426T004812
CREATED:20220204T103417Z
LAST-MODIFIED:20220204T103510Z
UID:57548-1646042400-1646247600@www.amuz.krakow.pl
SUMMARY:I Międzynarodowa Konferencja Obojowa
DESCRIPTION:
URL:https://www.amuz.krakow.pl/miedzynarodowa-konferencja-obojowa1/#new_tab
ATTACH;FMTTYPE=image/png:https://www.amuz.krakow.pl/wp-content/uploads/2022/02/KONFERENCJA-OBOJOWA-web.png
END:VEVENT
BEGIN:VEVENT
DTSTART;TZID=Europe/Warsaw:20220303T180000
DTEND;TZID=Europe/Warsaw:20220303T180000
DTSTAMP:20260426T004812
CREATED:20220223T090556Z
LAST-MODIFIED:20220223T090556Z
UID:57764-1646330400-1646330400@www.amuz.krakow.pl
SUMMARY:[:pl]Koncert "Muzyczne interakcje. Twórcy\, dzieła\, interpretacje"[:]
DESCRIPTION:
URL:https://www.amuz.krakow.pl/muzyczne-interakcje/
ATTACH;FMTTYPE=image/jpeg:https://www.amuz.krakow.pl/wp-content/uploads/2022/02/amagalis-web.jpg
END:VEVENT
BEGIN:VEVENT
DTSTART;TZID=Europe/Warsaw:20220305T183000
DTEND;TZID=Europe/Warsaw:20220305T183000
DTSTAMP:20260426T004812
CREATED:20220225T074757Z
LAST-MODIFIED:20220225T074757Z
UID:57822-1646505000-1646505000@www.amuz.krakow.pl
SUMMARY:[:pl]Bal u księcia Gigi - gala operowo-operetkowa[:]
DESCRIPTION:
URL:https://www.amuz.krakow.pl/bal-u-ksiecia-gigi-gala/%20‎
END:VEVENT
BEGIN:VEVENT
DTSTART;TZID=Europe/Warsaw:20220305T190000
DTEND;TZID=Europe/Warsaw:20220305T190000
DTSTAMP:20260426T004812
CREATED:20220228T085157Z
LAST-MODIFIED:20220228T093502Z
UID:57870-1646506800-1646506800@www.amuz.krakow.pl
SUMMARY:[:pl]Przedwiośnie młodych[:]
DESCRIPTION:
URL:https://www.amuz.krakow.pl/przedwiosnie-mlodych-2/
ATTACH;FMTTYPE=image/jpeg:https://www.amuz.krakow.pl/wp-content/uploads/2022/02/przedwosnie-mldych-web.jpg
END:VEVENT
BEGIN:VEVENT
DTSTART;TZID=Europe/Warsaw:20220306T190000
DTEND;TZID=Europe/Warsaw:20220306T190000
DTSTAMP:20260426T004812
CREATED:20211001T100738Z
LAST-MODIFIED:20220301T143755Z
UID:53345-1646593200-1646593200@www.amuz.krakow.pl
SUMMARY:Koncert Orkiestry Symfonicznej
DESCRIPTION:
URL:https://www.amuz.krakow.pl/koncert-orkiestry-symfonicznej-06-03-2022/
LOCATION:Europejskie Centrum Muzyki Krzysztofa Pendereckiego
ATTACH;FMTTYPE=image/jpeg:https://www.amuz.krakow.pl/wp-content/uploads/2022/01/Symfoniczna-6-03-2022-UKR.jpg
END:VEVENT
BEGIN:VEVENT
DTSTART;TZID=Europe/Warsaw:20220309T190000
DTEND;TZID=Europe/Warsaw:20220313T190000
DTSTAMP:20260426T004812
CREATED:20220303T092920Z
LAST-MODIFIED:20220303T113224Z
UID:58087-1646852400-1647198000@www.amuz.krakow.pl
SUMMARY:[:pl]9. Krakowska Wiosna Wiolonczelowa[:]
DESCRIPTION:
URL:https://www.amuz.krakow.pl/wydzialy/wydzial-ii-instrumentalny/katedra-wiolonczeli-i-kontrabasu/aktualnosci/9-krakowska-wiosna-wiolonczelowa/
ATTACH;FMTTYPE=image/jpeg:https://www.amuz.krakow.pl/wp-content/uploads/2022/03/KWW-9-plakat-web.jpg
END:VEVENT
BEGIN:VEVENT
DTSTART;TZID=Europe/Warsaw:20220311T093000
DTEND;TZID=Europe/Warsaw:20220312T190000
DTSTAMP:20260426T004812
CREATED:20220303T143546Z
LAST-MODIFIED:20220303T143546Z
UID:58111-1646991000-1647111600@www.amuz.krakow.pl
SUMMARY:[:pl]Konferencja Elementi9. „ZAANGAŻOWANIE”[:]
DESCRIPTION:
URL:https://www.amuz.krakow.pl/konferencja-elementi9/
ATTACH;FMTTYPE=image/jpeg:https://www.amuz.krakow.pl/wp-content/uploads/2022/03/Elementi9_800x400.jpg
END:VEVENT
BEGIN:VEVENT
DTSTART;TZID=Europe/Warsaw:20220313T170000
DTEND;TZID=Europe/Warsaw:20220313T170000
DTSTAMP:20260426T004812
CREATED:20220307T141935Z
LAST-MODIFIED:20220312T094643Z
UID:58155-1647190800-1647190800@www.amuz.krakow.pl
SUMMARY:[:pl]UWAGA! KONCERT ODWOŁANY Music against dictatorship(s)[:en]Music against dictatorship(s)[:]
DESCRIPTION:
URL:https://www.amuz.krakow.pl/music-against-dictatorships/
ATTACH;FMTTYPE=image/jpeg:https://www.amuz.krakow.pl/wp-content/uploads/2022/03/against-web.jpg
END:VEVENT
BEGIN:VEVENT
DTSTART;TZID=Europe/Warsaw:20220313T180000
DTEND;TZID=Europe/Warsaw:20220313T180000
DTSTAMP:20260426T004812
CREATED:20211001T101651Z
LAST-MODIFIED:20211001T101704Z
UID:53352-1647194400-1647194400@www.amuz.krakow.pl
SUMMARY:Koncert Orkiestry Kameralnej
DESCRIPTION:
URL:https://www.amuz.krakow.pl/koncert-orkiestry-kameralnej-13-03-2022/
LOCATION:Aula Florianka
END:VEVENT
BEGIN:VEVENT
DTSTART;TZID=Europe/Warsaw:20220314T190000
DTEND;TZID=Europe/Warsaw:20220318T190000
DTSTAMP:20260426T004812
CREATED:20220308T085344Z
LAST-MODIFIED:20220308T085921Z
UID:58174-1647284400-1647630000@www.amuz.krakow.pl
SUMMARY:[:pl]Koncerty w ramach sesji naukowej „Kobiety-kompozytorki muzyki fortepianowej” [:]
DESCRIPTION:
URL:https://www.amuz.krakow.pl/en/event/koncerty-w-ramach-sesji-naukowej-kobiety-kompozytorki-muzyki-fortepianowej/
ATTACH;FMTTYPE=image/jpeg:https://www.amuz.krakow.pl/wp-content/uploads/2022/03/kobiety-kompozytorki-web.jpg
END:VEVENT
BEGIN:VEVENT
DTSTART;TZID=Europe/Warsaw:20220316T150000
DTEND;TZID=Europe/Warsaw:20220318T200000
DTSTAMP:20260426T004812
CREATED:20220303T113633Z
LAST-MODIFIED:20220303T141453Z
UID:58098-1647442800-1647633600@www.amuz.krakow.pl
SUMMARY:[:pl]Dni otwarte w AMKP ON-LINE[:]
DESCRIPTION:
URL:https://www.amuz.krakow.pl/dni-otwarte-w-amkp-on-line/
ATTACH;FMTTYPE=image/jpeg:https://www.amuz.krakow.pl/wp-content/uploads/2022/03/DO-3-teoria-long-scaled.jpg
END:VEVENT
BEGIN:VEVENT
DTSTART;TZID=Europe/Warsaw:20220318T160000
DTEND;TZID=Europe/Warsaw:20220318T170000
DTSTAMP:20260426T004812
CREATED:20220315T145358Z
LAST-MODIFIED:20220315T153546Z
UID:58586-1647619200-1647622800@www.amuz.krakow.pl
SUMMARY:[:pl]Koncert: Kraków - Norymberga - spotkanie perkusyjne[:]
DESCRIPTION:
URL:https://www.amuz.krakow.pl/wydzialy/wydzial-ii-instrumentalny/katedra-perkusji-i-muzyki-wspolczesnej/aktualnosci/koncert-krakow-norymberga/
ATTACH;FMTTYPE=image/jpeg:https://www.amuz.krakow.pl/wp-content/uploads/2022/03/halon-web.jpg
END:VEVENT
BEGIN:VEVENT
DTSTART;TZID=Europe/Warsaw:20220320T180000
DTEND;TZID=Europe/Warsaw:20220320T180000
DTSTAMP:20260426T004812
CREATED:20211001T102233Z
LAST-MODIFIED:20220314T100744Z
UID:53358-1647799200-1647799200@www.amuz.krakow.pl
SUMMARY:[:pl]Koncert Orkiestry Barokowej - koncert inauguracyjny 26. Dni Bachowskich[:en]Koncert Orkiestry Barokowej[:]
DESCRIPTION:
URL:https://www.amuz.krakow.pl/koncert-orkiestry-barokowej-20-03-2022/
LOCATION:Aula Florianka
ATTACH;FMTTYPE=image/png:https://www.amuz.krakow.pl/wp-content/uploads/2022/03/bachowskie-kafelek-web-1.png
END:VEVENT
BEGIN:VEVENT
DTSTART;TZID=Europe/Warsaw:20220320T180000
DTEND;TZID=Europe/Warsaw:20220326T180000
DTSTAMP:20260426T004812
CREATED:20220310T133523Z
LAST-MODIFIED:20220310T133650Z
UID:58364-1647799200-1648317600@www.amuz.krakow.pl
SUMMARY:[:pl]26. Dni Bachowskie[:]
DESCRIPTION:
URL:https://www.amuz.krakow.pl/26-dni-bachowskie/
ATTACH;FMTTYPE=image/png:https://www.amuz.krakow.pl/wp-content/uploads/2022/03/bachowskie-karnet-kafel.png
END:VEVENT
BEGIN:VEVENT
DTSTART;TZID=Europe/Warsaw:20220322T190000
DTEND;TZID=Europe/Warsaw:20220322T190000
DTSTAMP:20260426T004812
CREATED:20220318T110521Z
LAST-MODIFIED:20220318T115911Z
UID:58710-1647975600-1647975600@www.amuz.krakow.pl
SUMMARY:[:en]Ukraińska muzyka kameralna[:]
DESCRIPTION:
URL:https://www.amuz.krakow.pl/ukrainska-muzyka-kameralna/
ATTACH;FMTTYPE=image/jpeg:https://www.amuz.krakow.pl/wp-content/uploads/2022/03/ukrainska-muzyka2.jpg
END:VEVENT
BEGIN:VEVENT
DTSTART;TZID=Europe/Warsaw:20220323T193000
DTEND;TZID=Europe/Warsaw:20220323T193000
DTSTAMP:20260426T004812
CREATED:20220317T110717Z
LAST-MODIFIED:20220317T110717Z
UID:58672-1648063800-1648063800@www.amuz.krakow.pl
SUMMARY:Koncert Jazz dla Ukrainy
DESCRIPTION:
URL:https://www.amuz.krakow.pl/koncert-jazz-dla-ukrainy/
ATTACH;FMTTYPE=image/jpeg:https://www.amuz.krakow.pl/wp-content/uploads/2022/03/JAZZ-web.jpg
END:VEVENT
BEGIN:VEVENT
DTSTART;TZID=Europe/Warsaw:20220326T190000
DTEND;TZID=Europe/Warsaw:20220327T190000
DTSTAMP:20260426T004812
CREATED:20211003T184108Z
LAST-MODIFIED:20220907T080719Z
UID:53406-1648321200-1648407600@www.amuz.krakow.pl
SUMMARY:[:pl]Koncert Chóru AMKP - zapowiedź Festiwalu „Duettissimo"[:en]Koncert Chóru AMKP[:]
DESCRIPTION:
URL:https://www.amuz.krakow.pl/koncert-choru-amkp/
LOCATION:Teatr Wielki\, Plac Teatralny 1\, Warszawa\, mazowieckie\, 00-950\, Poland
ATTACH;FMTTYPE=image/jpeg:https://www.amuz.krakow.pl/wp-content/uploads/2022/03/duettissimo-web-2.jpg
END:VEVENT
BEGIN:VEVENT
DTSTART;TZID=Europe/Warsaw:20220327T190000
DTEND;TZID=Europe/Warsaw:20220401T190000
DTSTAMP:20260426T004812
CREATED:20220318T134941Z
LAST-MODIFIED:20220318T134941Z
UID:58730-1648407600-1648839600@www.amuz.krakow.pl
SUMMARY:Dni Muzyki Karola Szymanowskiego. Hommage a Tadeusz Żmudziński w 30. rocznicę śmierci
DESCRIPTION:
URL:https://www.amuz.krakow.pl/dni-muzyki-karola-szymanowskiego2022
ATTACH;FMTTYPE=image/jpeg:https://www.amuz.krakow.pl/wp-content/uploads/2022/03/szymanowski2.jpg
END:VEVENT
BEGIN:VEVENT
DTSTART;TZID=Europe/Warsaw:20220328T100000
DTEND;TZID=Europe/Warsaw:20220330T200000
DTSTAMP:20260426T004812
CREATED:20220322T111506Z
LAST-MODIFIED:20220322T111506Z
UID:58786-1648461600-1648670400@www.amuz.krakow.pl
SUMMARY:Kurs mistrzowski i koncert organowy - Matteo Imbruno
DESCRIPTION:
URL:https://www.amuz.krakow.pl/wydzialy/wydzial-ii-instrumentalny/katedra-organow/aktualnosci/kurs-mistrzowski-i-koncert-organowy-matteo-imbruno
ATTACH;FMTTYPE=image/jpeg:https://www.amuz.krakow.pl/wp-content/uploads/2022/03/Matteo-Imbruno-zdjecie_www.jpg
END:VEVENT
BEGIN:VEVENT
DTSTART;TZID=Europe/Warsaw:20220329T090000
DTEND;TZID=Europe/Warsaw:20220329T150000
DTSTAMP:20260426T004812
CREATED:20220325T130413Z
LAST-MODIFIED:20220325T130413Z
UID:59098-1648544400-1648566000@www.amuz.krakow.pl
SUMMARY:[:pl]Godziny rektorskie[:]
DESCRIPTION:
URL:https://www.amuz.krakow.pl/godziny-rektorskie-2/
ATTACH;FMTTYPE=image/jpeg:https://www.amuz.krakow.pl/wp-content/uploads/2022/03/godziny-rektorski.jpg
END:VEVENT
END:VCALENDAR