BEGIN:VCALENDAR
VERSION:2.0
PRODID:-//Akademia Muzyczna im. Krzysztofa Pendereckiego w Krakowie - ECPv6.15.20//NONSGML v1.0//EN
CALSCALE:GREGORIAN
METHOD:PUBLISH
X-ORIGINAL-URL:https://www.amuz.krakow.pl/en
X-WR-CALDESC:Events for Akademia Muzyczna im. Krzysztofa Pendereckiego w Krakowie
REFRESH-INTERVAL;VALUE=DURATION:PT1H
X-Robots-Tag:noindex
X-PUBLISHED-TTL:PT1H
BEGIN:VTIMEZONE
TZID:Europe/Warsaw
BEGIN:DAYLIGHT
TZOFFSETFROM:+0100
TZOFFSETTO:+0200
TZNAME:CEST
DTSTART:20210328T010000
END:DAYLIGHT
BEGIN:STANDARD
TZOFFSETFROM:+0200
TZOFFSETTO:+0100
TZNAME:CET
DTSTART:20211031T010000
END:STANDARD
BEGIN:DAYLIGHT
TZOFFSETFROM:+0100
TZOFFSETTO:+0200
TZNAME:CEST
DTSTART:20220327T010000
END:DAYLIGHT
BEGIN:STANDARD
TZOFFSETFROM:+0200
TZOFFSETTO:+0100
TZNAME:CET
DTSTART:20221030T010000
END:STANDARD
BEGIN:DAYLIGHT
TZOFFSETFROM:+0100
TZOFFSETTO:+0200
TZNAME:CEST
DTSTART:20230326T010000
END:DAYLIGHT
BEGIN:STANDARD
TZOFFSETFROM:+0200
TZOFFSETTO:+0100
TZNAME:CET
DTSTART:20231029T010000
END:STANDARD
END:VTIMEZONE
BEGIN:VEVENT
DTSTART;TZID=Europe/Warsaw:20220326T190000
DTEND;TZID=Europe/Warsaw:20220327T190000
DTSTAMP:20260426T042036
CREATED:20211003T184108Z
LAST-MODIFIED:20220907T080719Z
UID:53406-1648321200-1648407600@www.amuz.krakow.pl
SUMMARY:[:pl]Koncert Chóru AMKP - zapowiedź Festiwalu „Duettissimo"[:en]Koncert Chóru AMKP[:]
DESCRIPTION:
URL:https://www.amuz.krakow.pl/koncert-choru-amkp/
LOCATION:Teatr Wielki\, Plac Teatralny 1\, Warszawa\, mazowieckie\, 00-950\, Poland
ATTACH;FMTTYPE=image/jpeg:https://www.amuz.krakow.pl/wp-content/uploads/2022/03/duettissimo-web-2.jpg
END:VEVENT
BEGIN:VEVENT
DTSTART;TZID=Europe/Warsaw:20220327T190000
DTEND;TZID=Europe/Warsaw:20220401T190000
DTSTAMP:20260426T042037
CREATED:20220318T134941Z
LAST-MODIFIED:20220318T134941Z
UID:58730-1648407600-1648839600@www.amuz.krakow.pl
SUMMARY:Dni Muzyki Karola Szymanowskiego. Hommage a Tadeusz Żmudziński w 30. rocznicę śmierci
DESCRIPTION:
URL:https://www.amuz.krakow.pl/dni-muzyki-karola-szymanowskiego2022
ATTACH;FMTTYPE=image/jpeg:https://www.amuz.krakow.pl/wp-content/uploads/2022/03/szymanowski2.jpg
END:VEVENT
BEGIN:VEVENT
DTSTART;TZID=Europe/Warsaw:20220328T100000
DTEND;TZID=Europe/Warsaw:20220330T200000
DTSTAMP:20260426T042037
CREATED:20220322T111506Z
LAST-MODIFIED:20220322T111506Z
UID:58786-1648461600-1648670400@www.amuz.krakow.pl
SUMMARY:Kurs mistrzowski i koncert organowy - Matteo Imbruno
DESCRIPTION:
URL:https://www.amuz.krakow.pl/wydzialy/wydzial-ii-instrumentalny/katedra-organow/aktualnosci/kurs-mistrzowski-i-koncert-organowy-matteo-imbruno
ATTACH;FMTTYPE=image/jpeg:https://www.amuz.krakow.pl/wp-content/uploads/2022/03/Matteo-Imbruno-zdjecie_www.jpg
END:VEVENT
BEGIN:VEVENT
DTSTART;TZID=Europe/Warsaw:20220329T090000
DTEND;TZID=Europe/Warsaw:20220329T150000
DTSTAMP:20260426T042037
CREATED:20220325T130413Z
LAST-MODIFIED:20220325T130413Z
UID:59098-1648544400-1648566000@www.amuz.krakow.pl
SUMMARY:[:pl]Godziny rektorskie[:]
DESCRIPTION:
URL:https://www.amuz.krakow.pl/godziny-rektorskie-2/
ATTACH;FMTTYPE=image/jpeg:https://www.amuz.krakow.pl/wp-content/uploads/2022/03/godziny-rektorski.jpg
END:VEVENT
BEGIN:VEVENT
DTSTART;TZID=Europe/Warsaw:20220329T093000
DTEND;TZID=Europe/Warsaw:20220329T130000
DTSTAMP:20260426T042037
CREATED:20220325T130243Z
LAST-MODIFIED:20220325T130243Z
UID:59096-1648546200-1648558800@www.amuz.krakow.pl
SUMMARY:[:pl]Uroczystości pogrzebowe śp. prof. Krzysztofa Pendereckiego[:]
DESCRIPTION:
URL:https://www.amuz.krakow.pl/uroczystosci-pogrzebowe-sp-prof-pendereckiego/
ATTACH;FMTTYPE=image/jpeg:https://www.amuz.krakow.pl/wp-content/uploads/2022/03/988871d5-574f-4307-888e-2d88b596ddf6.jpg
END:VEVENT
BEGIN:VEVENT
DTSTART;TZID=Europe/Warsaw:20220330T120000
DTEND;TZID=Europe/Warsaw:20220330T120000
DTSTAMP:20260426T042037
CREATED:20220324T123455Z
LAST-MODIFIED:20220324T123616Z
UID:58996-1648641600-1648641600@www.amuz.krakow.pl
SUMMARY:[:pl]Uroczystość nadania godności doktora honoris causa Anne-Sophie Mutter[:]
DESCRIPTION:
URL:https://www.amuz.krakow.pl/uroczystosc-nadania-godnosci-doktora-honoris-causa-anne-sophie-mutter/
ATTACH;FMTTYPE=image/jpeg:https://www.amuz.krakow.pl/wp-content/uploads/2022/03/mutter-web.jpg
END:VEVENT
BEGIN:VEVENT
DTSTART;TZID=Europe/Warsaw:20220331T090000
DTEND;TZID=Europe/Warsaw:20220403T160000
DTSTAMP:20260426T042037
CREATED:20220329T100341Z
LAST-MODIFIED:20220329T101315Z
UID:59199-1648717200-1649001600@www.amuz.krakow.pl
SUMMARY:[:pl]Obój historyczny: kurs mistrzowski z prof. Alfredem Bernardinim[:]
DESCRIPTION:
URL:https://www.amuz.krakow.pl/sesja-naukowa-oboj-historyczny/
ATTACH;FMTTYPE=image/jpeg:https://www.amuz.krakow.pl/wp-content/uploads/2022/03/web-1.jpg
END:VEVENT
BEGIN:VEVENT
DTSTART;TZID=Europe/Warsaw:20220402T100000
DTEND;TZID=Europe/Warsaw:20220402T100000
DTSTAMP:20260426T042037
CREATED:20220329T100045Z
LAST-MODIFIED:20220907T080658Z
UID:59197-1648893600-1648893600@www.amuz.krakow.pl
SUMMARY:[:pl]Sesja naukowa „Obój historyczny: stan badań\, współczesna praktyka oraz perspektywy”[:]
DESCRIPTION:
URL:https://www.amuz.krakow.pl/sesja-naukowa-oboj-historyczny/
ATTACH;FMTTYPE=image/jpeg:https://www.amuz.krakow.pl/wp-content/uploads/2022/03/web-2.jpg
END:VEVENT
BEGIN:VEVENT
DTSTART;TZID=Europe/Warsaw:20220402T200000
DTEND;TZID=Europe/Warsaw:20220402T213000
DTSTAMP:20260426T042037
CREATED:20211003T185554Z
LAST-MODIFIED:20220323T121459Z
UID:53425-1648929600-1648935000@www.amuz.krakow.pl
SUMMARY:[:pl]Koncert Chóru AMKP - koncert inauguracyjny Festiwalu „Duettissimo"[:en]Koncert Chóru AMKP[:]
DESCRIPTION:
URL:https://www.amuz.krakow.pl/koncert-choru-amkp-02-04-2022/
ATTACH;FMTTYPE=image/jpeg:https://www.amuz.krakow.pl/wp-content/uploads/2022/03/duettissimo-web-2.jpg
END:VEVENT
BEGIN:VEVENT
DTSTART;TZID=Europe/Warsaw:20220403T180000
DTEND;TZID=Europe/Warsaw:20220403T180000
DTSTAMP:20260426T042037
CREATED:20211003T184900Z
LAST-MODIFIED:20220203T154626Z
UID:53414-1649008800-1649008800@www.amuz.krakow.pl
SUMMARY:Koncert Orkiestry Symfonicznej
DESCRIPTION:
URL:https://www.amuz.krakow.pl/koncert-orkiestry-symfonicznej-03-04-2022/
LOCATION:Filharmonia im. K. Szymanowskiego
ATTACH;FMTTYPE=image/jpeg:https://www.amuz.krakow.pl/wp-content/uploads/2022/02/symfoniczna-zaslepka.jpg
END:VEVENT
BEGIN:VEVENT
DTSTART;TZID=Europe/Warsaw:20220403T180000
DTEND;TZID=Europe/Warsaw:20220403T180000
DTSTAMP:20260426T042037
CREATED:20220329T101046Z
LAST-MODIFIED:20220329T101115Z
UID:59201-1649008800-1649008800@www.amuz.krakow.pl
SUMMARY:[:pl]Obój historyczny: Koncert finałowy z udziałem uczestników kursu oraz prof. Alfreda Bernardiniego[:]
DESCRIPTION:
URL:https://www.amuz.krakow.pl/sesja-naukowa-oboj-historyczny/
ATTACH;FMTTYPE=image/jpeg:https://www.amuz.krakow.pl/wp-content/uploads/2022/03/obojowy-koncert-scaled.jpg
END:VEVENT
BEGIN:VEVENT
DTSTART;TZID=Europe/Warsaw:20220404T100000
DTEND;TZID=Europe/Warsaw:20220405T150000
DTSTAMP:20260426T042037
CREATED:20220330T112542Z
LAST-MODIFIED:20220330T112542Z
UID:59307-1649066400-1649170800@www.amuz.krakow.pl
SUMMARY:[:pl]XXV Międzynarodowe Sympozjum “Beethoven – ojciec wielkiego symfonizmu”[:]
DESCRIPTION:
URL:https://www.amuz.krakow.pl/xxv-miedzynarodowe-sympozjum-beethoven-ojciec-wielkiego-symfonizmu/
ATTACH;FMTTYPE=image/jpeg:https://www.amuz.krakow.pl/wp-content/uploads/2022/03/festiwal-ludwiga-van-beethovena_kafelek.jpg
END:VEVENT
BEGIN:VEVENT
DTSTART;TZID=Europe/Warsaw:20220405T100000
DTEND;TZID=Europe/Warsaw:20220406T170000
DTSTAMP:20260426T042037
CREATED:20220329T105131Z
LAST-MODIFIED:20220329T105204Z
UID:59226-1649152800-1649264400@www.amuz.krakow.pl
SUMMARY:[:pl]Warsztaty mistrzowskie harfy „Per academiam ad astra”[:]
DESCRIPTION:
URL:https://www.amuz.krakow.pl/per-academiam-ad-astra-harfa/
ATTACH;FMTTYPE=image/jpeg:https://www.amuz.krakow.pl/wp-content/uploads/2022/03/sitruk-per-academiam.jpg
END:VEVENT
BEGIN:VEVENT
DTSTART;TZID=Europe/Warsaw:20220406T100000
DTEND;TZID=Europe/Warsaw:20220406T150000
DTSTAMP:20260426T042037
CREATED:20220401T103423Z
LAST-MODIFIED:20220401T103423Z
UID:59448-1649239200-1649257200@www.amuz.krakow.pl
SUMMARY:[:pl]“Struktury rytmiczne południowych Indii\, Konnakol” – warsztaty z Ghatamem Udupą z Indii[:]
DESCRIPTION:
URL:https://www.amuz.krakow.pl/struktury-rytmiczne-poludniowych-indii-konnakol-warsztaty-ghatam-udupa/
ATTACH;FMTTYPE=image/jpeg:https://www.amuz.krakow.pl/wp-content/uploads/2022/04/Ghatam-Giridhar-Udupa-3-scaled.jpg
END:VEVENT
BEGIN:VEVENT
DTSTART;TZID=Europe/Warsaw:20220407T103000
DTEND;TZID=Europe/Warsaw:20220407T143000
DTSTAMP:20260426T042037
CREATED:20220404T140022Z
LAST-MODIFIED:20220404T140117Z
UID:59534-1649327400-1649341800@www.amuz.krakow.pl
SUMMARY:[:pl]IV Ogólnopolska Organowa Sesja Naukowa oraz koncert[:]
DESCRIPTION:
URL:https://www.amuz.krakow.pl/iv-ogolnopolska-organowa-sesja-naukowa/
ATTACH;FMTTYPE=image/jpeg:https://www.amuz.krakow.pl/wp-content/uploads/2022/04/organowa-konferencja-web.jpg
END:VEVENT
BEGIN:VEVENT
DTSTART;TZID=Europe/Warsaw:20220409T180000
DTEND;TZID=Europe/Warsaw:20220409T180000
DTSTAMP:20260426T042037
CREATED:20220404T141440Z
LAST-MODIFIED:20220404T141440Z
UID:59550-1649527200-1649527200@www.amuz.krakow.pl
SUMMARY:[:pl]Czy klasycyzm i romantyzm nadal istnieją? W poszukiwaniu wpływu dwóch estetyk na muzykę współczesną[:]
DESCRIPTION:
URL:https://www.amuz.krakow.pl/czy-klasycyzm-i-romantyzm-nadal-istnieja
ATTACH;FMTTYPE=image/jpeg:https://www.amuz.krakow.pl/wp-content/uploads/2022/04/klasycyzm-romantyzm-web.jpg
END:VEVENT
BEGIN:VEVENT
DTSTART;VALUE=DATE:20220410
DTEND;VALUE=DATE:20220411
DTSTAMP:20260426T042037
CREATED:20211003T185235Z
LAST-MODIFIED:20211003T185235Z
UID:53419-1649548800-1649635199@www.amuz.krakow.pl
SUMMARY:Koncert Orkiestry Dętej
DESCRIPTION:
URL:https://www.amuz.krakow.pl/koncert-orkiestry-detej-10-04-2022/
END:VEVENT
BEGIN:VEVENT
DTSTART;TZID=Europe/Warsaw:20220411T120000
DTEND;TZID=Europe/Warsaw:20220412T160000
DTSTAMP:20260426T042037
CREATED:20220405T100049Z
LAST-MODIFIED:20220405T100137Z
UID:59584-1649678400-1649779200@www.amuz.krakow.pl
SUMMARY:[:pl]CZŁOWIEK – DZIEŁO – SCENA. Sympozjum naukowe z warsztatami. Ścieżki interpretacji w operze "Czarodziejski flet"[:]
DESCRIPTION:
URL:https://www.amuz.krakow.pl/czlowiek-dzielo-scena-sympozjum-naukowe-z-warsztatami/
ATTACH;FMTTYPE=image/jpeg:https://www.amuz.krakow.pl/wp-content/uploads/2022/04/SESJA-OPEROWA.jpg
END:VEVENT
BEGIN:VEVENT
DTSTART;TZID=Europe/Warsaw:20220412T200000
DTEND;TZID=Europe/Warsaw:20220412T200000
DTSTAMP:20260426T042037
CREATED:20220408T114334Z
LAST-MODIFIED:20220408T114414Z
UID:59884-1649793600-1649793600@www.amuz.krakow.pl
SUMMARY:[:pl]Koncert "Eastern night in Krakow"[:]
DESCRIPTION:
URL:https://www.amuz.krakow.pl/koncert-eastern-night-in-krakow/
ATTACH;FMTTYPE=image/jpeg:https://www.amuz.krakow.pl/wp-content/uploads/2022/04/eastern-night-in-krakow.jpg
END:VEVENT
BEGIN:VEVENT
DTSTART;VALUE=DATE:20220417
DTEND;VALUE=DATE:20220419
DTSTAMP:20260426T042037
CREATED:20220414T111700Z
LAST-MODIFIED:20220414T111700Z
UID:60360-1650153600-1650326399@www.amuz.krakow.pl
SUMMARY:[:pl]WIELKANOC[:en]EASTER[:]
DESCRIPTION:
URL:https://www.amuz.krakow.pl/spokojnej-wielkanocy/
ATTACH;FMTTYPE=image/jpeg:https://www.amuz.krakow.pl/wp-content/uploads/2022/04/kartka-wielkanoc-2022-cover.jpg
END:VEVENT
BEGIN:VEVENT
DTSTART;TZID=Europe/Warsaw:20220421T110000
DTEND;TZID=Europe/Warsaw:20220421T160000
DTSTAMP:20260426T042037
CREATED:20220413T085620Z
LAST-MODIFIED:20220413T114227Z
UID:60146-1650538800-1650556800@www.amuz.krakow.pl
SUMMARY:[:pl]Historyczne temperacje na klawesynie - warsztaty praktyczne[:]
DESCRIPTION:
URL:https://www.amuz.krakow.pl/historyczne-temperacje-na-klawesynie-warsztaty-praktyczne/
ATTACH;FMTTYPE=image/jpeg:https://www.amuz.krakow.pl/wp-content/uploads/2022/04/historyczne-temperacje-web.jpg
END:VEVENT
BEGIN:VEVENT
DTSTART;TZID=Europe/Warsaw:20220422T070000
DTEND;TZID=Europe/Warsaw:20220422T110000
DTSTAMP:20260426T042037
CREATED:20220420T092508Z
LAST-MODIFIED:20220420T092508Z
UID:60608-1650610800-1650625200@www.amuz.krakow.pl
SUMMARY:[:pl]Godziny rektorskie[:en]Rector Hours[:]
DESCRIPTION:
URL:https://www.amuz.krakow.pl/godziny-rektorskie-3/
ATTACH;FMTTYPE=image/jpeg:https://www.amuz.krakow.pl/wp-content/uploads/2022/03/godziny-rektorski.jpg
END:VEVENT
BEGIN:VEVENT
DTSTART;TZID=Europe/Warsaw:20220422T110000
DTEND;TZID=Europe/Warsaw:20220423T160000
DTSTAMP:20260426T042037
CREATED:20220413T100850Z
LAST-MODIFIED:20220413T100850Z
UID:60173-1650625200-1650729600@www.amuz.krakow.pl
SUMMARY:[:pl]“Skrzypce w polskiej muzyce okresu romantyzmu” – sesja naukowa z dr hab. Agatą Szymczewską\, prof. UMFC[:]
DESCRIPTION:
URL:https://www.amuz.krakow.pl/skrzypce-w-polskiej-muzyce-okresu-romantyzmu-sesja-naukowa/
ATTACH;FMTTYPE=image/jpeg:https://www.amuz.krakow.pl/wp-content/uploads/2022/04/AGATA_SZYMCZEWSKA_1-scaled.jpg
END:VEVENT
BEGIN:VEVENT
DTSTART;TZID=Europe/Warsaw:20220422T190000
DTEND;TZID=Europe/Warsaw:20220422T190000
DTSTAMP:20260426T042037
CREATED:20220413T093903Z
LAST-MODIFIED:20220413T093903Z
UID:60159-1650654000-1650654000@www.amuz.krakow.pl
SUMMARY:[:pl]Koncert "Carmina Burana"[:]
DESCRIPTION:
URL:https://www.amuz.krakow.pl/koncert-carmina-burana/
ATTACH;FMTTYPE=image/jpeg:https://www.amuz.krakow.pl/wp-content/uploads/2022/04/burana-web.jpg
END:VEVENT
BEGIN:VEVENT
DTSTART;TZID=Europe/Warsaw:20220423T190000
DTEND;TZID=Europe/Warsaw:20220423T190000
DTSTAMP:20260426T042037
CREATED:20220413T104232Z
LAST-MODIFIED:20220413T104232Z
UID:60185-1650740400-1650740400@www.amuz.krakow.pl
SUMMARY:[:pl]Koncert w ramach Jubileuszu 50-lecia Katedry Kameralistyki[:]
DESCRIPTION:
URL:https://www.amuz.krakow.pl/50-lecie-katedry-kameralistyki-koncert/
ATTACH;FMTTYPE=image/jpeg:https://www.amuz.krakow.pl/wp-content/uploads/2022/04/kameralisrtyka-web2.jpg
END:VEVENT
BEGIN:VEVENT
DTSTART;TZID=Europe/Warsaw:20220423T190000
DTEND;TZID=Europe/Warsaw:20220423T190000
DTSTAMP:20260426T042037
CREATED:20220420T103825Z
LAST-MODIFIED:20220420T103825Z
UID:60630-1650740400-1650740400@www.amuz.krakow.pl
SUMMARY:[:pl]Prawykonanie utworu Krystiana Neściora "Palimpsest" nagrodzonego w Międzynarodowym Konkursie dla Młodych Kompozytorów[:]
DESCRIPTION:
URL:https://www.amuz.krakow.pl/nasze-sukcesy/najnowsze/krystian-nescior/
ATTACH;FMTTYPE=image/jpeg:https://www.amuz.krakow.pl/wp-content/uploads/2022/04/Krystian-Nescior-fot.-J.Guzik_-225x300-1.jpg
END:VEVENT
BEGIN:VEVENT
DTSTART;TZID=Europe/Warsaw:20220423T190000
DTEND;TZID=Europe/Warsaw:20220430T190000
DTSTAMP:20260426T042037
CREATED:20220425T102803Z
LAST-MODIFIED:20220426T094048Z
UID:61016-1650740400-1651345200@www.amuz.krakow.pl
SUMMARY:[:pl]34. Krakowski Międzynarodowy Festiwal Kompozytorów pod patronatem honorowym Prezydenta Miasta Krakowa[:]
DESCRIPTION:
URL:https://www.amuz.krakow.pl/34-krakowski-miedzynarodowy-festiwal-kompozytorow/
ATTACH;FMTTYPE=image/png:https://www.amuz.krakow.pl/wp-content/uploads/2022/04/34.-Krakowski-Miedzynarodowy-Festiwal-Kompozytorow_kafelek.png
END:VEVENT
BEGIN:VEVENT
DTSTART;TZID=Europe/Warsaw:20220424T132000
DTEND;TZID=Europe/Warsaw:20220424T132000
DTSTAMP:20260426T042037
CREATED:20220413T114031Z
LAST-MODIFIED:20220907T080636Z
UID:60299-1650806400-1650806400@www.amuz.krakow.pl
SUMMARY:[:pl]IV Organowe Matinée[:]
DESCRIPTION:
URL:https://www.amuz.krakow.pl/iv-organowe-matinee/
ATTACH;FMTTYPE=image/jpeg:https://www.amuz.krakow.pl/wp-content/uploads/2022/04/organowy-matinee-www.jpg
END:VEVENT
BEGIN:VEVENT
DTSTART;TZID=Europe/Warsaw:20220424T180000
DTEND;TZID=Europe/Warsaw:20220424T180000
DTSTAMP:20260426T042037
CREATED:20220203T120110Z
LAST-MODIFIED:20220203T154520Z
UID:57509-1650823200-1650823200@www.amuz.krakow.pl
SUMMARY:[:pl]Koncert Orkiestry Symfonicznej[:]
DESCRIPTION:
URL:https://www.amuz.krakow.pl/orkiestra-symfoniczna-24-04-22/
ATTACH;FMTTYPE=image/jpeg:https://www.amuz.krakow.pl/wp-content/uploads/2022/02/symfoniczna-zaslepka.jpg
END:VEVENT
BEGIN:VEVENT
DTSTART;TZID=Europe/Warsaw:20220425T150000
DTEND;TZID=Europe/Warsaw:20220425T190000
DTSTAMP:20260426T042037
CREATED:20220420T092759Z
LAST-MODIFIED:20220420T123214Z
UID:60610-1650898800-1650913200@www.amuz.krakow.pl
SUMMARY:[:pl]Estrada fagotowa[:]
DESCRIPTION:
URL:https://www.amuz.krakow.pl/estrada-fagotowa/
ATTACH;FMTTYPE=image/jpeg:https://www.amuz.krakow.pl/wp-content/uploads/2022/04/estrady-fagotowe.jpg
END:VEVENT
END:VCALENDAR