BEGIN:VCALENDAR
VERSION:2.0
PRODID:-//Akademia Muzyczna im. Krzysztofa Pendereckiego w Krakowie - ECPv6.15.20//NONSGML v1.0//EN
CALSCALE:GREGORIAN
METHOD:PUBLISH
X-WR-CALNAME:Akademia Muzyczna im. Krzysztofa Pendereckiego w Krakowie
X-ORIGINAL-URL:https://www.amuz.krakow.pl/en
X-WR-CALDESC:Events for Akademia Muzyczna im. Krzysztofa Pendereckiego w Krakowie
REFRESH-INTERVAL;VALUE=DURATION:PT1H
X-Robots-Tag:noindex
X-PUBLISHED-TTL:PT1H
BEGIN:VTIMEZONE
TZID:Europe/Warsaw
BEGIN:DAYLIGHT
TZOFFSETFROM:+0100
TZOFFSETTO:+0200
TZNAME:CEST
DTSTART:20210328T010000
END:DAYLIGHT
BEGIN:STANDARD
TZOFFSETFROM:+0200
TZOFFSETTO:+0100
TZNAME:CET
DTSTART:20211031T010000
END:STANDARD
BEGIN:DAYLIGHT
TZOFFSETFROM:+0100
TZOFFSETTO:+0200
TZNAME:CEST
DTSTART:20220327T010000
END:DAYLIGHT
BEGIN:STANDARD
TZOFFSETFROM:+0200
TZOFFSETTO:+0100
TZNAME:CET
DTSTART:20221030T010000
END:STANDARD
BEGIN:DAYLIGHT
TZOFFSETFROM:+0100
TZOFFSETTO:+0200
TZNAME:CEST
DTSTART:20230326T010000
END:DAYLIGHT
BEGIN:STANDARD
TZOFFSETFROM:+0200
TZOFFSETTO:+0100
TZNAME:CET
DTSTART:20231029T010000
END:STANDARD
END:VTIMEZONE
BEGIN:VEVENT
DTSTART;TZID=Europe/Warsaw:20220510T140000
DTEND;TZID=Europe/Warsaw:20220510T140000
DTSTAMP:20260426T035907
CREATED:20220428T124245Z
LAST-MODIFIED:20220516T105945Z
UID:61273-1652191200-1652191200@www.amuz.krakow.pl
SUMMARY:[:pl]Mistrzowskie Warsztaty Trąbkowe - Fábio Brum[:]
DESCRIPTION:
URL:https://www.amuz.krakow.pl/wydzialy/wydzial-ii-instrumentalny/katedra-instrumentow-detych-blaszanych/aktualnosci/mistrzowskie-warsztaty-trabkowe-fabio-brum/
ATTACH;FMTTYPE=image/png:https://www.amuz.krakow.pl/wp-content/uploads/2022/05/Fabio-Brum-arch.-pryw..png
END:VEVENT
BEGIN:VEVENT
DTSTART;TZID=Europe/Warsaw:20220511T190000
DTEND;TZID=Europe/Warsaw:20220511T190000
DTSTAMP:20260426T035907
CREATED:20211003T190826Z
LAST-MODIFIED:20220427T114138Z
UID:53448-1652295600-1652295600@www.amuz.krakow.pl
SUMMARY:JAZZ w AKADEMII
DESCRIPTION:
URL:https://www.amuz.krakow.pl/jazz-w-akademii-11-05-2022/
LOCATION:Sala Koncertowa Akademii Muzycznej im. Krzysztofa Pendereckiego w Krakowie
ATTACH;FMTTYPE=image/jpeg:https://www.amuz.krakow.pl/wp-content/uploads/2021/10/jazz-w-akademii-2022-web.jpg
END:VEVENT
BEGIN:VEVENT
DTSTART;TZID=Europe/Warsaw:20220512T190000
DTEND;TZID=Europe/Warsaw:20220512T190000
DTSTAMP:20260426T035907
CREATED:20220429T114934Z
LAST-MODIFIED:20220518T122317Z
UID:61340-1652382000-1652382000@www.amuz.krakow.pl
SUMMARY:[:pl]Koncert z cyklu "Pieśń przyszłości"[:]
DESCRIPTION:
URL:https://www.amuz.krakow.pl/wydzialy/wydzial-ii-instrumentalny/katedra-kameralistyki/aktualnosci/koncert-z-cyklu-piesn-przyszlosci/
LOCATION:Aula Florianka
ATTACH;FMTTYPE=image/jpeg:https://www.amuz.krakow.pl/wp-content/uploads/2022/05/piesn-przyszlosci-12-05-2022-scaled.jpg
END:VEVENT
BEGIN:VEVENT
DTSTART;TZID=Europe/Warsaw:20220513T190000
DTEND;TZID=Europe/Warsaw:20220513T190000
DTSTAMP:20260426T035907
CREATED:20220427T114755Z
LAST-MODIFIED:20220518T123059Z
UID:61205-1652468400-1652468400@www.amuz.krakow.pl
SUMMARY:[:pl]Spektakl operowy Orkiestry Kameralnej AMKP "Czarodziejski flet"[:]
DESCRIPTION:
URL:https://www.amuz.krakow.pl/wydzialy/wydzial-iii-wokalno-aktorski/pracownicy-katedry-2/aktualnosci/spektakl-operowy-czarodziejski-flet/
ATTACH;FMTTYPE=image/jpeg:https://www.amuz.krakow.pl/wp-content/uploads/2022/04/zuberflute-OK-scaled.jpg
END:VEVENT
BEGIN:VEVENT
DTSTART;TZID=Europe/Warsaw:20220513T190000
DTEND;TZID=Europe/Warsaw:20220513T190000
DTSTAMP:20260426T035907
CREATED:20220512T115559Z
LAST-MODIFIED:20220518T122810Z
UID:62163-1652468400-1652468400@www.amuz.krakow.pl
SUMMARY:[:pl]Koncert "STREFA 522"[:]
DESCRIPTION:
URL:https://www.amuz.krakow.pl/wydzialy/wydzial-i-tworczosci-interpretacji-i-edukacji-muzycznej/katedra-kompozycji/aktualnosci/koncert-strefa-522/
ATTACH;FMTTYPE=image/jpeg:https://www.amuz.krakow.pl/wp-content/uploads/2022/05/koncert-1.jpg
END:VEVENT
BEGIN:VEVENT
DTSTART;TZID=Europe/Warsaw:20220514T180000
DTEND;TZID=Europe/Warsaw:20220514T180000
DTSTAMP:20260426T035907
CREATED:20211003T190353Z
LAST-MODIFIED:20220427T114248Z
UID:53440-1652551200-1652551200@www.amuz.krakow.pl
SUMMARY:Koncert Orkiestry Barokowej
DESCRIPTION:
URL:https://www.amuz.krakow.pl/koncert-orkiestry-barokowej-14-05-2022/
LOCATION:Sala Koncertowa Akademii Muzycznej im. Krzysztofa Pendereckiego w Krakowie
ATTACH;FMTTYPE=image/jpeg:https://www.amuz.krakow.pl/wp-content/uploads/2022/04/barokowa-14-05-2022-scaled.jpg
END:VEVENT
BEGIN:VEVENT
DTSTART;TZID=Europe/Warsaw:20220514T180000
DTEND;TZID=Europe/Warsaw:20220514T180000
DTSTAMP:20260426T035907
CREATED:20220429T115355Z
LAST-MODIFIED:20220518T121411Z
UID:61342-1652551200-1652551200@www.amuz.krakow.pl
SUMMARY:[:pl]„Carmina Burana" i „Obrazki z wystawy" w NCK[:]
DESCRIPTION:
URL:http://www.amuz.krakow.pl/wydzialy/wydzial-i-tworczosci-interpretacji-i-edukacji-muzycznej/katedra-choralistyki/aktualnosci/carmina-burana-i-obrazki-z-wystawy-w-nck/
LOCATION:Nowohuckie Centrum Kultury\, al. Jana Pawła II 232\, Kraków
ATTACH;FMTTYPE=image/jpeg:https://www.amuz.krakow.pl/wp-content/uploads/2022/04/carmina-obrazki-B1.jpg
END:VEVENT
BEGIN:VEVENT
DTSTART;TZID=Europe/Warsaw:20220515T132000
DTEND;TZID=Europe/Warsaw:20220515T132000
DTSTAMP:20260426T035907
CREATED:20220510T095432Z
LAST-MODIFIED:20220518T121910Z
UID:61644-1652620800-1652620800@www.amuz.krakow.pl
SUMMARY:[:pl]V Organowe Matinée[:]
DESCRIPTION:
URL:https://www.amuz.krakow.pl/wydzialy/wydzial-ii-instrumentalny/katedra-organow/aktualnosci/v-organowe-matinee/
LOCATION:Bazylika OO. Jezuitów w Krakowie\, ul. Kopernika 26\, Kraków
ATTACH;FMTTYPE=image/jpeg:https://www.amuz.krakow.pl/wp-content/uploads/2022/04/organowy-matinee-www.jpg
END:VEVENT
BEGIN:VEVENT
DTSTART;TZID=Europe/Warsaw:20220515T160000
DTEND;TZID=Europe/Warsaw:20220515T160000
DTSTAMP:20260426T035907
CREATED:20220511T091703Z
LAST-MODIFIED:20220518T122653Z
UID:61830-1652630400-1652630400@www.amuz.krakow.pl
SUMMARY:[:pl]Koncert studentów kompozycji[:]
DESCRIPTION:
URL:https://www.amuz.krakow.pl/wydzialy/wydzial-i-tworczosci-interpretacji-i-edukacji-muzycznej/katedra-kompozycji/aktualnosci/koncert-studentow-kompozycji/
LOCATION:Sala Kameralna\, ul. św. Tomasza 43\, Kraków\, Poland
ATTACH;FMTTYPE=image/jpeg:https://www.amuz.krakow.pl/wp-content/uploads/2022/04/STUDENCI-KOMPOZYCJI.jpg
END:VEVENT
BEGIN:VEVENT
DTSTART;TZID=Europe/Warsaw:20220515T190000
DTEND;TZID=Europe/Warsaw:20220515T190000
DTSTAMP:20260426T035907
CREATED:20220427T114952Z
LAST-MODIFIED:20220518T123037Z
UID:61207-1652641200-1652641200@www.amuz.krakow.pl
SUMMARY:[:pl]Spektakl operowy Orkiestry Kameralnej AMKP "Czarodziejski flet"[:en]ie[:]
DESCRIPTION:
URL:https://www.amuz.krakow.pl/wydzialy/wydzial-iii-wokalno-aktorski/pracownicy-katedry-2/aktualnosci/spektakl-operowy-czarodziejski-flet/
ATTACH;FMTTYPE=image/jpeg:https://www.amuz.krakow.pl/wp-content/uploads/2022/04/zuberflute-OK-scaled.jpg
END:VEVENT
BEGIN:VEVENT
DTSTART;TZID=Europe/Warsaw:20220516T133000
DTEND;TZID=Europe/Warsaw:20220516T133000
DTSTAMP:20260426T035907
CREATED:20220505T110641Z
LAST-MODIFIED:20220510T115041Z
UID:61485-1652707800-1652707800@www.amuz.krakow.pl
SUMMARY:[:pl]Koncert wymienny[:]
DESCRIPTION:
URL:https://www.amuz.krakow.pl/wydzialy/wydzial-ii-instrumentalny/katedra-instrumentow-detych-drewnianych-i-akordeonu-2/aktualnosci/koncert-wymienny-16-05-30-05/
ATTACH;FMTTYPE=image/png:https://www.amuz.krakow.pl/wp-content/uploads/2022/05/logo-pionowe-amkl.png
END:VEVENT
BEGIN:VEVENT
DTSTART;TZID=Europe/Warsaw:20220516T180000
DTEND;TZID=Europe/Warsaw:20220516T180000
DTSTAMP:20260426T035907
CREATED:20220429T115526Z
LAST-MODIFIED:20220518T122120Z
UID:61344-1652724000-1652724000@www.amuz.krakow.pl
SUMMARY:[:pl]"Rytmy\, barwy i kolory w muzyce współczesnej" - koncert[:]
DESCRIPTION:
URL:https://www.amuz.krakow.pl/wydzialy/wydzial-ii-instrumentalny/katedra-perkusji-i-muzyki-wspolczesnej/aktualnosci/rytmy-barwy-i-kolory-w-muzyce-wspolczesnej/
LOCATION:Sala Koncertowa Akademii Muzycznej im. Krzysztofa Pendereckiego w Krakowie
ATTACH;FMTTYPE=image/jpeg:https://www.amuz.krakow.pl/wp-content/uploads/2022/05/rytmy-barwy-afisz.jpg
END:VEVENT
BEGIN:VEVENT
DTSTART;TZID=Europe/Warsaw:20220519T093000
DTEND;TZID=Europe/Warsaw:20220519T203000
DTSTAMP:20260426T035907
CREATED:20220429T120951Z
LAST-MODIFIED:20220520T110833Z
UID:61347-1652952600-1652992200@www.amuz.krakow.pl
SUMMARY:[:pl]TOLKIENADA: Fantasy w muzyce. Muzyka w fantasy - w 130. rocznicę urodzin Johna Ronalda Reuela Tolkiena[:]
DESCRIPTION:
URL:https://www.amuz.krakow.pl/wydzialy/wydzial-i-tworczosci-interpretacji-i-edukacji-muzycznej/katedra-dyrygentury/aktualnosci/tolkienada/
END:VEVENT
BEGIN:VEVENT
DTSTART;TZID=Europe/Warsaw:20220519T190000
DTEND;TZID=Europe/Warsaw:20220519T190000
DTSTAMP:20260426T035907
CREATED:20220429T123110Z
LAST-MODIFIED:20220520T110951Z
UID:61365-1652986800-1652986800@www.amuz.krakow.pl
SUMMARY:[:pl]Koncert Sonat Domenico Scarlattiego[:]
DESCRIPTION:
URL:https://www.amuz.krakow.pl/wydzialy/wydzial-ii-instrumentalny/katedra-fortepianu/aktualnosci/koncert-sonat-domenico-scarlattiego/
LOCATION:Aula Florianka
ATTACH;FMTTYPE=image/jpeg:https://www.amuz.krakow.pl/wp-content/uploads/2022/04/scarlatti-web.jpg
END:VEVENT
BEGIN:VEVENT
DTSTART;TZID=Europe/Warsaw:20220520T130000
DTEND;TZID=Europe/Warsaw:20220522T200000
DTSTAMP:20260426T035907
CREATED:20220429T121330Z
LAST-MODIFIED:20220512T113038Z
UID:61351-1653051600-1653249600@www.amuz.krakow.pl
SUMMARY:[:pl]VI Dni Jana Nepomucena Bobrowicza „Muzyka gitarowa w Wiedniu pierwszej połowy XIX wieku”[:]
DESCRIPTION:
URL:https://www.amuz.krakow.pl/vi-dni-jana-nepomucena-bobrowicza/
END:VEVENT
BEGIN:VEVENT
DTSTART;TZID=Europe/Warsaw:20220521T100000
DTEND;TZID=Europe/Warsaw:20220521T180000
DTSTAMP:20260426T035907
CREATED:20220517T100226Z
LAST-MODIFIED:20220523T085838Z
UID:62436-1653127200-1653156000@www.amuz.krakow.pl
SUMMARY:[:pl]Flow phonation. Od energii ciała do energii głosu[:]
DESCRIPTION:
URL:https://www.amuz.krakow.pl/wydzialy/wydzial-iii-wokalno-aktorski/pracownicy-katedry-2/aktualnosci/flow-phonation/
ATTACH;FMTTYPE=image/jpeg:https://www.amuz.krakow.pl/wp-content/uploads/2022/05/flow-A3.jpg
END:VEVENT
BEGIN:VEVENT
DTSTART;TZID=Europe/Warsaw:20220521T170000
DTEND;TZID=Europe/Warsaw:20220521T170000
DTSTAMP:20260426T035907
CREATED:20220429T121530Z
LAST-MODIFIED:20220517T092615Z
UID:61353-1653152400-1653152400@www.amuz.krakow.pl
SUMMARY:[:pl]PORUSZENIA. Koncert interpretacji ruchowych utworów muzycznych[:]
DESCRIPTION:
URL:https://www.amuz.krakow.pl/wydzialy/wydzial-i-tworczosci-interpretacji-i-edukacji-muzycznej/katedra-badan-muzyczno-edukacyjnych/aktualnosci/koncert-interpretacji-ruchowych-utworow-muzycznych/
LOCATION:Sala Koncertowa Akademii Muzycznej im. Krzysztofa Pendereckiego w Krakowie
ATTACH;FMTTYPE=image/jpeg:https://www.amuz.krakow.pl/wp-content/uploads/2022/05/poruszenia-OK.jpg
END:VEVENT
BEGIN:VEVENT
DTSTART;TZID=Europe/Warsaw:20220521T180000
DTEND;TZID=Europe/Warsaw:20220521T180000
DTSTAMP:20260426T035907
CREATED:20220505T112418Z
LAST-MODIFIED:20220523T090252Z
UID:61487-1653156000-1653156000@www.amuz.krakow.pl
SUMMARY:[:pl]Krzysztof Penderecki - Kameralistyka Smyczkowa[:]
DESCRIPTION:
URL:https://www.amuz.krakow.pl/wydzialy/wydzial-ii-instrumentalny/katedra-kameralistyki/aktualnosci/krzysztof-penderecki-kameralistyka-smyczkowa/
LOCATION:Aula Florianka
ATTACH;FMTTYPE=image/jpeg:https://www.amuz.krakow.pl/wp-content/uploads/2022/04/penderecki-kameralistyka.jpg
END:VEVENT
BEGIN:VEVENT
DTSTART;TZID=Europe/Warsaw:20220522T180000
DTEND;TZID=Europe/Warsaw:20220522T180000
DTSTAMP:20260426T035907
CREATED:20220429T121836Z
LAST-MODIFIED:20220516T093645Z
UID:61356-1653242400-1653242400@www.amuz.krakow.pl
SUMMARY:[:pl]KONCERT ODWOŁANY. Koncert w ramach jubileuszu 50-lecia Katedry Kameralistyki[:]
DESCRIPTION:
URL:https://www.amuz.krakow.pl/en/event/koncert-w-ramach-jubileuszu-50-lecia-katedry-kameralistyki-4/
LOCATION:Sala Koncertowa Akademii Muzycznej im. Krzysztofa Pendereckiego w Krakowie
END:VEVENT
BEGIN:VEVENT
DTSTART;TZID=Europe/Warsaw:20220525T150000
DTEND;TZID=Europe/Warsaw:20220525T150000
DTSTAMP:20260426T035907
CREATED:20220523T100919Z
LAST-MODIFIED:20220523T101243Z
UID:62674-1653490800-1653490800@www.amuz.krakow.pl
SUMMARY:[:pl]RADU LUPU - Mistrz pianistycznej kolorystyki[:]
DESCRIPTION:
URL:https://www.amuz.krakow.pl/radu-lupu-mistrz-pianistycznej-kolorystyki/
LOCATION:Sala Kameralna\, ul. św. Tomasza 43\, Kraków\, Poland
ATTACH;FMTTYPE=image/jpeg:https://www.amuz.krakow.pl/wp-content/uploads/2022/05/radu-lupu-A3.jpg
END:VEVENT
BEGIN:VEVENT
DTSTART;TZID=Europe/Warsaw:20220526T190000
DTEND;TZID=Europe/Warsaw:20220526T190000
DTSTAMP:20260426T035907
CREATED:20220509T124713Z
LAST-MODIFIED:20220512T121154Z
UID:61595-1653591600-1653591600@www.amuz.krakow.pl
SUMMARY:[:pl]Muzyka (Nie) Poważna[:]
DESCRIPTION:
URL:https://www.amuz.krakow.pl/muzyka-nie-powazna/
LOCATION:Dworek Białoprądnicki\, ul. Papiernicza 2\, Kraków\, Poland
ATTACH;FMTTYPE=image/jpeg:https://www.amuz.krakow.pl/wp-content/uploads/2022/05/muzyka-Nie-Powazna-scaled.jpg
END:VEVENT
BEGIN:VEVENT
DTSTART;TZID=Europe/Warsaw:20220528T170000
DTEND;TZID=Europe/Warsaw:20220528T170000
DTSTAMP:20260426T035907
CREATED:20220524T113134Z
LAST-MODIFIED:20220907T080546Z
UID:62794-1653757200-1653757200@www.amuz.krakow.pl
SUMMARY:[:pl]Warsztat kompozytorsko-wykonawczy[:]
DESCRIPTION:
URL:https://www.amuz.krakow.pl/wydzialy/wydzial-ii-instrumentalny/katedra-perkusji-i-muzyki-wspolczesnej/aktualnosci/warsztat-kompozytorsko-wykonawczy/
LOCATION:Sala Koncertowa Akademii Muzycznej im. Krzysztofa Pendereckiego w Krakowie
ATTACH;FMTTYPE=image/jpeg:https://www.amuz.krakow.pl/wp-content/uploads/2022/05/warsztat.jpg
END:VEVENT
BEGIN:VEVENT
DTSTART;TZID=Europe/Warsaw:20220530T190000
DTEND;TZID=Europe/Warsaw:20220530T190000
DTSTAMP:20260426T035907
CREATED:20220524T111907Z
LAST-MODIFIED:20220907T080526Z
UID:62781-1653937200-1653937200@www.amuz.krakow.pl
SUMMARY:[:pl]Skrzypcowe dialogi[:]
DESCRIPTION:
URL:https://www.amuz.krakow.pl/wydzialy/wydzial-ii-instrumentalny/katedra-skrzypiec-i-altowki/aktualnosci/skrzypcowe-dialogi/
LOCATION:Sala Kameralna\, ul. św. Tomasza 43\, Kraków\, Poland
ATTACH;FMTTYPE=image/jpeg:https://www.amuz.krakow.pl/wp-content/uploads/2022/05/skrzypcowe-dialogi.jpg
END:VEVENT
BEGIN:VEVENT
DTSTART;TZID=Europe/Warsaw:20220602T170000
DTEND;TZID=Europe/Warsaw:20220602T170000
DTSTAMP:20260426T035907
CREATED:20220524T113226Z
LAST-MODIFIED:20220907T080509Z
UID:62800-1654189200-1654189200@www.amuz.krakow.pl
SUMMARY:[:pl]Warsztat kompozytorsko-wykonawczy[:]
DESCRIPTION:
URL:https://www.amuz.krakow.pl/wydzialy/wydzial-ii-instrumentalny/katedra-perkusji-i-muzyki-wspolczesnej/aktualnosci/warsztat-kompozytorsko-wykonawczy/
LOCATION:Sala Koncertowa Akademii Muzycznej im. Krzysztofa Pendereckiego w Krakowie
ATTACH;FMTTYPE=image/jpeg:https://www.amuz.krakow.pl/wp-content/uploads/2022/05/warsztat.jpg
END:VEVENT
BEGIN:VEVENT
DTSTART;TZID=Europe/Warsaw:20220603T193000
DTEND;TZID=Europe/Warsaw:20220603T193000
DTSTAMP:20260426T035907
CREATED:20220524T115025Z
LAST-MODIFIED:20220907T080451Z
UID:62802-1654284600-1654284600@www.amuz.krakow.pl
SUMMARY:[:pl]Koncert oratoryjny w ramach projektu "Muzyczne mosty"[:]
DESCRIPTION:
URL:https://www.amuz.krakow.pl/koncert-oratoryjny-muzyczne-mosty/
ATTACH;FMTTYPE=image/jpeg:https://www.amuz.krakow.pl/wp-content/uploads/2022/05/koncert-1.jpg
END:VEVENT
BEGIN:VEVENT
DTSTART;TZID=Europe/Warsaw:20220610T140000
DTEND;TZID=Europe/Warsaw:20220610T140000
DTSTAMP:20260426T035907
CREATED:20220607T104104Z
LAST-MODIFIED:20220607T104725Z
UID:63382-1654869600-1654869600@www.amuz.krakow.pl
SUMMARY:[:pl]Odsłonięcie tablicy pamiątkowej poświęconej Eugenii Umińskiej[:]
DESCRIPTION:
URL:https://www.amuz.krakow.pl/odsloniecie-tablicy-pamiatkowej-poswieconej-eugenii-uminskiej/
ATTACH;FMTTYPE=image/jpeg:https://www.amuz.krakow.pl/wp-content/uploads/2022/06/20220606_121607_2-scaled.jpg
END:VEVENT
BEGIN:VEVENT
DTSTART;TZID=Europe/Warsaw:20220612T132000
DTEND;TZID=Europe/Warsaw:20220612T132000
DTSTAMP:20260426T035907
CREATED:20220523T081925Z
LAST-MODIFIED:20220523T083854Z
UID:62643-1655040000-1655040000@www.amuz.krakow.pl
SUMMARY:[:pl]VI Organowe Matinée - Krzysztof Augustyn\, absolwent UMFC i AMKP[:]
DESCRIPTION:
URL:https://www.amuz.krakow.pl/vi-organowe-matinee/
LOCATION:Bazylika OO. Jezuitów w Krakowie\, ul. Kopernika 26\, Kraków
ATTACH;FMTTYPE=image/jpeg:https://www.amuz.krakow.pl/wp-content/uploads/2022/05/organowy-plakat5.jpg
END:VEVENT
BEGIN:VEVENT
DTSTART;TZID=Europe/Warsaw:20220613T110000
DTEND;TZID=Europe/Warsaw:20220613T110000
DTSTAMP:20260426T035907
CREATED:20220608T122242Z
LAST-MODIFIED:20220907T080428Z
UID:63554-1655118000-1655118000@www.amuz.krakow.pl
SUMMARY:[:pl]Spotkanie z koncertmistrzem Opery Krakowskiej - Pawłem Wójtowiczem[:]
DESCRIPTION:
URL:https://www.amuz.krakow.pl/studenci/centrum-rozwoju-kariery/aktualnosci/spotkanie-z-pawlem-wojtowiczem/
ATTACH;FMTTYPE=image/jpeg:https://www.amuz.krakow.pl/wp-content/uploads/2022/06/wojtowicz.jpg
END:VEVENT
BEGIN:VEVENT
DTSTART;TZID=Europe/Warsaw:20220618T100000
DTEND;TZID=Europe/Warsaw:20220618T170000
DTSTAMP:20260426T035907
CREATED:20220614T124644Z
LAST-MODIFIED:20220614T124644Z
UID:63719-1655546400-1655571600@www.amuz.krakow.pl
SUMMARY:[:pl]Piknik Rodziny | Dzień Innowacji Erasmus+[:]
DESCRIPTION:
URL:https://www.amuz.krakow.pl/piknik-rodziny-dzien-innowacji-erasmus/
ATTACH;FMTTYPE=image/png:https://www.amuz.krakow.pl/wp-content/uploads/2022/06/Piknik-Rodziny-Dzien-Innowacji-Erasmus-kafelek2.png
END:VEVENT
BEGIN:VEVENT
DTSTART;TZID=Europe/Warsaw:20220624T190000
DTEND;TZID=Europe/Warsaw:20220624T190000
DTSTAMP:20260426T035907
CREATED:20220620T111143Z
LAST-MODIFIED:20220620T111143Z
UID:63777-1656097200-1656097200@www.amuz.krakow.pl
SUMMARY:[:pl]Recital fortepianowy Hao Rao[:]
DESCRIPTION:
URL:https://www.amuz.krakow.pl/wydzialy/wydzial-ii-instrumentalny/katedra-fortepianu/aktualnosci/recital-fortepianowy-hao-rao/
ATTACH;FMTTYPE=image/jpeg:https://www.amuz.krakow.pl/wp-content/uploads/2022/06/poster-Hao.jpg
END:VEVENT
END:VCALENDAR