BEGIN:VCALENDAR
VERSION:2.0
PRODID:-//Akademia Muzyczna im. Krzysztofa Pendereckiego w Krakowie - ECPv6.15.20//NONSGML v1.0//EN
CALSCALE:GREGORIAN
METHOD:PUBLISH
X-WR-CALNAME:Akademia Muzyczna im. Krzysztofa Pendereckiego w Krakowie
X-ORIGINAL-URL:https://www.amuz.krakow.pl/en
X-WR-CALDESC:Events for Akademia Muzyczna im. Krzysztofa Pendereckiego w Krakowie
REFRESH-INTERVAL;VALUE=DURATION:PT1H
X-Robots-Tag:noindex
X-PUBLISHED-TTL:PT1H
BEGIN:VTIMEZONE
TZID:Europe/Warsaw
BEGIN:DAYLIGHT
TZOFFSETFROM:+0100
TZOFFSETTO:+0200
TZNAME:CEST
DTSTART:20200329T010000
END:DAYLIGHT
BEGIN:STANDARD
TZOFFSETFROM:+0200
TZOFFSETTO:+0100
TZNAME:CET
DTSTART:20201025T010000
END:STANDARD
BEGIN:DAYLIGHT
TZOFFSETFROM:+0100
TZOFFSETTO:+0200
TZNAME:CEST
DTSTART:20210328T010000
END:DAYLIGHT
BEGIN:STANDARD
TZOFFSETFROM:+0200
TZOFFSETTO:+0100
TZNAME:CET
DTSTART:20211031T010000
END:STANDARD
BEGIN:DAYLIGHT
TZOFFSETFROM:+0100
TZOFFSETTO:+0200
TZNAME:CEST
DTSTART:20220327T010000
END:DAYLIGHT
BEGIN:STANDARD
TZOFFSETFROM:+0200
TZOFFSETTO:+0100
TZNAME:CET
DTSTART:20221030T010000
END:STANDARD
END:VTIMEZONE
BEGIN:VEVENT
DTSTART;TZID=Europe/Warsaw:20211126T193000
DTEND;TZID=Europe/Warsaw:20211126T193000
DTSTAMP:20260426T025208
CREATED:20211122T214840Z
LAST-MODIFIED:20211122T214840Z
UID:55308-1637955000-1637955000@www.amuz.krakow.pl
SUMMARY:Nieszpory za zmarłych ze śpiewem gregoriańskim
DESCRIPTION:
URL:https://www.amuz.krakow.pl/wydzialy/wydzial-i-tworczosci-interpretacji-i-edukacji-muzycznej/katedra-muzyki-religijnej/aktualnosci/nieszpory-za-zmarlych-ze-spiewem-gregorianskim/
LOCATION:Bazylika Mariacka
ATTACH;FMTTYPE=image/jpeg:https://www.amuz.krakow.pl/wp-content/uploads/2021/11/Plakat-26-XI-2021-scaled.jpg
END:VEVENT
BEGIN:VEVENT
DTSTART;TZID=Europe/Warsaw:20211127T110000
DTEND;TZID=Europe/Warsaw:20211127T200000
DTSTAMP:20260426T025208
CREATED:20211116T112942Z
LAST-MODIFIED:20211118T201634Z
UID:55040-1638010800-1638043200@www.amuz.krakow.pl
SUMMARY:[:pl]Kontrabas a muzyka czasów Ludwiga van Beethovena[:]
DESCRIPTION:
URL:https://www.amuz.krakow.pl/wydzialy/wydzial-ii-instrumentalny/katedra-wiolonczeli-i-kontrabasu/aktualnosci/kontrabas-a-muzyka-czasow-ludwiga-van-beethovena
LOCATION:Sala Kameralna\, ul. św. Tomasza 43\, Kraków\, Poland
ATTACH;FMTTYPE=image/jpeg:https://www.amuz.krakow.pl/wp-content/uploads/2021/11/Kontrabas-a-muzyka-czasow-Ludwiga-van-Beethovena-kafelek.jpg
END:VEVENT
BEGIN:VEVENT
DTSTART;TZID=Europe/Warsaw:20211127T180000
DTEND;TZID=Europe/Warsaw:20211127T180000
DTSTAMP:20260426T025208
CREATED:20211124T124005Z
LAST-MODIFIED:20211124T124005Z
UID:55417-1638036000-1638036000@www.amuz.krakow.pl
SUMMARY:Pieśń Przyszłości
DESCRIPTION:
URL:https://www.amuz.krakow.pl/wydzialy/wydzial-ii-instrumentalny/katedra-kameralistyki/aktualnosci/piesn-przyszlosci-2021-2
LOCATION:Aula Florianka
ATTACH;FMTTYPE=image/jpeg:https://www.amuz.krakow.pl/wp-content/uploads/2021/11/Piesn-Przyszlosci-26.11.2021-kafelek.jpg
END:VEVENT
BEGIN:VEVENT
DTSTART;TZID=Europe/Warsaw:20211128T140000
DTEND;TZID=Europe/Warsaw:20211128T200000
DTSTAMP:20260426T025208
CREATED:20211116T122725Z
LAST-MODIFIED:20211124T124624Z
UID:55048-1638108000-1638129600@www.amuz.krakow.pl
SUMMARY:LABORATORIUM „Polska dyrygentura. Od egzaminu wstępnego do międzynarodowej kariery"
DESCRIPTION:
URL:https://www.amuz.krakow.pl/wydzialy/wydzial-i-tworczosci-interpretacji-i-edukacji-muzycznej/katedra-dyrygentury/aktualnosci/laboratorium-polska-dyrygentura-od-egzaminu-wstepnego-do-miedzynarodowej-kariery
ATTACH;FMTTYPE=image/jpeg:https://www.amuz.krakow.pl/wp-content/uploads/2021/11/Laboratorium-dyrygentury-28-29.11.2021-kafelek.jpg
END:VEVENT
BEGIN:VEVENT
DTSTART;TZID=Europe/Warsaw:20211128T160000
DTEND;TZID=Europe/Warsaw:20211128T160000
DTSTAMP:20260426T025208
CREATED:20211116T113003Z
LAST-MODIFIED:20211118T201649Z
UID:55041-1638115200-1638115200@www.amuz.krakow.pl
SUMMARY:[:pl]Kontrabas a muzyka czasów Ludwiga van Beethovena[:]
DESCRIPTION:
URL:https://www.amuz.krakow.pl/wydzialy/wydzial-ii-instrumentalny/katedra-wiolonczeli-i-kontrabasu/aktualnosci/kontrabas-a-muzyka-czasow-ludwiga-van-beethovena
LOCATION:Sala Koncertowa Akademii Muzycznej im. Krzysztofa Pendereckiego w Krakowie
ATTACH;FMTTYPE=image/jpeg:https://www.amuz.krakow.pl/wp-content/uploads/2021/11/Kontrabas-a-muzyka-czasow-Ludwiga-van-Beethovena-kafelek.jpg
END:VEVENT
BEGIN:VEVENT
DTSTART;TZID=Europe/Warsaw:20211129T090000
DTEND;TZID=Europe/Warsaw:20211129T140000
DTSTAMP:20260426T025208
CREATED:20211116T122753Z
LAST-MODIFIED:20211124T124638Z
UID:55049-1638176400-1638194400@www.amuz.krakow.pl
SUMMARY:LABORATORIUM „Polska dyrygentura. Od egzaminu wstępnego do międzynarodowej kariery"
DESCRIPTION:
URL:https://www.amuz.krakow.pl/wydzialy/wydzial-i-tworczosci-interpretacji-i-edukacji-muzycznej/katedra-dyrygentury/aktualnosci/laboratorium-polska-dyrygentura-od-egzaminu-wstepnego-do-miedzynarodowej-kariery
ATTACH;FMTTYPE=image/jpeg:https://www.amuz.krakow.pl/wp-content/uploads/2021/11/Laboratorium-dyrygentury-28-29.11.2021-kafelek.jpg
END:VEVENT
BEGIN:VEVENT
DTSTART;TZID=Europe/Warsaw:20211129T190000
DTEND;TZID=Europe/Warsaw:20211129T190000
DTSTAMP:20260426T025208
CREATED:20211105T225219Z
LAST-MODIFIED:20211124T125518Z
UID:54724-1638212400-1638212400@www.amuz.krakow.pl
SUMMARY:W 30. rocznicę śmierci Andrzeja Panufnika
DESCRIPTION:
URL:https://www.amuz.krakow.pl/wydzialy/wydzial-ii-instrumentalny/katedra-perkusji-i-muzyki-wspolczesnej/aktualnosci/w-30-rocznice-smierci-andrzeja-panufnika
LOCATION:Sala Koncertowa Akademii Muzycznej im. Krzysztofa Pendereckiego w Krakowie
ATTACH;FMTTYPE=image/jpeg:https://www.amuz.krakow.pl/wp-content/uploads/2021/11/W-30.-rocznice-smierci-Andrzeja-Panufnika-29.11.2021-kafelek.jpg
END:VEVENT
BEGIN:VEVENT
DTSTART;TZID=Europe/Warsaw:20211201T100000
DTEND;TZID=Europe/Warsaw:20211201T130000
DTSTAMP:20260426T025208
CREATED:20211125T211738Z
LAST-MODIFIED:20211125T211738Z
UID:55512-1638352800-1638363600@www.amuz.krakow.pl
SUMMARY:„Improvisation Elements – sound / technique / language”
DESCRIPTION:
URL:https://www.amuz.krakow.pl/wydzialy/wydzial-ii-instrumentalny/katedra-jazzu/aktualnosci-2/improvisation-elements-sound-technique-language/
LOCATION:Aula w Domu Akademickim
ATTACH;FMTTYPE=image/jpeg:https://www.amuz.krakow.pl/wp-content/uploads/2021/11/„Improvisation-Elements-–-sound-technique-language-01.12.2021-kafelek.jpg
END:VEVENT
BEGIN:VEVENT
DTSTART;TZID=Europe/Warsaw:20211201T190000
DTEND;TZID=Europe/Warsaw:20211201T190000
DTSTAMP:20260426T025208
CREATED:20211125T211604Z
LAST-MODIFIED:20211125T211604Z
UID:55511-1638385200-1638385200@www.amuz.krakow.pl
SUMMARY:„European Jazz’s Cool”
DESCRIPTION:
URL:https://www.amuz.krakow.pl/wydzialy/wydzial-ii-instrumentalny/katedra-jazzu/aktualnosci-2/european-jazzs-cool/
LOCATION:Sala Koncertowa Akademii Muzycznej im. Krzysztofa Pendereckiego w Krakowie
ATTACH;FMTTYPE=image/jpeg:https://www.amuz.krakow.pl/wp-content/uploads/2021/11/European-Jazzs-Cool-01.12.2021-KAFELEK.jpg
END:VEVENT
BEGIN:VEVENT
DTSTART;TZID=Europe/Warsaw:20211203T094500
DTEND;TZID=Europe/Warsaw:20211203T180000
DTSTAMP:20260426T025208
CREATED:20211118T203704Z
LAST-MODIFIED:20211124T131522Z
UID:55216-1638524700-1638554400@www.amuz.krakow.pl
SUMMARY:"Wokół zagadnień z kształcenia słuchu i audycji muzycznych w szkole muzycznej I stopnia - teoria i praktyka"
DESCRIPTION:
URL:https://www.amuz.krakow.pl/wydzialy/wydzial-i-tworczosci-interpretacji-i-edukacji-muzycznej/katedra-badan-muzyczno-edukacyjnych/aktualnosci/wokol-zagadnien-z-ksztalcenia-sluchu-i-audycji-muzycznych-w-szkole-muzycznej-i-stopnia-teoria-i-praktyka/
LOCATION:Sala Kameralna\, ul. św. Tomasza 43\, Kraków\, Poland
ATTACH;FMTTYPE=image/jpeg:https://www.amuz.krakow.pl/wp-content/uploads/2021/11/Wokol-zagadnien-z-ksztalcenia-sluchu-3-4.12.2021-kafelek.jpg
END:VEVENT
BEGIN:VEVENT
DTSTART;TZID=Europe/Warsaw:20211204T090000
DTEND;TZID=Europe/Warsaw:20211204T163000
DTSTAMP:20260426T025208
CREATED:20211118T203808Z
LAST-MODIFIED:20211124T131539Z
UID:55217-1638608400-1638635400@www.amuz.krakow.pl
SUMMARY:"Wokół zagadnień z kształcenia słuchu i audycji muzycznych w szkole muzycznej I stopnia - teoria i praktyka"
DESCRIPTION:
URL:https://www.amuz.krakow.pl/wydzialy/wydzial-i-tworczosci-interpretacji-i-edukacji-muzycznej/katedra-badan-muzyczno-edukacyjnych/aktualnosci/wokol-zagadnien-z-ksztalcenia-sluchu-i-audycji-muzycznych-w-szkole-muzycznej-i-stopnia-teoria-i-praktyka/
LOCATION:Sala Kameralna\, ul. św. Tomasza 43\, Kraków\, Poland
ATTACH;FMTTYPE=image/jpeg:https://www.amuz.krakow.pl/wp-content/uploads/2021/11/Wokol-zagadnien-z-ksztalcenia-sluchu-3-4.12.2021-kafelek.jpg
END:VEVENT
BEGIN:VEVENT
DTSTART;TZID=Europe/Warsaw:20211204T190000
DTEND;TZID=Europe/Warsaw:20211204T190000
DTSTAMP:20260426T025208
CREATED:20211125T125104Z
LAST-MODIFIED:20211125T125104Z
UID:55472-1638644400-1638644400@www.amuz.krakow.pl
SUMMARY:Arcydzieła kameralistyki światowej
DESCRIPTION:
URL:https://www.amuz.krakow.pl/wydzialy/wydzial-ii-instrumentalny/katedra-kameralistyki/aktualnosci/arcydziela-kameralistyki-swiatowej
LOCATION:Sala Koncertowa Akademii Muzycznej im. Krzysztofa Pendereckiego w Krakowie
ATTACH;FMTTYPE=image/jpeg:https://www.amuz.krakow.pl/wp-content/uploads/2021/11/Arcydziela-kameralistyki-swiatowej-04.12.2021-KAFELEK.jpg
END:VEVENT
BEGIN:VEVENT
DTSTART;TZID=Europe/Warsaw:20211204T190000
DTEND;TZID=Europe/Warsaw:20211204T190000
DTSTAMP:20260426T025208
CREATED:20211125T130517Z
LAST-MODIFIED:20211125T130517Z
UID:55481-1638644400-1638644400@www.amuz.krakow.pl
SUMMARY:Koncert z okazji jubileuszu 20-lecia istnienia  zespołu Cracow Duo: Kalinowski&Szlezer
DESCRIPTION:
URL:https://www.amuz.krakow.pl/wydzialy/wydzial-i-tworczosci-interpretacji-i-edukacji-muzycznej/katedra-kompozycji/aktualnosci/koncert-z-okazji-jubileuszu-20-lecia-istnienia-zespolu-cracow-duo-kalinowskiszlezer/
LOCATION:Aula Florianka
ATTACH;FMTTYPE=image/jpeg:https://www.amuz.krakow.pl/wp-content/uploads/2021/11/Cracow-Duo-KalinowskiSzlezer-04.12.2021-kafelek.jpg
END:VEVENT
BEGIN:VEVENT
DTSTART;TZID=Europe/Warsaw:20211211T190000
DTEND;TZID=Europe/Warsaw:20211211T190000
DTSTAMP:20260426T025208
CREATED:20211125T204650Z
LAST-MODIFIED:20211203T161453Z
UID:55492-1639249200-1639249200@www.amuz.krakow.pl
SUMMARY:„Les deux amis – gitarowa muzyka kameralna pierwszej połowy XIX wieku na instrumentach z epoki”
DESCRIPTION:
URL:https://www.amuz.krakow.pl/wydzialy/wydzial-ii-instrumentalny/katedra-gitary-i-harfy/aktualnosci/les-deux-amis-gitarowa-muzyka-kameralna-pierwszej-polowy-xix-wieku-na-instrumentach-z-epoki/
LOCATION:Aula Florianka
ATTACH;FMTTYPE=image/jpeg:https://www.amuz.krakow.pl/wp-content/uploads/2021/12/IMG_0012_Les-deux-amis-scaled.jpg
END:VEVENT
BEGIN:VEVENT
DTSTART;TZID=Europe/Warsaw:20211212T120000
DTEND;TZID=Europe/Warsaw:20211212T120000
DTSTAMP:20260426T025208
CREATED:20211125T204823Z
LAST-MODIFIED:20211203T161524Z
UID:55493-1639310400-1639310400@www.amuz.krakow.pl
SUMMARY:„Les deux amis – gitarowa muzyka kameralna pierwszej połowy XIX wieku na instrumentach z epoki”
DESCRIPTION:
URL:https://www.amuz.krakow.pl/wydzialy/wydzial-ii-instrumentalny/katedra-gitary-i-harfy/aktualnosci/les-deux-amis-gitarowa-muzyka-kameralna-pierwszej-polowy-xix-wieku-na-instrumentach-z-epoki/
LOCATION:Sala Kameralna\, ul. św. Tomasza 43\, Kraków\, Poland
ATTACH;FMTTYPE=image/jpeg:https://www.amuz.krakow.pl/wp-content/uploads/2021/12/IMG_0012_Les-deux-amis-scaled.jpg
END:VEVENT
BEGIN:VEVENT
DTSTART;TZID=Europe/Warsaw:20211212T170000
DTEND;TZID=Europe/Warsaw:20211212T170000
DTSTAMP:20260426T025208
CREATED:20211130T212011Z
LAST-MODIFIED:20211208T131013Z
UID:55606-1639328400-1639328400@www.amuz.krakow.pl
SUMMARY:Moja pieśń rozbrzmiewa miłością
DESCRIPTION:
URL:https://www.amuz.krakow.pl/wydzialy/wydzial-iii-wokalno-aktorski/pracownicy-katedry-2/aktualnosci/moja-piesn-rozbrzmiewa-miloscia
LOCATION:Sala Koncertowa Akademii Muzycznej im. Krzysztofa Pendereckiego w Krakowie
ATTACH;FMTTYPE=image/png:https://www.amuz.krakow.pl/wp-content/uploads/2021/12/Moja-piesn-rozbrzmiewa-miloscia-12.12.2021-KAFELEK.png
END:VEVENT
BEGIN:VEVENT
DTSTART;TZID=Europe/Warsaw:20211212T180000
DTEND;TZID=Europe/Warsaw:20211212T180000
DTSTAMP:20260426T025208
CREATED:20210930T203816Z
LAST-MODIFIED:20211203T161637Z
UID:53307-1639332000-1639332000@www.amuz.krakow.pl
SUMMARY:Koncert Orkiestry Symfonicznej
DESCRIPTION:
URL:https://www.amuz.krakow.pl/koncert-orkiestry-symfonicznej-12-12-2021/
LOCATION:Filharmonia im. K. Szymanowskiego
ATTACH;FMTTYPE=image/jpeg:https://www.amuz.krakow.pl/wp-content/uploads/2021/12/12-XII-2021-zelenski-web.jpg
END:VEVENT
BEGIN:VEVENT
DTSTART;TZID=Europe/Warsaw:20211213T100000
DTEND;TZID=Europe/Warsaw:20211213T100000
DTSTAMP:20260426T025208
CREATED:20211125T204901Z
LAST-MODIFIED:20211203T161611Z
UID:55494-1639389600-1639389600@www.amuz.krakow.pl
SUMMARY:„Les deux amis – gitarowa muzyka kameralna pierwszej połowy XIX wieku na instrumentach z epoki”
DESCRIPTION:
URL:https://www.amuz.krakow.pl/wydzialy/wydzial-ii-instrumentalny/katedra-gitary-i-harfy/aktualnosci/les-deux-amis-gitarowa-muzyka-kameralna-pierwszej-polowy-xix-wieku-na-instrumentach-z-epoki/
LOCATION:Sala Kameralna\, ul. św. Tomasza 43\, Kraków\, Poland
ATTACH;FMTTYPE=image/jpeg:https://www.amuz.krakow.pl/wp-content/uploads/2021/11/IMG_0012_Les-deux-amis-scaled.jpg
END:VEVENT
BEGIN:VEVENT
DTSTART;TZID=Europe/Warsaw:20211213T113000
DTEND;TZID=Europe/Warsaw:20211213T150000
DTSTAMP:20260426T025208
CREATED:20211207T212354Z
LAST-MODIFIED:20211207T214559Z
UID:55736-1639395000-1639407600@www.amuz.krakow.pl
SUMMARY:Adam Pierończyk i Sławomir Kurkiewicz - warsztaty z improwizacji i koncert
DESCRIPTION:
URL:https://www.amuz.krakow.pl/wydzialy/wydzial-ii-instrumentalny/katedra-jazzu/aktualnosci-2/adam-pieronczyk-i-slawomir-kurkiewicz-warsztaty-z-improwizacji-i-koncert
LOCATION:Aula w Domu Akademickim
ATTACH;FMTTYPE=image/jpeg:https://www.amuz.krakow.pl/wp-content/uploads/2021/12/PIERONCZYK_KURKIEWICZ_3.jpeg
END:VEVENT
BEGIN:VEVENT
DTSTART;TZID=Europe/Warsaw:20211213T190000
DTEND;TZID=Europe/Warsaw:20211213T190000
DTSTAMP:20260426T025208
CREATED:20211202T213228Z
LAST-MODIFIED:20211208T120444Z
UID:55656-1639422000-1639422000@www.amuz.krakow.pl
SUMMARY:Festiwal Duetów Skrzypcowych A due
DESCRIPTION:
URL:https://www.amuz.krakow.pl/wydzialy/wydzial-ii-instrumentalny/katedra-skrzypiec-i-altowki/aktualnosci/festiwal-duetow-skrzypcowych-a-due/
LOCATION:Aula Florianka
ATTACH;FMTTYPE=image/png:https://www.amuz.krakow.pl/wp-content/uploads/2021/12/Festiwal-Duetow-Skrzypcowych-A-due-kafelek.png
END:VEVENT
BEGIN:VEVENT
DTSTART;TZID=Europe/Warsaw:20211214T100000
DTEND;TZID=Europe/Warsaw:20211214T200000
DTSTAMP:20260426T025208
CREATED:20211202T213305Z
LAST-MODIFIED:20211208T120500Z
UID:55657-1639476000-1639512000@www.amuz.krakow.pl
SUMMARY:Festiwal Duetów Skrzypcowych A due
DESCRIPTION:
URL:https://www.amuz.krakow.pl/wydzialy/wydzial-ii-instrumentalny/katedra-skrzypiec-i-altowki/aktualnosci/festiwal-duetow-skrzypcowych-a-due/
ATTACH;FMTTYPE=image/png:https://www.amuz.krakow.pl/wp-content/uploads/2021/12/Festiwal-Duetow-Skrzypcowych-A-due-kafelek.png
END:VEVENT
BEGIN:VEVENT
DTSTART;TZID=Europe/Warsaw:20211214T110000
DTEND;TZID=Europe/Warsaw:20211214T190000
DTSTAMP:20260426T025208
CREATED:20211207T212456Z
LAST-MODIFIED:20211207T214616Z
UID:55739-1639479600-1639508400@www.amuz.krakow.pl
SUMMARY:[:pl]Adam Pierończyk i Sławomir Kurkiewicz - warsztaty z improwizacji i koncert[:]
DESCRIPTION:
URL:https://www.amuz.krakow.pl/wydzialy/wydzial-ii-instrumentalny/katedra-jazzu/aktualnosci-2/adam-pieronczyk-i-slawomir-kurkiewicz-warsztaty-z-improwizacji-i-koncert
LOCATION:Aula w Domu Akademickim
ATTACH;FMTTYPE=image/jpeg:https://www.amuz.krakow.pl/wp-content/uploads/2021/12/PIERONCZYK_KURKIEWICZ_3.jpeg
END:VEVENT
BEGIN:VEVENT
DTSTART;TZID=Europe/Warsaw:20211215T120000
DTEND;TZID=Europe/Warsaw:20211215T150000
DTSTAMP:20260426T025208
CREATED:20211202T213348Z
LAST-MODIFIED:20211213T083748Z
UID:55658-1639569600-1639580400@www.amuz.krakow.pl
SUMMARY:Festiwal Duetów Skrzypcowych A due
DESCRIPTION:
URL:https://www.amuz.krakow.pl/wydzialy/wydzial-ii-instrumentalny/katedra-skrzypiec-i-altowki/aktualnosci/festiwal-duetow-skrzypcowych-a-due/
ATTACH;FMTTYPE=image/png:https://www.amuz.krakow.pl/wp-content/uploads/2021/12/Festiwal-Duetow-Skrzypcowych-A-due-kafelek.png
END:VEVENT
BEGIN:VEVENT
DTSTART;TZID=Europe/Warsaw:20211216T100000
DTEND;TZID=Europe/Warsaw:20211216T200000
DTSTAMP:20260426T025208
CREATED:20211202T213426Z
LAST-MODIFIED:20211208T120533Z
UID:55659-1639648800-1639684800@www.amuz.krakow.pl
SUMMARY:Festiwal Duetów Skrzypcowych A due
DESCRIPTION:
URL:https://www.amuz.krakow.pl/wydzialy/wydzial-ii-instrumentalny/katedra-skrzypiec-i-altowki/aktualnosci/festiwal-duetow-skrzypcowych-a-due/
ATTACH;FMTTYPE=image/png:https://www.amuz.krakow.pl/wp-content/uploads/2021/12/Festiwal-Duetow-Skrzypcowych-A-due-kafelek.png
END:VEVENT
BEGIN:VEVENT
DTSTART;TZID=Europe/Warsaw:20211217T180000
DTEND;TZID=Europe/Warsaw:20211217T200000
DTSTAMP:20260426T025208
CREATED:20211209T122731Z
LAST-MODIFIED:20211209T122748Z
UID:55843-1639764000-1639771200@www.amuz.krakow.pl
SUMMARY:Płynąc złotą łodzią ku słońcu
DESCRIPTION:
URL:https://www.amuz.krakow.pl/wydzialy/wydzial-ii-instrumentalny/katedra-wiolonczeli-i-kontrabasu/aktualnosci/plynac-zlota-lodzia-ku-sloncu/
ATTACH;FMTTYPE=image/png:https://www.amuz.krakow.pl/wp-content/uploads/2021/12/Plynac-zlota-lodzia-ku-sloncu-17-18.12.2021-kafelek.png
END:VEVENT
BEGIN:VEVENT
DTSTART;TZID=Europe/Warsaw:20211217T190000
DTEND;TZID=Europe/Warsaw:20211217T190000
DTSTAMP:20260426T025208
CREATED:20211202T213508Z
LAST-MODIFIED:20211208T120548Z
UID:55660-1639767600-1639767600@www.amuz.krakow.pl
SUMMARY:Festiwal Duetów Skrzypcowych A due
DESCRIPTION:
URL:https://www.amuz.krakow.pl/wydzialy/wydzial-ii-instrumentalny/katedra-skrzypiec-i-altowki/aktualnosci/festiwal-duetow-skrzypcowych-a-due/
LOCATION:Aula Florianka
ATTACH;FMTTYPE=image/png:https://www.amuz.krakow.pl/wp-content/uploads/2021/12/Festiwal-Duetow-Skrzypcowych-A-due-kafelek.png
END:VEVENT
BEGIN:VEVENT
DTSTART;TZID=Europe/Warsaw:20211218T120000
DTEND;TZID=Europe/Warsaw:20211218T120000
DTSTAMP:20260426T025208
CREATED:20211216T160141Z
LAST-MODIFIED:20211216T160141Z
UID:55948-1639828800-1639828800@www.amuz.krakow.pl
SUMMARY:[:pl]Koncert Koła Kameralistów[:]
DESCRIPTION:
URL:https://www.amuz.krakow.pl/koncert-kola-kameralistow/
LOCATION:Sala Koncertowa Akademii Muzycznej im. Krzysztofa Pendereckiego w Krakowie
ATTACH;FMTTYPE=image/jpeg:https://www.amuz.krakow.pl/wp-content/uploads/2021/12/Koncert-Kola-Kameralistow-18.12.2021.jpeg
END:VEVENT
BEGIN:VEVENT
DTSTART;TZID=Europe/Warsaw:20211218T180000
DTEND;TZID=Europe/Warsaw:20211218T180000
DTSTAMP:20260426T025208
CREATED:20210930T204516Z
LAST-MODIFIED:20211203T161734Z
UID:53316-1639850400-1639850400@www.amuz.krakow.pl
SUMMARY:Koncert Orkiestry Barokowej
DESCRIPTION:
URL:https://www.amuz.krakow.pl/koncert-orkiestry-barokowej-18-12-2021/
LOCATION:Sala Koncertowa Akademii Muzycznej im. Krzysztofa Pendereckiego w Krakowie
ATTACH;FMTTYPE=image/jpeg:https://www.amuz.krakow.pl/wp-content/uploads/2021/12/barokowa-18-12-2021.jpg
END:VEVENT
BEGIN:VEVENT
DTSTART;TZID=Europe/Warsaw:20211218T190000
DTEND;TZID=Europe/Warsaw:20211218T200000
DTSTAMP:20260426T025208
CREATED:20211209T122808Z
LAST-MODIFIED:20211209T122808Z
UID:55844-1639854000-1639857600@www.amuz.krakow.pl
SUMMARY:Płynąc złotą łodzią ku słońcu
DESCRIPTION:
URL:https://www.amuz.krakow.pl/wydzialy/wydzial-ii-instrumentalny/katedra-wiolonczeli-i-kontrabasu/aktualnosci/plynac-zlota-lodzia-ku-sloncu/
ATTACH;FMTTYPE=image/png:https://www.amuz.krakow.pl/wp-content/uploads/2021/12/Plynac-zlota-lodzia-ku-sloncu-17-18.12.2021-kafelek.png
END:VEVENT
BEGIN:VEVENT
DTSTART;TZID=Europe/Warsaw:20211219T180000
DTEND;TZID=Europe/Warsaw:20211219T180000
DTSTAMP:20260426T025208
CREATED:20210930T204208Z
LAST-MODIFIED:20211203T161800Z
UID:53311-1639936800-1639936800@www.amuz.krakow.pl
SUMMARY:Koncert Orkiestry Kameralnej
DESCRIPTION:
URL:https://www.amuz.krakow.pl/koncert-orkiestry-kameralnej-19-12-2021/
LOCATION:Aula Florianka
ATTACH;FMTTYPE=image/jpeg:https://www.amuz.krakow.pl/wp-content/uploads/2021/12/Koncert-Orkiestry-Kameralnej-19.12.2021-kafelek.jpg
END:VEVENT
END:VCALENDAR