BEGIN:VCALENDAR
VERSION:2.0
PRODID:-//Akademia Muzyczna im. Krzysztofa Pendereckiego w Krakowie - ECPv6.15.20//NONSGML v1.0//EN
CALSCALE:GREGORIAN
METHOD:PUBLISH
X-ORIGINAL-URL:https://www.amuz.krakow.pl/en
X-WR-CALDESC:Events for Akademia Muzyczna im. Krzysztofa Pendereckiego w Krakowie
REFRESH-INTERVAL;VALUE=DURATION:PT1H
X-Robots-Tag:noindex
X-PUBLISHED-TTL:PT1H
BEGIN:VTIMEZONE
TZID:Europe/Warsaw
BEGIN:DAYLIGHT
TZOFFSETFROM:+0100
TZOFFSETTO:+0200
TZNAME:CEST
DTSTART:20200329T010000
END:DAYLIGHT
BEGIN:STANDARD
TZOFFSETFROM:+0200
TZOFFSETTO:+0100
TZNAME:CET
DTSTART:20201025T010000
END:STANDARD
BEGIN:DAYLIGHT
TZOFFSETFROM:+0100
TZOFFSETTO:+0200
TZNAME:CEST
DTSTART:20210328T010000
END:DAYLIGHT
BEGIN:STANDARD
TZOFFSETFROM:+0200
TZOFFSETTO:+0100
TZNAME:CET
DTSTART:20211031T010000
END:STANDARD
BEGIN:DAYLIGHT
TZOFFSETFROM:+0100
TZOFFSETTO:+0200
TZNAME:CEST
DTSTART:20220327T010000
END:DAYLIGHT
BEGIN:STANDARD
TZOFFSETFROM:+0200
TZOFFSETTO:+0100
TZNAME:CET
DTSTART:20221030T010000
END:STANDARD
END:VTIMEZONE
BEGIN:VEVENT
DTSTART;VALUE=DATE:20210701
DTEND;VALUE=DATE:20210702
DTSTAMP:20260423T235616
CREATED:20210630T185214Z
LAST-MODIFIED:20210630T185214Z
UID:52251-1625097600-1625183999@www.amuz.krakow.pl
SUMMARY:[:pl]Konstruktywne dysonanse[:]
DESCRIPTION:
URL:https://www.amuz.krakow.pl/konstruktywne-dysonanse/
ATTACH;FMTTYPE=image/jpeg:https://www.amuz.krakow.pl/wp-content/uploads/2021/06/dysonanse.jpg
END:VEVENT
BEGIN:VEVENT
DTSTART;TZID=Europe/Warsaw:20210824T190000
DTEND;TZID=Europe/Warsaw:20210824T190000
DTSTAMP:20260423T235616
CREATED:20210729T200245Z
LAST-MODIFIED:20210729T200320Z
UID:52677-1629831600-1629831600@www.amuz.krakow.pl
SUMMARY:Koncert  z okazji 60-lecia pracy twórczej Jerzego Kosmali
DESCRIPTION:
URL:https://www.amuz.krakow.pl/jerzy-kosmala-60-lecie
ATTACH;FMTTYPE=image/jpeg:https://www.amuz.krakow.pl/wp-content/uploads/2021/07/plakat-Jerzy-Kosmala-Letnia-Akademia-Muzyczna-2021.jpg
END:VEVENT
BEGIN:VEVENT
DTSTART;VALUE=DATE:20210825
DTEND;VALUE=DATE:20210830
DTSTAMP:20260423T235616
CREATED:20210729T201638Z
LAST-MODIFIED:20210729T201638Z
UID:52687-1629849600-1630281599@www.amuz.krakow.pl
SUMMARY:Koncerty uczestników 23. Letniej Akademii Muzycznej
DESCRIPTION:
URL:https://www.amuz.krakow.pl/koncerty-uczestnikow-23-letniej-akademii-muzycznej/
ATTACH;FMTTYPE=image/jpeg:https://www.amuz.krakow.pl/wp-content/uploads/2021/07/plakat-Uczestnicy-Letnia-Akademia-Muzyczna-2021.jpg
END:VEVENT
BEGIN:VEVENT
DTSTART;TZID=Europe/Warsaw:20210925T170000
DTEND;TZID=Europe/Warsaw:20210925T170000
DTSTAMP:20260423T235616
CREATED:20210922T200651Z
LAST-MODIFIED:20210922T200651Z
UID:53114-1632589200-1632589200@www.amuz.krakow.pl
SUMMARY:Recital fortepianowy Aleksandry Dąbek
DESCRIPTION:
URL:https://www.amuz.krakow.pl/recital-fortepianowy-aleksandry-dabek
LOCATION:Aula Florianka
ATTACH;FMTTYPE=image/jpeg:https://www.amuz.krakow.pl/wp-content/uploads/2021/09/Aleksandra-Dabek-fot.-Radek-Zawadzki.jpg
END:VEVENT
BEGIN:VEVENT
DTSTART;VALUE=DATE:20211001
DTEND;VALUE=DATE:20211002
DTSTAMP:20260423T235616
CREATED:20211006T202030Z
LAST-MODIFIED:20211006T202030Z
UID:53612-1633046400-1633132799@www.amuz.krakow.pl
SUMMARY:Art Forum Festival
DESCRIPTION:
URL:https://www.amuz.krakow.pl/wydzialy/wydzial-ii-instrumentalny/katedra-instrumentow-detych-drewnianych-i-akordeonu-2/aktualnosci/art-forum-festival/
ATTACH;FMTTYPE=image/jpeg:https://www.amuz.krakow.pl/wp-content/uploads/2021/10/Art-Forum-Festiwal-2021-scaled.jpg
END:VEVENT
BEGIN:VEVENT
DTSTART;TZID=Europe/Warsaw:20211004T120000
DTEND;TZID=Europe/Warsaw:20211004T180000
DTSTAMP:20260423T235616
CREATED:20210922T202228Z
LAST-MODIFIED:20210922T202228Z
UID:53125-1633348800-1633370400@www.amuz.krakow.pl
SUMMARY:[:pl]Inauguracja Roku Akademickiego 2021/2022[:en]Grand Opening of the 2021/2022 academic year[:]
DESCRIPTION:
URL:https://www.amuz.krakow.pl/inauguracja-roku-akademickiego-2021-2022
LOCATION:Akademia Muzyczna\, ul. Św. Tomasza 43\, Kraków\, Polska
ATTACH;FMTTYPE=image/jpeg:https://www.amuz.krakow.pl/wp-content/uploads/2021/09/Inauguracja-Roku-Akademickiego-2021-2022.jpg
END:VEVENT
BEGIN:VEVENT
DTSTART;VALUE=DATE:20211005
DTEND;VALUE=DATE:20211006
DTSTAMP:20260423T235616
CREATED:20211006T202055Z
LAST-MODIFIED:20211006T202055Z
UID:53613-1633392000-1633478399@www.amuz.krakow.pl
SUMMARY:Art Forum Festival
DESCRIPTION:
URL:https://www.amuz.krakow.pl/wydzialy/wydzial-ii-instrumentalny/katedra-instrumentow-detych-drewnianych-i-akordeonu-2/aktualnosci/art-forum-festival/
ATTACH;FMTTYPE=image/jpeg:https://www.amuz.krakow.pl/wp-content/uploads/2021/10/Art-Forum-Festiwal-2021-scaled.jpg
END:VEVENT
BEGIN:VEVENT
DTSTART;TZID=Europe/Warsaw:20211010T180000
DTEND;TZID=Europe/Warsaw:20211010T180000
DTSTAMP:20260423T235616
CREATED:20210930T122640Z
LAST-MODIFIED:20210930T185350Z
UID:53248-1633888800-1633888800@www.amuz.krakow.pl
SUMMARY:Koncert Orkiestry Barokowej
DESCRIPTION:
URL:https://www.amuz.krakow.pl/koncert-orkiestry-barokowej-10-10-2021
LOCATION:Filharmonia im. K. Szymanowskiego
ATTACH;FMTTYPE=image/png:https://www.amuz.krakow.pl/wp-content/uploads/2021/09/Koncert-Orkiestry-Barokowej-10.10.2021-small.png
END:VEVENT
BEGIN:VEVENT
DTSTART;TZID=Europe/Warsaw:20211013T100000
DTEND;TZID=Europe/Warsaw:20211013T203000
DTSTAMP:20260423T235616
CREATED:20211012T094134Z
LAST-MODIFIED:20211012T094134Z
UID:53933-1634119200-1634157000@www.amuz.krakow.pl
SUMMARY:Konferencja Spektrum
DESCRIPTION:
URL:https://www.amuz.krakow.pl/wydzialy/wydzial-i-tworczosci-interpretacji-i-edukacji-muzycznej/studio-muzyki-elektroakustycznej/aktualnosci/konferencja-spektrum/
ATTACH;FMTTYPE=image/png:https://www.amuz.krakow.pl/wp-content/uploads/2021/10/spektrum.png
END:VEVENT
BEGIN:VEVENT
DTSTART;VALUE=DATE:20211014
DTEND;VALUE=DATE:20211015
DTSTAMP:20260423T235616
CREATED:20211006T201612Z
LAST-MODIFIED:20211006T202504Z
UID:53606-1634169600-1634255999@www.amuz.krakow.pl
SUMMARY:Na drodze do nowej harmonii V – Międzynarodowa Konferencja Naukowo-Artystyczna
DESCRIPTION:
URL:https://www.amuz.krakow.pl/wydzialy/wydzial-ii-instrumentalny/katedra-instrumentow-detych-drewnianych-i-akordeonu-2/aktualnosci/na-drodze-do-nowej-harmonii-v/
ATTACH;FMTTYPE=image/jpeg:https://www.amuz.krakow.pl/wp-content/uploads/2021/10/nowa-harmonia-2021-kafelek.jpg
END:VEVENT
BEGIN:VEVENT
DTSTART;VALUE=DATE:20211014
DTEND;VALUE=DATE:20211015
DTSTAMP:20260423T235616
CREATED:20211006T202124Z
LAST-MODIFIED:20211006T202124Z
UID:53614-1634169600-1634255999@www.amuz.krakow.pl
SUMMARY:Art Forum Festival
DESCRIPTION:
URL:https://www.amuz.krakow.pl/wydzialy/wydzial-ii-instrumentalny/katedra-instrumentow-detych-drewnianych-i-akordeonu-2/aktualnosci/art-forum-festival/
ATTACH;FMTTYPE=image/jpeg:https://www.amuz.krakow.pl/wp-content/uploads/2021/10/Art-Forum-Festiwal-2021-scaled.jpg
END:VEVENT
BEGIN:VEVENT
DTSTART;TZID=Europe/Warsaw:20211014T160000
DTEND;TZID=Europe/Warsaw:20211014T190000
DTSTAMP:20260423T235616
CREATED:20211012T092740Z
LAST-MODIFIED:20211012T095103Z
UID:53918-1634227200-1634238000@www.amuz.krakow.pl
SUMMARY:Muzyka lutniowa renesansu z perspektywy lutnisty i gitarzysty
DESCRIPTION:
URL:https://www.amuz.krakow.pl/wydzialy/wydzial-ii-instrumentalny/katedra-muzyki-dawnej/aktualnosci/muzyka-lutniowa-renesansu-z-perspektywy-lutnisty-i-gitarzysty-14-17-10-2021/
ATTACH;FMTTYPE=image/jpeg:https://www.amuz.krakow.pl/wp-content/uploads/2021/10/muzyka-lutniowa-14-17.10.2021.jpg
END:VEVENT
BEGIN:VEVENT
DTSTART;VALUE=DATE:20211015
DTEND;VALUE=DATE:20211016
DTSTAMP:20260423T235616
CREATED:20211006T202211Z
LAST-MODIFIED:20211006T202211Z
UID:53615-1634256000-1634342399@www.amuz.krakow.pl
SUMMARY:Art Forum Festival
DESCRIPTION:
URL:https://www.amuz.krakow.pl/wydzialy/wydzial-ii-instrumentalny/katedra-instrumentow-detych-drewnianych-i-akordeonu-2/aktualnosci/art-forum-festival/
ATTACH;FMTTYPE=image/jpeg:https://www.amuz.krakow.pl/wp-content/uploads/2021/10/Art-Forum-Festiwal-2021-scaled.jpg
END:VEVENT
BEGIN:VEVENT
DTSTART;VALUE=DATE:20211015
DTEND;VALUE=DATE:20211016
DTSTAMP:20260423T235616
CREATED:20211006T202602Z
LAST-MODIFIED:20211006T202602Z
UID:53628-1634256000-1634342399@www.amuz.krakow.pl
SUMMARY:Na drodze do nowej harmonii V – Międzynarodowa Konferencja Naukowo-Artystyczna
DESCRIPTION:
URL:https://www.amuz.krakow.pl/wydzialy/wydzial-ii-instrumentalny/katedra-instrumentow-detych-drewnianych-i-akordeonu-2/aktualnosci/na-drodze-do-nowej-harmonii-v/
ATTACH;FMTTYPE=image/jpeg:https://www.amuz.krakow.pl/wp-content/uploads/2021/10/nowa-harmonia-2021-kafelek.jpg
END:VEVENT
BEGIN:VEVENT
DTSTART;TZID=Europe/Warsaw:20211015T100000
DTEND;TZID=Europe/Warsaw:20211015T200000
DTSTAMP:20260423T235616
CREATED:20211012T093156Z
LAST-MODIFIED:20211012T095109Z
UID:53922-1634292000-1634328000@www.amuz.krakow.pl
SUMMARY:Muzyka lutniowa renesansu z perspektywy lutnisty i gitarzysty
DESCRIPTION:
URL:https://www.amuz.krakow.pl/wydzialy/wydzial-ii-instrumentalny/katedra-muzyki-dawnej/aktualnosci/muzyka-lutniowa-renesansu-z-perspektywy-lutnisty-i-gitarzysty-14-17-10-2021/
ATTACH;FMTTYPE=image/jpeg:https://www.amuz.krakow.pl/wp-content/uploads/2021/10/muzyka-lutniowa-14-17.10.2021.jpg
END:VEVENT
BEGIN:VEVENT
DTSTART;VALUE=DATE:20211016
DTEND;VALUE=DATE:20211017
DTSTAMP:20260423T235616
CREATED:20211006T202233Z
LAST-MODIFIED:20211006T202233Z
UID:53616-1634342400-1634428799@www.amuz.krakow.pl
SUMMARY:Art Forum Festival
DESCRIPTION:
URL:https://www.amuz.krakow.pl/wydzialy/wydzial-ii-instrumentalny/katedra-instrumentow-detych-drewnianych-i-akordeonu-2/aktualnosci/art-forum-festival/
ATTACH;FMTTYPE=image/jpeg:https://www.amuz.krakow.pl/wp-content/uploads/2021/10/Art-Forum-Festiwal-2021-scaled.jpg
END:VEVENT
BEGIN:VEVENT
DTSTART;VALUE=DATE:20211016
DTEND;VALUE=DATE:20211017
DTSTAMP:20260423T235616
CREATED:20211006T202626Z
LAST-MODIFIED:20211006T202626Z
UID:53629-1634342400-1634428799@www.amuz.krakow.pl
SUMMARY:Na drodze do nowej harmonii V – Międzynarodowa Konferencja Naukowo-Artystyczna
DESCRIPTION:
URL:https://www.amuz.krakow.pl/wydzialy/wydzial-ii-instrumentalny/katedra-instrumentow-detych-drewnianych-i-akordeonu-2/aktualnosci/na-drodze-do-nowej-harmonii-v/
ATTACH;FMTTYPE=image/jpeg:https://www.amuz.krakow.pl/wp-content/uploads/2021/10/nowa-harmonia-2021-kafelek.jpg
END:VEVENT
BEGIN:VEVENT
DTSTART;TZID=Europe/Warsaw:20211016T150000
DTEND;TZID=Europe/Warsaw:20211016T180000
DTSTAMP:20260423T235616
CREATED:20211012T093330Z
LAST-MODIFIED:20211012T095115Z
UID:53927-1634396400-1634407200@www.amuz.krakow.pl
SUMMARY:Muzyka lutniowa renesansu z perspektywy lutnisty i gitarzysty
DESCRIPTION:
URL:https://www.amuz.krakow.pl/wydzialy/wydzial-ii-instrumentalny/katedra-muzyki-dawnej/aktualnosci/muzyka-lutniowa-renesansu-z-perspektywy-lutnisty-i-gitarzysty-14-17-10-2021/
ATTACH;FMTTYPE=image/jpeg:https://www.amuz.krakow.pl/wp-content/uploads/2021/10/muzyka-lutniowa-14-17.10.2021.jpg
END:VEVENT
BEGIN:VEVENT
DTSTART;TZID=Europe/Warsaw:20211017T100000
DTEND;TZID=Europe/Warsaw:20211017T180000
DTSTAMP:20260423T235616
CREATED:20211012T093451Z
LAST-MODIFIED:20211012T095120Z
UID:53929-1634464800-1634493600@www.amuz.krakow.pl
SUMMARY:Muzyka lutniowa renesansu z perspektywy lutnisty i gitarzysty
DESCRIPTION:
URL:https://www.amuz.krakow.pl/wydzialy/wydzial-ii-instrumentalny/katedra-muzyki-dawnej/aktualnosci/muzyka-lutniowa-renesansu-z-perspektywy-lutnisty-i-gitarzysty-14-17-10-2021/
ATTACH;FMTTYPE=image/jpeg:https://www.amuz.krakow.pl/wp-content/uploads/2021/10/muzyka-lutniowa-14-17.10.2021.jpg
END:VEVENT
BEGIN:VEVENT
DTSTART;TZID=Europe/Warsaw:20211017T170000
DTEND;TZID=Europe/Warsaw:20211017T170000
DTSTAMP:20260423T235616
CREATED:20211008T113029Z
LAST-MODIFIED:20211008T113029Z
UID:53731-1634490000-1634490000@www.amuz.krakow.pl
SUMMARY:Władysław Żeleński – IN MEMORIAM
DESCRIPTION:
URL:https://www.amuz.krakow.pl/wladyslaw-zelenski-in-memoriam-17-10-2021/
LOCATION:Aula Florianka
ATTACH;FMTTYPE=image/jpeg:https://www.amuz.krakow.pl/wp-content/uploads/2021/10/zelenski-cieniawa-17.10.2021-s.jpg
END:VEVENT
BEGIN:VEVENT
DTSTART;TZID=Europe/Warsaw:20211018T110000
DTEND;TZID=Europe/Warsaw:20211018T170000
DTSTAMP:20260423T235616
CREATED:20211014T165433Z
LAST-MODIFIED:20211014T165927Z
UID:54044-1634554800-1634576400@www.amuz.krakow.pl
SUMMARY:Warsztaty "Samba Batucada"
DESCRIPTION:
URL:http://amuz.krakow.pl/wydzialy/wydzial-ii-instrumentalny/katedra-perkusji-i-muzyki-wspolczesnej/aktualnosci/warsztaty-samba-batucada/
ATTACH;FMTTYPE=image/jpeg:https://www.amuz.krakow.pl/wp-content/uploads/2021/10/Warsztaty-Samba-Batucada-18.10.2021.jpg
END:VEVENT
BEGIN:VEVENT
DTSTART;TZID=Europe/Warsaw:20211020T110000
DTEND;TZID=Europe/Warsaw:20211020T153000
DTSTAMP:20260423T235616
CREATED:20211014T170008Z
LAST-MODIFIED:20211014T170008Z
UID:54049-1634727600-1634743800@www.amuz.krakow.pl
SUMMARY:Warsztaty „Gamelan”
DESCRIPTION:
URL:https://www.amuz.krakow.pl/wydzialy/wydzial-ii-instrumentalny/katedra-perkusji-i-muzyki-wspolczesnej/aktualnosci/warsztaty-gamelan/
ATTACH;FMTTYPE=image/jpeg:https://www.amuz.krakow.pl/wp-content/uploads/2021/10/Warsztaty-„Gamelan-20.10.2021.jpg
END:VEVENT
BEGIN:VEVENT
DTSTART;VALUE=DATE:20211023
DTEND;VALUE=DATE:20211024
DTSTAMP:20260423T235616
CREATED:20210930T194127Z
LAST-MODIFIED:20211011T191356Z
UID:53284-1634947200-1635033599@www.amuz.krakow.pl
SUMMARY:Koncert Orkiestry Dętej
DESCRIPTION:
URL:https://www.amuz.krakow.pl/koncert-orkiestry-detej-23-10-2021/
ATTACH;FMTTYPE=image/jpeg:https://www.amuz.krakow.pl/wp-content/uploads/2021/10/deta-23.10.2021-s.jpg
END:VEVENT
BEGIN:VEVENT
DTSTART;VALUE=DATE:20211023
DTEND;VALUE=DATE:20211024
DTSTAMP:20260423T235616
CREATED:20211006T202300Z
LAST-MODIFIED:20211006T202300Z
UID:53617-1634947200-1635033599@www.amuz.krakow.pl
SUMMARY:Art Forum Festival
DESCRIPTION:
URL:https://www.amuz.krakow.pl/wydzialy/wydzial-ii-instrumentalny/katedra-instrumentow-detych-drewnianych-i-akordeonu-2/aktualnosci/art-forum-festival/
ATTACH;FMTTYPE=image/jpeg:https://www.amuz.krakow.pl/wp-content/uploads/2021/10/Art-Forum-Festiwal-2021-scaled.jpg
END:VEVENT
BEGIN:VEVENT
DTSTART;VALUE=DATE:20211023
DTEND;VALUE=DATE:20211024
DTSTAMP:20260423T235616
CREATED:20211018T201719Z
LAST-MODIFIED:20211018T201903Z
UID:54113-1634947200-1635033599@www.amuz.krakow.pl
SUMMARY:Warsztaty mistrzowskie fletowo-klarnetowe z cyklu „Per academiam ad astra”
DESCRIPTION:
URL:https://www.amuz.krakow.pl/wydzialy/wydzial-ii-instrumentalny/katedra-instrumentow-detych-drewnianych-i-akordeonu-2/aktualnosci/warsztaty-mistrzowskie-fletowo-klarnetowe-z-cyklu-per-academiam-ad-astra/
LOCATION:Sala Kameralna\, ul. św. Tomasza 43\, Kraków\, Poland
ATTACH;FMTTYPE=image/jpeg:https://www.amuz.krakow.pl/wp-content/uploads/2021/10/ad-astra-23-24.10.2021.jpg
END:VEVENT
BEGIN:VEVENT
DTSTART;VALUE=DATE:20211024
DTEND;VALUE=DATE:20211025
DTSTAMP:20260423T235616
CREATED:20211006T202320Z
LAST-MODIFIED:20211006T202320Z
UID:53618-1635033600-1635119999@www.amuz.krakow.pl
SUMMARY:Art Forum Festival
DESCRIPTION:
URL:https://www.amuz.krakow.pl/wydzialy/wydzial-ii-instrumentalny/katedra-instrumentow-detych-drewnianych-i-akordeonu-2/aktualnosci/art-forum-festival/
ATTACH;FMTTYPE=image/jpeg:https://www.amuz.krakow.pl/wp-content/uploads/2021/10/Art-Forum-Festiwal-2021-scaled.jpg
END:VEVENT
BEGIN:VEVENT
DTSTART;VALUE=DATE:20211024
DTEND;VALUE=DATE:20211025
DTSTAMP:20260423T235616
CREATED:20211018T201840Z
LAST-MODIFIED:20211018T201840Z
UID:54115-1635033600-1635119999@www.amuz.krakow.pl
SUMMARY:Warsztaty mistrzowskie fletowo-klarnetowe z cyklu „Per academiam ad astra”
DESCRIPTION:
URL:https://www.amuz.krakow.pl/wydzialy/wydzial-ii-instrumentalny/katedra-instrumentow-detych-drewnianych-i-akordeonu-2/aktualnosci/warsztaty-mistrzowskie-fletowo-klarnetowe-z-cyklu-per-academiam-ad-astra/
LOCATION:Sala Kameralna\, ul. św. Tomasza 43\, Kraków\, Poland
ATTACH;FMTTYPE=image/jpeg:https://www.amuz.krakow.pl/wp-content/uploads/2021/10/ad-astra-23-24.10.2021.jpg
END:VEVENT
BEGIN:VEVENT
DTSTART;TZID=Europe/Warsaw:20211024T180000
DTEND;TZID=Europe/Warsaw:20211024T180000
DTSTAMP:20260423T235616
CREATED:20210930T192823Z
LAST-MODIFIED:20211011T191419Z
UID:53274-1635098400-1635098400@www.amuz.krakow.pl
SUMMARY:Koncert Orkiestry Kameralnej
DESCRIPTION:
URL:https://www.amuz.krakow.pl/koncert-orkiestry-kameralnej-24-10-2021/
LOCATION:Sala Koncertowa Akademii Muzycznej im. Krzysztofa Pendereckiego w Krakowie
ATTACH;FMTTYPE=image/jpeg:https://www.amuz.krakow.pl/wp-content/uploads/2021/10/kameralna-24.210.2022-s.jpg
END:VEVENT
BEGIN:VEVENT
DTSTART;TZID=Europe/Warsaw:20211028T180000
DTEND;TZID=Europe/Warsaw:20211028T180000
DTSTAMP:20260423T235616
CREATED:20211018T203318Z
LAST-MODIFIED:20211018T203318Z
UID:54127-1635444000-1635444000@www.amuz.krakow.pl
SUMMARY:Johann Sebastian Bach kameratronicznie
DESCRIPTION:
URL:https://www.amuz.krakow.pl/wydzialy/wydzial-ii-instrumentalny/katedra-skrzypiec-i-altowki/aktualnosci/johann-sebastian-bach-kameratronicznie/
LOCATION:Aula Florianka
ATTACH;FMTTYPE=image/jpeg:https://www.amuz.krakow.pl/wp-content/uploads/2021/10/kameratronicznie-28.10.2021.jpg
END:VEVENT
BEGIN:VEVENT
DTSTART;TZID=Europe/Warsaw:20211030T190000
DTEND;TZID=Europe/Warsaw:20211030T190000
DTSTAMP:20260423T235616
CREATED:20211020T115656Z
LAST-MODIFIED:20211020T120217Z
UID:54217-1635620400-1635620400@www.amuz.krakow.pl
SUMMARY:Two by Four
DESCRIPTION:
URL:https://www.amuz.krakow.pl/wydzialy/wydzial-i-tworczosci-interpretacji-i-edukacji-muzycznej/katedra-kompozycji/aktualnosci/two-by-four/
LOCATION:Sala Koncertowa Akademii Muzycznej im. Krzysztofa Pendereckiego w Krakowie
ATTACH;FMTTYPE=image/jpeg:https://www.amuz.krakow.pl/wp-content/uploads/2021/10/two-by-four-kafelek-30.10.2021.jpg
END:VEVENT
END:VCALENDAR