BEGIN:VCALENDAR
VERSION:2.0
PRODID:-//Akademia Muzyczna im. Krzysztofa Pendereckiego w Krakowie - ECPv6.15.20//NONSGML v1.0//EN
CALSCALE:GREGORIAN
METHOD:PUBLISH
X-ORIGINAL-URL:https://www.amuz.krakow.pl/en
X-WR-CALDESC:Events for Akademia Muzyczna im. Krzysztofa Pendereckiego w Krakowie
REFRESH-INTERVAL;VALUE=DURATION:PT1H
X-Robots-Tag:noindex
X-PUBLISHED-TTL:PT1H
BEGIN:VTIMEZONE
TZID:Europe/Warsaw
BEGIN:DAYLIGHT
TZOFFSETFROM:+0100
TZOFFSETTO:+0200
TZNAME:CEST
DTSTART:20250330T010000
END:DAYLIGHT
BEGIN:STANDARD
TZOFFSETFROM:+0200
TZOFFSETTO:+0100
TZNAME:CET
DTSTART:20251026T010000
END:STANDARD
BEGIN:DAYLIGHT
TZOFFSETFROM:+0100
TZOFFSETTO:+0200
TZNAME:CEST
DTSTART:20260329T010000
END:DAYLIGHT
BEGIN:STANDARD
TZOFFSETFROM:+0200
TZOFFSETTO:+0100
TZNAME:CET
DTSTART:20261025T010000
END:STANDARD
BEGIN:DAYLIGHT
TZOFFSETFROM:+0100
TZOFFSETTO:+0200
TZNAME:CEST
DTSTART:20270328T010000
END:DAYLIGHT
BEGIN:STANDARD
TZOFFSETFROM:+0200
TZOFFSETTO:+0100
TZNAME:CET
DTSTART:20271031T010000
END:STANDARD
BEGIN:DAYLIGHT
TZOFFSETFROM:+0100
TZOFFSETTO:+0200
TZNAME:CEST
DTSTART:20280326T010000
END:DAYLIGHT
BEGIN:STANDARD
TZOFFSETFROM:+0200
TZOFFSETTO:+0100
TZNAME:CET
DTSTART:20281029T010000
END:STANDARD
END:VTIMEZONE
BEGIN:VEVENT
DTSTART;VALUE=DATE:20260423
DTEND;VALUE=DATE:20260426
DTSTAMP:20260424T232449
CREATED:20260413T141925Z
LAST-MODIFIED:20260413T141925Z
UID:118393-1776902400-1777161599@www.amuz.krakow.pl
SUMMARY:[:pl]Trzy wieczory: klawesyn i jego Włochy[:en]Three Evenings: Harpsichord and its Italy[:]
DESCRIPTION:
URL:https://www.amuz.krakow.pl/wydzialy/wydzial-ii-instrumentalny/katedra-muzyki-dawnej/aktualnosci-25/trzy-wieczory-klawesyn-i-jego-wlochy-23-25-04-2026/
ATTACH;FMTTYPE=image/jpeg:https://www.amuz.krakow.pl/wp-content/uploads/2026/04/Trzy-wieczory-klawesyn-wlochy-02.jpg
END:VEVENT
BEGIN:VEVENT
DTSTART;TZID=Europe/Warsaw:20260425T180000
DTEND;TZID=Europe/Warsaw:20260425T180000
DTSTAMP:20260424T232449
CREATED:20260416T105655Z
LAST-MODIFIED:20260417T064734Z
UID:118634-1777140000-1777140000@www.amuz.krakow.pl
SUMMARY:[:pl]Koncert Koła Naukowego Studentów Kompozycji - Kompozycje z przestrzenną projekcją dźwięku[:]
DESCRIPTION:
URL:https://www.amuz.krakow.pl/wydzialy/wydzial-i-tworczosci-interpretacji-i-edukacji-muzycznej/katedra-kompozycji/aktualnosci-25/koncert-kola-naukowego-studentow-kompozycji-kompozycje-z-przestrzenna-projekcja-dzwieku-25-04-2026/
ATTACH;FMTTYPE=image/jpeg:https://www.amuz.krakow.pl/wp-content/uploads/2026/04/koncert-kola-kompozycji-KAFEL.jpg
END:VEVENT
BEGIN:VEVENT
DTSTART;TZID=Europe/Warsaw:20260426T180000
DTEND;TZID=Europe/Warsaw:20260426T180000
DTSTAMP:20260424T232449
CREATED:20260413T151449Z
LAST-MODIFIED:20260413T151449Z
UID:118433-1777226400-1777226400@www.amuz.krakow.pl
SUMMARY:[:pl]Na drodze do nowej harmonii – odkrywamy Kraków dźwiękiem[:en]On the way to a new harmony – we discover Kraków with sound[:]
DESCRIPTION:
URL:https://www.amuz.krakow.pl/fundacja-amkp/projekty/na-drodze-do-nowej-harmonii-odkrywamy-krakow-dzwiekiem-26-04-2026/
ATTACH;FMTTYPE=image/png:https://www.amuz.krakow.pl/wp-content/uploads/2026/04/fb_bcg-scaled.png
END:VEVENT
BEGIN:VEVENT
DTSTART;TZID=Europe/Warsaw:20260427T190000
DTEND;TZID=Europe/Warsaw:20260427T190000
DTSTAMP:20260424T232449
CREATED:20260422T131211Z
LAST-MODIFIED:20260422T131211Z
UID:118997-1777316400-1777316400@www.amuz.krakow.pl
SUMMARY:[:pl]Recital fortepianowy Seoin Yun – 24 Preludia op. 28 Fryderyka Chopina[:en]Piano recital by Seoin Yun – 24 Preludes\, Op. 28 by Fryderyk Chopin[:]
DESCRIPTION:
URL:https://www.amuz.krakow.pl/wydzialy/wydzial-ii-instrumentalny/katedra-fortepianu/aktualnosci-25/recital-fortepianowy-seoin-yun-24-preludia-op-28-fryderyka-chopina-27-04-2026/
ATTACH;FMTTYPE=image/jpeg:https://www.amuz.krakow.pl/wp-content/uploads/2022/05/koncert-3.jpg
END:VEVENT
BEGIN:VEVENT
DTSTART;TZID=Europe/Warsaw:20260428T180000
DTEND;TZID=Europe/Warsaw:20260428T180000
DTSTAMP:20260424T232449
CREATED:20260413T145933Z
LAST-MODIFIED:20260416T073615Z
UID:118423-1777399200-1777399200@www.amuz.krakow.pl
SUMMARY:[:pl]Estrada studencka - koncert uczniów ZPSM im. M. Karłowicza oraz studentów Katedry Jazzu AMKP [:en]Student Stage – a concert by pupils from the M. Karłowicz Music School and students from the AMKP Department of Jazz[:]
DESCRIPTION:
URL:https://www.amuz.krakow.pl/wydzialy/wydzial-ii-instrumentalny/katedra-jazzu/aktualnosci-25/estrada-studencka-koncert-uczniow-zpsmuz-im-m-karlowicza-oraz-studentow-katedry-jazzu-amkp/
LOCATION:Zespół Szkół Muzycznych im. M. Karłowicza w Krakowie\, Osiedle Centrum E 2\, Kraków\, 31-934\, Poland
ATTACH;FMTTYPE=image/jpeg:https://www.amuz.krakow.pl/wp-content/uploads/2026/04/estrada-2026_kafelek.jpg
END:VEVENT
BEGIN:VEVENT
DTSTART;TZID=Europe/Warsaw:20260428T190000
DTEND;TZID=Europe/Warsaw:20260428T190000
DTSTAMP:20260424T232449
CREATED:20260421T140125Z
LAST-MODIFIED:20260421T140125Z
UID:118927-1777402800-1777402800@www.amuz.krakow.pl
SUMMARY:[:pl]Recital pianistyczny dr Korak Lertpibulchai (College of Music\, Mahidol University w Bangkoku)[:en]Piano recital by dr Korak Lertpibulchai (College of Music\, Mahidol University w Bangkoku)[:]
DESCRIPTION:
URL:https://www.amuz.krakow.pl/wydzialy/wydzial-ii-instrumentalny/katedra-fortepianu/aktualnosci-25/recital-pianistyczny-dr-korak-lertpibulchai-college-of-music-mahidol-university-w-bangkoku-28-04-2026/
ATTACH;FMTTYPE=image/jpeg:https://www.amuz.krakow.pl/wp-content/uploads/2026/04/Recital-Korak-kafelek.jpg
END:VEVENT
BEGIN:VEVENT
DTSTART;TZID=Europe/Warsaw:20260429T130000
DTEND;TZID=Europe/Warsaw:20260429T130000
DTSTAMP:20260424T232449
CREATED:20260413T150210Z
LAST-MODIFIED:20260421T130624Z
UID:118427-1777467600-1777467600@www.amuz.krakow.pl
SUMMARY:[:pl]10 lat klasy fletu prostego prof. Erika Bosgraafa i mgr Katarzyny Czubek - koncert jubileuszowy[:en]10th anniversary of Professor Erik Bosgraaf and Katarzyna Czubek’s recorder class – anniversary concert[:]
DESCRIPTION:
URL:https://www.amuz.krakow.pl/wydzialy/wydzial-ii-instrumentalny/katedra-muzyki-dawnej/aktualnosci-25/10-lat-klasy-fletu-prostego-prof-erika-bosgraafa-i-mgr-katarzyny-czubek-koncert-jubileuszowy-29-04-2026/
LOCATION:Aula Florianka
ATTACH;FMTTYPE=image/jpeg:https://www.amuz.krakow.pl/wp-content/uploads/2026/04/10-jubileusz-B2-kafel.jpg
END:VEVENT
BEGIN:VEVENT
DTSTART;TZID=Europe/Warsaw:20260429T190000
DTEND;TZID=Europe/Warsaw:20260429T190000
DTSTAMP:20260424T232449
CREATED:20260218T120417Z
LAST-MODIFIED:20260401T134117Z
UID:114803-1777489200-1777489200@www.amuz.krakow.pl
SUMMARY:[:pl]H. Purcell "Dydona i Eneasz" - spektakl operowy z Orkiestrą Barokową AMKP[:en]"Dido and Aeneas" by H. Purcell - an opera performance with the AMKP Baroque Orchestra[:]
DESCRIPTION:
URL:https://www.amuz.krakow.pl/wydzialy/wydzial-iii-wokalno-aktorski/katedra-wokalistyki/aktualnosci-25/spektakl-operowy-dydona-i-eneasz-w-wykonaniu-studentow-wydzialu-wokalno-aktorskiego-i-orkiestry-barokowej-amkp/
LOCATION:Teatr Łaźnia Nowa\, Osiedle Szkolne 25\, Kraków\, Poland
ATTACH;FMTTYPE=image/jpeg:https://www.amuz.krakow.pl/wp-content/uploads/2026/04/SOCIALE-dydona-i-eneasz-WWW.jpg
END:VEVENT
BEGIN:VEVENT
DTSTART;TZID=Europe/Warsaw:20260430T190000
DTEND;TZID=Europe/Warsaw:20260430T190000
DTSTAMP:20260424T232449
CREATED:20260401T122334Z
LAST-MODIFIED:20260401T134125Z
UID:117675-1777575600-1777575600@www.amuz.krakow.pl
SUMMARY:[:pl]H. Purcell "Dydona i Eneasz" - spektakl operowy z Orkiestrą Barokową AMKP[:en]"Dido and Aeneas" by H. Purcell - an opera performance with the AMKP Baroque Orchestra[:]
DESCRIPTION:
URL:https://www.amuz.krakow.pl/wydzialy/wydzial-iii-wokalno-aktorski/katedra-wokalistyki/aktualnosci-25/spektakl-operowy-dydona-i-eneasz-w-wykonaniu-studentow-wydzialu-wokalno-aktorskiego-i-orkiestry-barokowej-amkp/
ATTACH;FMTTYPE=image/jpeg:https://www.amuz.krakow.pl/wp-content/uploads/2026/04/SOCIALE-dydona-i-eneasz-WWW.jpg
END:VEVENT
BEGIN:VEVENT
DTSTART;TZID=Europe/Warsaw:20260504T170000
DTEND;TZID=Europe/Warsaw:20260506T150000
DTSTAMP:20260424T232449
CREATED:20260423T120427Z
LAST-MODIFIED:20260423T120427Z
UID:119045-1777914000-1778079600@www.amuz.krakow.pl
SUMMARY:[:pl]Akademia Orkiestrowa | Kurs mistrzowski z Alessandro Mingrone (skrzypce)[:en]Orchestral Academy | Masterclass with Alessandro Mingrone (violin)[:]
DESCRIPTION:
URL:https://www.amuz.krakow.pl/wydzialy/wydzial-ii-instrumentalny/katedra-wiolonczeli-i-kontrabasu/aktualnosci-25/akademia-orkiestrowa-kurs-mistrzowski-z-alessandro-mingrone-skrzypce-4-6-05-2025/
ATTACH;FMTTYPE=image/png:https://www.amuz.krakow.pl/wp-content/uploads/2026/04/AO-alessandro-kafel.png
END:VEVENT
BEGIN:VEVENT
DTSTART;TZID=Europe/Warsaw:20260504T190000
DTEND;TZID=Europe/Warsaw:20260504T190000
DTSTAMP:20260424T232449
CREATED:20260413T143036Z
LAST-MODIFIED:20260422T115421Z
UID:118402-1777921200-1777921200@www.amuz.krakow.pl
SUMMARY:[:pl]ANDRZEJ ZARYCKI. PORTRET URODZINOWY z wiolonczelą w tle[:en]Andrzej Zarycki - birthday portrait with a cello in the background[:]
DESCRIPTION:
URL:https://www.amuz.krakow.pl/wydzialy/wydzial-ii-instrumentalny/katedra-wiolonczeli-i-kontrabasu/aktualnosci-25/andrzej-zarycki-portret-urodzinowy-z-wiolonczela-w-tle-4-05-2026/
ATTACH;FMTTYPE=image/jpeg:https://www.amuz.krakow.pl/wp-content/uploads/2026/04/Zarycki_kafelek.jpg
END:VEVENT
BEGIN:VEVENT
DTSTART;VALUE=DATE:20260505
DTEND;VALUE=DATE:20260507
DTSTAMP:20260424T232449
CREATED:20260422T133957Z
LAST-MODIFIED:20260422T133957Z
UID:119006-1777939200-1778111999@www.amuz.krakow.pl
SUMMARY:[:pl]Recital kontrabasowy i kurs z prof. Szymonem Marciniakiem (Hochschule für Musik Saar)[:en]Double bass recital and masterclass with Prof. Szymon Marciniak (Hochschule für Musik Saar)[:]
DESCRIPTION:
URL:https://www.amuz.krakow.pl/wydzialy/wydzial-ii-instrumentalny/katedra-wiolonczeli-i-kontrabasu/aktualnosci-25/recital-kontrabasowy-i-kurs-z-prof-szymonem-marciniakiem-hochschule-fur-musik-saar-5-6-05-2026/
ATTACH;FMTTYPE=image/jpeg:https://www.amuz.krakow.pl/wp-content/uploads/2026/04/Kurs-i-recital-kontrabasowy_kafelek.jpg
END:VEVENT
BEGIN:VEVENT
DTSTART;TZID=Europe/Warsaw:20260508T160000
DTEND;TZID=Europe/Warsaw:20260508T160000
DTSTAMP:20260424T232449
CREATED:20260413T145118Z
LAST-MODIFIED:20260420T093054Z
UID:118412-1778256000-1778256000@www.amuz.krakow.pl
SUMMARY:Peter van Tour: „The Corellian Compass: Three-Part Counterpoint in Bolognese Keyboard Improvisation and Written Counterpoint”
DESCRIPTION:
URL:https://www.amuz.krakow.pl/wydzialy/wydzial-ii-instrumentalny/katedra-muzyki-dawnej/aktualnosci-25/peter-van-tour-the-corellian-compass-three-part-counterpoint-in-bolognese-keyboard-improvisation-and-written-counterpoint-8-05-2026/
ATTACH;FMTTYPE=image/jpeg:https://www.amuz.krakow.pl/wp-content/uploads/2026/04/warsztaty-Tour-kafel.jpg
END:VEVENT
BEGIN:VEVENT
DTSTART;TZID=Europe/Warsaw:20260509T090000
DTEND;TZID=Europe/Warsaw:20260510T170000
DTSTAMP:20260424T232449
CREATED:20260421T133430Z
LAST-MODIFIED:20260421T133430Z
UID:118918-1778317200-1778432400@www.amuz.krakow.pl
SUMMARY:[:pl]Francuska Szkoła Harfowa - seminarium naukowe z prof. Isabelle Perrin (Norges musikkhøgskole Oslo)[:en]French Harp School - academic seminar with Professor Isabelle Perrin (Norges musikkhøgskole Oslo)[:]
DESCRIPTION:
URL:https://www.amuz.krakow.pl/wydzialy/wydzial-ii-instrumentalny/katedra-gitary-i-harfy/aktualnosci-25/francuska-szkola-harfowa-seminarium-naukowe-z-prof-isabelle-perrin-norges-musikkhogskole-oslo/
ATTACH;FMTTYPE=image/jpeg:https://www.amuz.krakow.pl/wp-content/uploads/2026/04/francuska-szkola-kafel.jpg
END:VEVENT
BEGIN:VEVENT
DTSTART;TZID=Europe/Warsaw:20260510T180000
DTEND;TZID=Europe/Warsaw:20260510T180000
DTSTAMP:20260424T232449
CREATED:20260423T123923Z
LAST-MODIFIED:20260423T123923Z
UID:119058-1778436000-1778436000@www.amuz.krakow.pl
SUMMARY:[:pl]Inspiracje\, Interpretacje\, Improwizacje – koncert w Muzeum Manggha[:en]Inspirations\, Interpretations\, Improvisations – concert in Manggha Museum[:]
DESCRIPTION:
URL:https://www.amuz.krakow.pl/wydzialy/wydzial-ii-instrumentalny/katedra-perkusji-i-muzyki-wspolczesnej/aktualnosci-25/inspiracje-interpretacje-improwizacje-koncert-w-muzeum-manggha-10-05-2026/
ATTACH;FMTTYPE=image/jpeg:https://www.amuz.krakow.pl/wp-content/uploads/2025/05/Manggha-Inspiracje-Interpretacje-Improwizacje_kafel.jpg
END:VEVENT
BEGIN:VEVENT
DTSTART;TZID=Europe/Warsaw:20260512T090000
DTEND;TZID=Europe/Warsaw:20260512T130000
DTSTAMP:20260424T232449
CREATED:20260416T102323Z
LAST-MODIFIED:20260420T125244Z
UID:118632-1778576400-1778590800@www.amuz.krakow.pl
SUMMARY:[:pl]Spotkanie z ekspertem: „Kreatywność\, koncentracja\, koordynacja ruchowa. Umiejętności i kompetencje psychomotoryczne Artystów”[:]
DESCRIPTION:
URL:https://www.amuz.krakow.pl/spotkanie-z-ekspertem-kreatywnosc-koncentracja-koordynacja-ruchowa-umiejetnosci-i-kompetencje-psychomotoryczne-artystow/
ATTACH;FMTTYPE=image/jpeg:https://www.amuz.krakow.pl/wp-content/uploads/2026/04/CRK-plakat-2026-ekspert-21.04-kafel.jpg
END:VEVENT
BEGIN:VEVENT
DTSTART;TZID=Europe/Warsaw:20260512T120000
DTEND;TZID=Europe/Warsaw:20260512T120000
DTSTAMP:20260424T232449
CREATED:20260130T100927Z
LAST-MODIFIED:20260130T100927Z
UID:114222-1778587200-1778587200@www.amuz.krakow.pl
SUMMARY:[:pl]Lekcja otwarta z prof. dr hab. Marią Shetty – w ramach cyklu "Wokół muzyki"[:en]Open lesson with prof. dr hab. Maria Shetty as part of the "Around Music" series[:]
DESCRIPTION:
URL:https://www.amuz.krakow.pl/wydzialy/wydzial-ii-instrumentalny/katedra-skrzypiec-i-altowki/aktualnosci-25/wokol-muzyki-cykl-edukacyjno-artystyczny/
ATTACH;FMTTYPE=image/jpeg:https://www.amuz.krakow.pl/wp-content/uploads/2026/01/wokol-muzyki-kafel-shetty.jpg
END:VEVENT
BEGIN:VEVENT
DTSTART;TZID=Europe/Warsaw:20260512T180000
DTEND;TZID=Europe/Warsaw:20260512T180000
DTSTAMP:20260424T232449
CREATED:20260423T135939Z
LAST-MODIFIED:20260423T135939Z
UID:119066-1778608800-1778608800@www.amuz.krakow.pl
SUMMARY:[:pl]Więcej opery\, czyli koncert ansamblowy[:en]More opera\, or an ensemble concert[:]
DESCRIPTION:
URL:https://www.amuz.krakow.pl/wydzialy/wydzial-iii-wokalno-aktorski/katedra-wokalistyki/aktualnosci-25/wiecej-opery-czyli-koncert-ansamblowy-12-05-2026/
END:VEVENT
BEGIN:VEVENT
DTSTART;TZID=Europe/Warsaw:20260513T090000
DTEND;TZID=Europe/Warsaw:20260513T160000
DTSTAMP:20260424T232449
CREATED:20260423T141033Z
LAST-MODIFIED:20260423T141033Z
UID:119074-1778662800-1778688000@www.amuz.krakow.pl
SUMMARY:[:pl]Kurs mistrzowski z Moniką Urbaniak-Lisik (skrzypce) - z cyklu Per Academiam ad astra[:en]Masterclass with Monika Urbaniak-Lisik (violin) | Per Academiam ad astra[:]
DESCRIPTION:
URL:https://www.amuz.krakow.pl/wydzialy/wydzial-ii-instrumentalny/katedra-skrzypiec-i-altowki/aktualnosci-25/kurs-mistrzowski-z-monika-urbaniak-lisik-skrzypce-z-cyklu-per-academiam-ad-astra-13-05-2026/
ATTACH;FMTTYPE=image/jpeg:https://www.amuz.krakow.pl/wp-content/uploads/2026/04/per-academiam-urbaniak-kafel.jpg
END:VEVENT
BEGIN:VEVENT
DTSTART;TZID=Europe/Warsaw:20260514T190000
DTEND;TZID=Europe/Warsaw:20260514T190000
DTSTAMP:20260424T232449
CREATED:20260410T102559Z
LAST-MODIFIED:20260424T130654Z
UID:118287-1778785200-1778785200@www.amuz.krakow.pl
SUMMARY:[:pl]JAZZ W AKADEMII | Seifert[:en]JAZZ IN THE ACADEMY | Seifert[:]
DESCRIPTION:
URL:https://www.amuz.krakow.pl/orkiestry-akademickie/big-band/koncerty-2025-2026/jazz-w-akademii-seifert-14-05-2026/
LOCATION:Sala Koncertowa Akademii Muzycznej im. Krzysztofa Pendereckiego w Krakowie
ATTACH;FMTTYPE=image/jpeg:https://www.amuz.krakow.pl/wp-content/uploads/2026/04/big-band-seifert-SOCIALE-kafel.jpg
END:VEVENT
BEGIN:VEVENT
DTSTART;TZID=Europe/Warsaw:20260515T160000
DTEND;TZID=Europe/Warsaw:20260517T210000
DTSTAMP:20260424T232449
CREATED:20260423T144853Z
LAST-MODIFIED:20260423T144853Z
UID:119084-1778860800-1779051600@www.amuz.krakow.pl
SUMMARY:[:pl]10. Dni Jana Nepomucena Bobrowicza "Rule\, Brittania!" - międzynarodowa konferencja artystyczno-naukowa[:en]10th Bobrowicz Days "Rule\, Brittania!" - international artistic / scientific conference[:]
DESCRIPTION:
URL:https://www.amuz.krakow.pl/wydzialy/wydzial-ii-instrumentalny/katedra-gitary-i-harfy/aktualnosci-25/10-dni-jana-nepomucena-bobrowicza-15-17-05-2026/
ATTACH;FMTTYPE=image/jpeg:https://www.amuz.krakow.pl/wp-content/uploads/2026/04/SOCIALE-bobrowicz-kafel.jpg
END:VEVENT
BEGIN:VEVENT
DTSTART;TZID=Europe/Warsaw:20260519T190000
DTEND;TZID=Europe/Warsaw:20260519T190000
DTSTAMP:20260424T232449
CREATED:20260410T102718Z
LAST-MODIFIED:20260410T102718Z
UID:118288-1779217200-1779217200@www.amuz.krakow.pl
SUMMARY:[:pl]Koncert Orkiestry Symfonicznej AMKP[:en]AMKP Symphony Orchestra concert[:]
DESCRIPTION:
URL:https://www.amuz.krakow.pl/en/event/koncert-orkiestry-symfonicznej-amkp-11/
LOCATION:Filharmonia im. K. Szymanowskiego
ATTACH;FMTTYPE=image/jpeg:https://www.amuz.krakow.pl/wp-content/uploads/2022/09/orkiestra-symfoniczna-kafelek.jpg
END:VEVENT
BEGIN:VEVENT
DTSTART;TZID=Europe/Warsaw:20260520T190000
DTEND;TZID=Europe/Warsaw:20260520T190000
DTSTAMP:20260424T232449
CREATED:20260410T102903Z
LAST-MODIFIED:20260421T124216Z
UID:118289-1779303600-1779303600@www.amuz.krakow.pl
SUMMARY:[:pl]Koncert Orkiestry Kameralnej i Chóru AMKP[:en]Concert by AMKP Chamber Orchestra & Choir[:]
DESCRIPTION:
URL:https://www.amuz.krakow.pl/en/event/koncert-orkiestry-kameralnej-i-choru-amkp-2/
LOCATION:Filharmonia im. K. Szymanowskiego
ATTACH;FMTTYPE=image/jpeg:https://www.amuz.krakow.pl/wp-content/uploads/2022/10/kafelki-na-web-chor-kamrl.jpg
END:VEVENT
BEGIN:VEVENT
DTSTART;VALUE=DATE:20260707
DTEND;VALUE=DATE:20260713
DTSTAMP:20260424T232449
CREATED:20250829T104459Z
LAST-MODIFIED:20251209T140200Z
UID:106446-1783382400-1783900799@www.amuz.krakow.pl
SUMMARY:[:pl]58. Międzynarodowe Sympozjum Waltorniowe "Horn in the City of Kings" | 58th International Horn Symposium „Horn in the City of Kings”[:en]58th International Horn Symposium „Horn in the City of Kings”[:]
DESCRIPTION:
URL:https://www.amuz.krakow.pl/wydzialy/wydzial-ii-instrumentalny/katedra-instrumentow-detych-i-akordeonu/aktualnosci-25/58-miedzynarodowe-sympozjum-waltorniowe-horn-in-the-city-of-kings/
ATTACH;FMTTYPE=image/png:https://www.amuz.krakow.pl/wp-content/uploads/2025/09/IHS-ok-kafel-2.png
END:VEVENT
BEGIN:VEVENT
DTSTART;VALUE=DATE:20260824
DTEND;VALUE=DATE:20260831
DTSTAMP:20260424T232449
CREATED:20260422T131902Z
LAST-MODIFIED:20260422T131902Z
UID:119008-1787529600-1788134399@www.amuz.krakow.pl
SUMMARY:[:pl]28. Letnia Akademia Muzyczna w Krakowie[:en]28th Summer Academy of Music in Kraków[:]
DESCRIPTION:
URL:https://www.amuz.krakow.pl/letnia-akademia-muzyczna/
ATTACH;FMTTYPE=image/jpeg:https://www.amuz.krakow.pl/wp-content/uploads/2026/03/LAM-28-kafel.jpg
END:VEVENT
BEGIN:VEVENT
DTSTART;VALUE=DATE:20260921
DTEND;VALUE=DATE:20260922
DTSTAMP:20260424T232449
CREATED:20260421T085724Z
LAST-MODIFIED:20260421T085724Z
UID:118851-1789948800-1790035199@www.amuz.krakow.pl
SUMMARY:[:pl]5. Ogólnopolski Konkurs Młodych Kompozytorów im. Marka Stachowskiego - termin zgłoszeń[:en]5th Polish Stachowski Young Composers Competition - application deadline[:]
DESCRIPTION:
URL:https://www.amuz.krakow.pl/konkursy/konkursy-kompozytorskie/ogolnopolski-konkurs-mlodych-kompozytorow-im-marka-stachowskiego/2026-2/
END:VEVENT
BEGIN:VEVENT
DTSTART;VALUE=DATE:20270404
DTEND;VALUE=DATE:20270412
DTSTAMP:20260424T232449
CREATED:20251106T105416Z
LAST-MODIFIED:20251106T105416Z
UID:110079-1806796800-1807487999@www.amuz.krakow.pl
SUMMARY:[:pl]3. Międzynarodowy Konkurs Duetów Fortepianowych „Duettissimo”[:en]3rd International Piano Duo Competition “Duettissimo”[:]
DESCRIPTION:
URL:https://www.amuz.krakow.pl/konkursy/konkursy-interpretacji-muzyki/miedzynarodowy-konkurs-duetow-fortepianowych/2027-2/
ATTACH;FMTTYPE=image/jpeg:https://www.amuz.krakow.pl/wp-content/uploads/2025/11/kafel.jpg
END:VEVENT
END:VCALENDAR