BEGIN:VCALENDAR
VERSION:2.0
PRODID:-//Akademia Muzyczna im. Krzysztofa Pendereckiego w Krakowie - ECPv6.15.20//NONSGML v1.0//EN
CALSCALE:GREGORIAN
METHOD:PUBLISH
X-WR-CALNAME:Akademia Muzyczna im. Krzysztofa Pendereckiego w Krakowie
X-ORIGINAL-URL:https://www.amuz.krakow.pl/en
X-WR-CALDESC:Events for Akademia Muzyczna im. Krzysztofa Pendereckiego w Krakowie
REFRESH-INTERVAL;VALUE=DURATION:PT1H
X-Robots-Tag:noindex
X-PUBLISHED-TTL:PT1H
BEGIN:VTIMEZONE
TZID:Europe/Warsaw
BEGIN:DAYLIGHT
TZOFFSETFROM:+0100
TZOFFSETTO:+0200
TZNAME:CEST
DTSTART:20190331T010000
END:DAYLIGHT
BEGIN:STANDARD
TZOFFSETFROM:+0200
TZOFFSETTO:+0100
TZNAME:CET
DTSTART:20191027T010000
END:STANDARD
BEGIN:DAYLIGHT
TZOFFSETFROM:+0100
TZOFFSETTO:+0200
TZNAME:CEST
DTSTART:20200329T010000
END:DAYLIGHT
BEGIN:STANDARD
TZOFFSETFROM:+0200
TZOFFSETTO:+0100
TZNAME:CET
DTSTART:20201025T010000
END:STANDARD
BEGIN:DAYLIGHT
TZOFFSETFROM:+0100
TZOFFSETTO:+0200
TZNAME:CEST
DTSTART:20210328T010000
END:DAYLIGHT
BEGIN:STANDARD
TZOFFSETFROM:+0200
TZOFFSETTO:+0100
TZNAME:CET
DTSTART:20211031T010000
END:STANDARD
END:VTIMEZONE
BEGIN:VEVENT
DTSTART;TZID=Europe/Warsaw:20201122T180000
DTEND;TZID=Europe/Warsaw:20201122T180000
DTSTAMP:20260425T192630
CREATED:20201103T115722Z
LAST-MODIFIED:20201109T102715Z
UID:43753-1606068000-1606068000@www.amuz.krakow.pl
SUMMARY:Audio Art Festival 2020 - Koncert
DESCRIPTION:Akademia Muzyczna w Krakowie\nStowarzyszenie Artystyczne Muzyka Centrum\nHevre\nzapraszają na \nAudio Art Festival 2020\n13-15\, 19-22 listopada 2020\nTransmisja online \nAudio Art jest eksperymentalną i postmodernistyczną sztuką przełomu wieków.\nAudio Art to integracja sztuk wizualnych z dźwiękowymi.\nAudio Art występuje w formie koncertów\, performance i instalacji.\nAudio Art tworzy nową koncepcję źródła dźwięku: obiektu i instrumentu muzycznego w określonej przestrzeni i czasie.\nAudio Art jest sztuką personalną: kompozytor\, konstruktor i wykonawca unifikują cały proces tworzenia i wykonania dzieła.\nAudio Art używa prostej i zaawansowanej technologii.\nFestiwal Audio Art prezentuje artystów z całego świata oraz ich premierowe projekty. W ramach festiwalu odbywają się także prezentacje spoza nurtu Audio Art.\nFestiwal jest wspierany przez: Gminę Miejską Krakow\, Stowarzyszenie Autorów ZAIKS\, Austriackie Forum Kultury\, Lousiville University\, Wydział Intermediów ASP w Krakowie oraz Polskie Stowarzyszenie Muzyki Elektroakustycznej. \n\nRandom Check (Wroclaw) Marcin Rupociński – projekt sieci \nPost-Paradise (Haga) Maya Verlak\, Jo Caimo\, Paul Norman – 3 performances \nPneuma (Wiedeń) Contemporary Ensemble
URL:https://www.amuz.krakow.pl/en/event/audio-art-festival-2020-koncert-9/
LOCATION:Koncert online
ATTACH;FMTTYPE=image/jpeg:https://www.amuz.krakow.pl/wp-content/uploads/2020/11/Audio-Art2-2020-scaled.jpg
END:VEVENT
BEGIN:VEVENT
DTSTART;TZID=Europe/Warsaw:20201121T200000
DTEND;TZID=Europe/Warsaw:20201121T200000
DTSTAMP:20260425T192630
CREATED:20201103T115534Z
LAST-MODIFIED:20201109T102727Z
UID:43751-1605988800-1605988800@www.amuz.krakow.pl
SUMMARY:[:pl]Audio Art Festival 2020 - Koncert[:en]Audio Art Festival 2020 - Concert[:]
DESCRIPTION:Audio Art Festival 2020\n13-15\, 19-22.11.2020\nonline \nAudio Art is an experimental and postmodernist art of the close of XX century and the beginning of the XXI century. Audio Art is an integration of sound and visual art. Presentation of Audio Art appears in form of the concert\, performance and installation. Audio Art creates new concept of sound source: as an object and musical instrument in certain space and time. Audio Art is a “one person art”: composer\, designer and performer unify the whole process of art creation. Audio Art uses low and high technology. Audio Art Festival presents individual artists from all over the world. Festival also presents other non-audio art events extending the whole image of the art based on sound. \n\nCoquetta (Berlin) Ioana Vreme Moser – performance \nPerripplayer (Montreal) Michal Seta & Nicolas Bouillot – instalacja VR – Kaon’CPT
URL:https://www.amuz.krakow.pl/en/event/audio-art-festival-2020-koncert-8/
LOCATION:Koncert online
ATTACH;FMTTYPE=image/jpeg:https://www.amuz.krakow.pl/wp-content/uploads/2020/11/Audio-Art2-2020-scaled.jpg
END:VEVENT
BEGIN:VEVENT
DTSTART;TZID=Europe/Warsaw:20201121T180000
DTEND;TZID=Europe/Warsaw:20201121T180000
DTSTAMP:20260425T192630
CREATED:20201103T115403Z
LAST-MODIFIED:20201109T102740Z
UID:43749-1605981600-1605981600@www.amuz.krakow.pl
SUMMARY:Audio Art Festival 2020 - Koncert
DESCRIPTION:Akademia Muzyczna w Krakowie\nStowarzyszenie Artystyczne Muzyka Centrum\nHevre\nzapraszają na \nAudio Art Festival 2020\n13-15\, 19-22 listopada 2020\nTransmisja online \nAudio Art jest eksperymentalną i postmodernistyczną sztuką przełomu wieków.\nAudio Art to integracja sztuk wizualnych z dźwiękowymi.\nAudio Art występuje w formie koncertów\, performance i instalacji.\nAudio Art tworzy nową koncepcję źródła dźwięku: obiektu i instrumentu muzycznego w określonej przestrzeni i czasie.\nAudio Art jest sztuką personalną: kompozytor\, konstruktor i wykonawca unifikują cały proces tworzenia i wykonania dzieła.\nAudio Art używa prostej i zaawansowanej technologii.\nFestiwal Audio Art prezentuje artystów z całego świata oraz ich premierowe projekty. W ramach festiwalu odbywają się także prezentacje spoza nurtu Audio Art.\nFestiwal jest wspierany przez: Gminę Miejską Krakow\, Stowarzyszenie Autorów ZAIKS\, Austriackie Forum Kultury\, Lousiville University\, Wydział Intermediów ASP w Krakowie oraz Polskie Stowarzyszenie Muzyki Elektroakustycznej. \n\nFl-Ar:Art (TelAwiw\, Kraków) Ania Karpowicz – flety\, Zofia Dowgiałło – harfa
URL:https://www.amuz.krakow.pl/en/event/audio-art-festival-2020-koncert-7/
LOCATION:Koncert online
ATTACH;FMTTYPE=image/jpeg:https://www.amuz.krakow.pl/wp-content/uploads/2020/11/Audio-Art2-2020-scaled.jpg
END:VEVENT
BEGIN:VEVENT
DTSTART;TZID=Europe/Warsaw:20201120T180000
DTEND;TZID=Europe/Warsaw:20201120T180000
DTSTAMP:20260425T192630
CREATED:20201103T115222Z
LAST-MODIFIED:20201109T102750Z
UID:43747-1605895200-1605895200@www.amuz.krakow.pl
SUMMARY:Audio Art Festival 2020 - Koncert
DESCRIPTION:Akademia Muzyczna w Krakowie\nStowarzyszenie Artystyczne Muzyka Centrum\nHevre\nzapraszają na \nAudio Art Festival 2020\n13-15\, 19-22 listopada 2020\nTransmisja online \nAudio Art jest eksperymentalną i postmodernistyczną sztuką przełomu wieków.\nAudio Art to integracja sztuk wizualnych z dźwiękowymi.\nAudio Art występuje w formie koncertów\, performance i instalacji.\nAudio Art tworzy nową koncepcję źródła dźwięku: obiektu i instrumentu muzycznego w określonej przestrzeni i czasie.\nAudio Art jest sztuką personalną: kompozytor\, konstruktor i wykonawca unifikują cały proces tworzenia i wykonania dzieła.\nAudio Art używa prostej i zaawansowanej technologii.\nFestiwal Audio Art prezentuje artystów z całego świata oraz ich premierowe projekty. W ramach festiwalu odbywają się także prezentacje spoza nurtu Audio Art.\nFestiwal jest wspierany przez: Gminę Miejską Krakow\, Stowarzyszenie Autorów ZAIKS\, Austriackie Forum Kultury\, Lousiville University\, Wydział Intermediów ASP w Krakowie oraz Polskie Stowarzyszenie Muzyki Elektroakustycznej. \n\nsci-fi retro: Anna Kozera – skrzypce\, Mikołaj Pałosz – wiolonczela\, \nWojciech Błażejczyk – elektronika \nIntuitive Mathematics (Warsaw) Qba Janicki – perkusja\, elektronika \nPandemic Media Space (UAEM <> PSeME) projekt sieci
URL:https://www.amuz.krakow.pl/en/event/audio-art-festival-2020-koncert-6/
LOCATION:Koncert online
ATTACH;FMTTYPE=image/jpeg:https://www.amuz.krakow.pl/wp-content/uploads/2020/11/Audio-Art2-2020-scaled.jpg
END:VEVENT
BEGIN:VEVENT
DTSTART;TZID=Europe/Warsaw:20201119T180000
DTEND;TZID=Europe/Warsaw:20201119T180000
DTSTAMP:20260425T192630
CREATED:20201103T115031Z
LAST-MODIFIED:20201109T102758Z
UID:43745-1605808800-1605808800@www.amuz.krakow.pl
SUMMARY:[:pl]Audio Art Festival 2020 - Koncert[:en]Audio Art Festival 2020 - Concert[:]
DESCRIPTION:Audio Art Festival 2020\n13-15\, 19-22.11.2020\nonline \nAudio Art is an experimental and postmodernist art of the close of XX century and the beginning of the XXI century. Audio Art is an integration of sound and visual art. Presentation of Audio Art appears in form of the concert\, performance and installation. Audio Art creates new concept of sound source: as an object and musical instrument in certain space and time. Audio Art is a “one person art”: composer\, designer and performer unify the whole process of art creation. Audio Art uses low and high technology. Audio Art Festival presents individual artists from all over the world. Festival also presents other non-audio art events extending the whole image of the art based on sound. \n\nGrupLab zaprasza \nCIME/PSeME/SME – Maraton elektroakustyczny
URL:https://www.amuz.krakow.pl/en/event/audio-art-festival-2020-koncert-5/
LOCATION:Koncert online
ATTACH;FMTTYPE=image/jpeg:https://www.amuz.krakow.pl/wp-content/uploads/2020/11/Audio-Art2-2020-scaled.jpg
END:VEVENT
BEGIN:VEVENT
DTSTART;TZID=Europe/Warsaw:20201115T180000
DTEND;TZID=Europe/Warsaw:20201115T180000
DTSTAMP:20260425T192630
CREATED:20201103T114827Z
LAST-MODIFIED:20201109T102814Z
UID:43743-1605463200-1605463200@www.amuz.krakow.pl
SUMMARY:[:pl]Audio Art Festival 2020 - Koncert[:en]Audio Art Festival 2020 - Concert[:]
DESCRIPTION:Audio Art Festival 2020\n13-15\, 19-22.11.2020\nonline \nAudio Art is an experimental and postmodernist art of the close of XX century and the beginning of the XXI century. Audio Art is an integration of sound and visual art. Presentation of Audio Art appears in form of the concert\, performance and installation. Audio Art creates new concept of sound source: as an object and musical instrument in certain space and time. Audio Art is a “one person art”: composer\, designer and performer unify the whole process of art creation. Audio Art uses low and high technology. Audio Art Festival presents individual artists from all over the world. Festival also presents other non-audio art events extending the whole image of the art based on sound. \n\nMaszyna Czasu Muzyki Centrum (Kraków) – koncert/performance \nZero Gained (Louisville) Krzysztof Wołek – elektronika
URL:https://www.amuz.krakow.pl/en/event/audio-art-festival-2020-koncert-4/
LOCATION:Koncert online
ATTACH;FMTTYPE=image/jpeg:https://www.amuz.krakow.pl/wp-content/uploads/2020/11/Audio-Art2-2020-scaled.jpg
END:VEVENT
BEGIN:VEVENT
DTSTART;TZID=Europe/Warsaw:20201114T200000
DTEND;TZID=Europe/Warsaw:20201114T200000
DTSTAMP:20260425T192630
CREATED:20201103T114650Z
LAST-MODIFIED:20201109T102822Z
UID:43741-1605384000-1605384000@www.amuz.krakow.pl
SUMMARY:[:pl]Audio Art Festival 2020 - Koncert[:en]Audio Art Festival 2020 - Concert[:]
DESCRIPTION:Audio Art Festival 2020\n13-15\, 19-22.11.2020\nonline \nAudio Art is an experimental and postmodernist art of the close of XX century and the beginning of the XXI century. Audio Art is an integration of sound and visual art. Presentation of Audio Art appears in form of the concert\, performance and installation. Audio Art creates new concept of sound source: as an object and musical instrument in certain space and time. Audio Art is a “one person art”: composer\, designer and performer unify the whole process of art creation. Audio Art uses low and high technology. Audio Art Festival presents individual artists from all over the world. Festival also presents other non-audio art events extending the whole image of the art based on sound. \n\nAtlas dźwięków (Lublin) Ludomir Franczak \nArt of Choices (Busko Zdrój) Konrad Gęca – performance
URL:https://www.amuz.krakow.pl/en/event/audio-art-festival-2020-koncert-3/
LOCATION:Koncert online
ATTACH;FMTTYPE=image/jpeg:https://www.amuz.krakow.pl/wp-content/uploads/2020/11/Audio-Art2-2020-scaled.jpg
END:VEVENT
BEGIN:VEVENT
DTSTART;TZID=Europe/Warsaw:20201114T180000
DTEND;TZID=Europe/Warsaw:20201114T180000
DTSTAMP:20260425T192630
CREATED:20201103T114500Z
LAST-MODIFIED:20201109T102832Z
UID:43739-1605376800-1605376800@www.amuz.krakow.pl
SUMMARY:Audio Art Festival 2020 - Koncert
DESCRIPTION:Akademia Muzyczna w Krakowie\nStowarzyszenie Artystyczne Muzyka Centrum\nHevre\nzapraszają na \nAudio Art Festival 2020\n13-15\, 19-22 listopada 2020\nTransmisja online \nAudio Art jest eksperymentalną i postmodernistyczną sztuką przełomu wieków.\nAudio Art to integracja sztuk wizualnych z dźwiękowymi.\nAudio Art występuje w formie koncertów\, performance i instalacji.\nAudio Art tworzy nową koncepcję źródła dźwięku: obiektu i instrumentu muzycznego w określonej przestrzeni i czasie.\nAudio Art jest sztuką personalną: kompozytor\, konstruktor i wykonawca unifikują cały proces tworzenia i wykonania dzieła.\nAudio Art używa prostej i zaawansowanej technologii.\nFestiwal Audio Art prezentuje artystów z całego świata oraz ich premierowe projekty. W ramach festiwalu odbywają się także prezentacje spoza nurtu Audio Art.\nFestiwal jest wspierany przez: Gminę Miejską Krakow\, Stowarzyszenie Autorów ZAIKS\, Austriackie Forum Kultury\, Lousiville University\, Wydział Intermediów ASP w Krakowie oraz Polskie Stowarzyszenie Muzyki Elektroakustycznej. \n\nNeon Forest Space (Kraków) Spółdzielnia Muzyczna Contemporary Ensemble
URL:https://www.amuz.krakow.pl/en/event/audio-art-festival-2020-koncert-2/
LOCATION:Koncert online
ATTACH;FMTTYPE=image/jpeg:https://www.amuz.krakow.pl/wp-content/uploads/2020/11/Audio-Art2-2020-scaled.jpg
END:VEVENT
BEGIN:VEVENT
DTSTART;TZID=Europe/Warsaw:20201113T180000
DTEND;TZID=Europe/Warsaw:20201113T180000
DTSTAMP:20260425T192630
CREATED:20201103T113729Z
LAST-MODIFIED:20201109T102840Z
UID:43729-1605290400-1605290400@www.amuz.krakow.pl
SUMMARY:[:pl]Audio Art Festival 2020 - Koncert[:en]Audio Art Festival 2020 - Concert[:]
DESCRIPTION:Audio Art Festival 2020\n13-15\, 19-22.11.2020\nonline \nAudio Art is an experimental and postmodernist art of the close of XX century and the beginning of the XXI century. Audio Art is an integration of sound and visual art. Presentation of Audio Art appears in form of the concert\, performance and installation. Audio Art creates new concept of sound source: as an object and musical instrument in certain space and time. Audio Art is a “one person art”: composer\, designer and performer unify the whole process of art creation. Audio Art uses low and high technology. Audio Art Festival presents individual artists from all over the world. Festival also presents other non-audio art events extending the whole image of the art based on sound. \n\nFadeferra (Montreal) Michał Set – instalacja VR \nIn Quotes (Haga) Kacper Ziemianin – instalacja \nMikrobiologiczny pejzaż dźwiękowy (Kraków/Poznań) Nina Szukała –  instalacja dźwiękowa \nSól ziemi (Kraków) Piotr Madej – instalacja dźwiękowa \nLSe 2.0 + – performance \nPaweł Romańczuk (Wrocław) –  Duety
URL:https://www.amuz.krakow.pl/en/event/audio-art-festival-2020-koncert/
LOCATION:Koncert online
ATTACH;FMTTYPE=image/jpeg:https://www.amuz.krakow.pl/wp-content/uploads/2020/11/Audio-Art2-2020-scaled.jpg
END:VEVENT
BEGIN:VEVENT
DTSTART;TZID=Europe/Warsaw:20201028T190000
DTEND;TZID=Europe/Warsaw:20201028T190000
DTSTAMP:20260425T192630
CREATED:20201012T212749Z
LAST-MODIFIED:20210630T092500Z
UID:42459-1603911600-1603911600@www.amuz.krakow.pl
SUMMARY:[:pl]Duettissimo! - BRAHMSODIA - Koncert Finałowy [:en]Duettissimo - BRAHMSODIA - Koncert Finałowy[:]
DESCRIPTION:Free passes to all concerts! \nTo get the obligatory free pass to the concert on October 17 please send e-mail to agnieszka.stefanska@amuz.krakow.pl until Friday\, October 16 till 11 a.m. \nTo get the obligatory free pass to the concerts on October 27 and 28 please send e-mail to agnieszka.stefanska@amuz.krakow.pl until Monday\, October 26 till 11 a.m.
URL:https://www.amuz.krakow.pl/duettissimo/duettissimo-folder/duettissimo-iv/
LOCATION:Sala Koncertowa Akademii Muzycznej im. Krzysztofa Pendereckiego w Krakowie
ATTACH;FMTTYPE=image/jpeg:https://www.amuz.krakow.pl/wp-content/uploads/2020/02/duettisimo-2020-4-scaled.jpg
END:VEVENT
BEGIN:VEVENT
DTSTART;TZID=Europe/Warsaw:20201027T190000
DTEND;TZID=Europe/Warsaw:20201027T190000
DTSTAMP:20260425T192630
CREATED:20201012T212515Z
LAST-MODIFIED:20210630T091305Z
UID:42457-1603825200-1603825200@www.amuz.krakow.pl
SUMMARY:[:pl]Duettissimo! - Estrada Młodych[:]
DESCRIPTION:Free passes to all concerts! \nTo get the obligatory free pass to the concert on October 17 please send e-mail to agnieszka.stefanska@amuz.krakow.pl until Friday\, October 16 till 11 a.m. \nTo get the obligatory free pass to the concerts on October 27 and 28 please send e-mail to agnieszka.stefanska@amuz.krakow.pl until Monday\, October 26 till 11 a.m.
URL:https://www.amuz.krakow.pl/duettissimo/duettissimo-folder/duettissimo-iv/
LOCATION:Sala Koncertowa Akademii Muzycznej im. Krzysztofa Pendereckiego w Krakowie
ATTACH;FMTTYPE=image/jpeg:https://www.amuz.krakow.pl/wp-content/uploads/2020/02/duettisimo-2020-3-scaled.jpg
END:VEVENT
BEGIN:VEVENT
DTSTART;TZID=Europe/Warsaw:20201017T190000
DTEND;TZID=Europe/Warsaw:20201017T190000
DTSTAMP:20260425T192630
CREATED:20201012T212114Z
LAST-MODIFIED:20210630T091255Z
UID:42454-1602961200-1602961200@www.amuz.krakow.pl
SUMMARY:[:pl]Duettissimo - Koncert Inauguracyjny[:]
DESCRIPTION:Free passes to all concerts! \nTo get the obligatory free pass to the concert on October 17 please send e-mail to agnieszka.stefanska@amuz.krakow.pl until Friday\, October 16 till 11 a.m. \nTo get the obligatory free pass to the concerts on October 27 and 28 please send e-mail to agnieszka.stefanska@amuz.krakow.pl until Monday\, October 26 till 11 a.m.
URL:https://www.amuz.krakow.pl/duettissimo/duettissimo-folder/duettissimo-iv/
ATTACH;FMTTYPE=image/jpeg:https://www.amuz.krakow.pl/wp-content/uploads/2020/02/duettisimo-2020-2-scaled.jpg
END:VEVENT
BEGIN:VEVENT
DTSTART;VALUE=DATE:20201013
DTEND;VALUE=DATE:20201014
DTSTAMP:20260425T192630
CREATED:20201012T204605Z
LAST-MODIFIED:20210630T090029Z
UID:42448-1602547200-1602633599@www.amuz.krakow.pl
SUMMARY:[:pl]Konferencja SENSORIUM - Conference Online[:]
DESCRIPTION:Sensorium conference is a next part of academic events organised by SME in October every year since 2012. \nConference deals with issues integrating music with visual arts\, with particular emphasis on the phenomena of interactive art\, sensoric and tactile systems\, bio-art with biofeedback\, sensory deprivation\, net-art and multisensory structure of virtual reality (VR\, AR). The conference consists of 2 panels with papers and concert at evening. All events on 13.10.2020 will be webcasted live at www.sme.amuz.krakow.pl \nParticipation in a conference (questions after papers and final discussion) available at\nhttps://us02web.zoom.us/j/2611566959?pwd=MzdYbGxqTCsyYlhPd1BJZWFRTExa-QT09 \nProgram of past conferences organised by SME is available at www.sme.amuz.krakow.pl (recordings at the tab Koncerty) \ncontact:\nProf. Marek Choloniewski\nConference Coordinator\nmarek.choloniewski@amuz.krakow.pl\nMarek Chołoniewski (AM Kraków)
URL:https://www.amuz.krakow.pl/sensorium/
CATEGORIES:2020
ATTACH;FMTTYPE=image/jpeg:https://www.amuz.krakow.pl/wp-content/uploads/2020/10/Sensorium-2020.jpg
END:VEVENT
END:VCALENDAR