BEGIN:VCALENDAR
VERSION:2.0
PRODID:-//Akademia Muzyczna im. Krzysztofa Pendereckiego w Krakowie - ECPv6.15.20//NONSGML v1.0//EN
CALSCALE:GREGORIAN
METHOD:PUBLISH
X-WR-CALNAME:Akademia Muzyczna im. Krzysztofa Pendereckiego w Krakowie
X-ORIGINAL-URL:https://www.amuz.krakow.pl/en
X-WR-CALDESC:Events for Akademia Muzyczna im. Krzysztofa Pendereckiego w Krakowie
REFRESH-INTERVAL;VALUE=DURATION:PT1H
X-Robots-Tag:noindex
X-PUBLISHED-TTL:PT1H
BEGIN:VTIMEZONE
TZID:Europe/Warsaw
BEGIN:DAYLIGHT
TZOFFSETFROM:+0100
TZOFFSETTO:+0200
TZNAME:CEST
DTSTART:20190331T010000
END:DAYLIGHT
BEGIN:STANDARD
TZOFFSETFROM:+0200
TZOFFSETTO:+0100
TZNAME:CET
DTSTART:20191027T010000
END:STANDARD
BEGIN:DAYLIGHT
TZOFFSETFROM:+0100
TZOFFSETTO:+0200
TZNAME:CEST
DTSTART:20200329T010000
END:DAYLIGHT
BEGIN:STANDARD
TZOFFSETFROM:+0200
TZOFFSETTO:+0100
TZNAME:CET
DTSTART:20201025T010000
END:STANDARD
BEGIN:DAYLIGHT
TZOFFSETFROM:+0100
TZOFFSETTO:+0200
TZNAME:CEST
DTSTART:20210328T010000
END:DAYLIGHT
BEGIN:STANDARD
TZOFFSETFROM:+0200
TZOFFSETTO:+0100
TZNAME:CET
DTSTART:20211031T010000
END:STANDARD
END:VTIMEZONE
BEGIN:VEVENT
DTSTART;TZID=Europe/Warsaw:20201028T190000
DTEND;TZID=Europe/Warsaw:20201028T190000
DTSTAMP:20260425T230636
CREATED:20201012T212749Z
LAST-MODIFIED:20210630T092500Z
UID:42459-1603911600-1603911600@www.amuz.krakow.pl
SUMMARY:[:pl]Duettissimo! - BRAHMSODIA - Koncert Finałowy [:en]Duettissimo - BRAHMSODIA - Koncert Finałowy[:]
DESCRIPTION:Free passes to all concerts! \nTo get the obligatory free pass to the concert on October 17 please send e-mail to agnieszka.stefanska@amuz.krakow.pl until Friday\, October 16 till 11 a.m. \nTo get the obligatory free pass to the concerts on October 27 and 28 please send e-mail to agnieszka.stefanska@amuz.krakow.pl until Monday\, October 26 till 11 a.m.
URL:https://www.amuz.krakow.pl/duettissimo/duettissimo-folder/duettissimo-iv/
LOCATION:Sala Koncertowa Akademii Muzycznej im. Krzysztofa Pendereckiego w Krakowie
ATTACH;FMTTYPE=image/jpeg:https://www.amuz.krakow.pl/wp-content/uploads/2020/02/duettisimo-2020-4-scaled.jpg
END:VEVENT
BEGIN:VEVENT
DTSTART;TZID=Europe/Warsaw:20201027T190000
DTEND;TZID=Europe/Warsaw:20201027T190000
DTSTAMP:20260425T230636
CREATED:20201012T212515Z
LAST-MODIFIED:20210630T091305Z
UID:42457-1603825200-1603825200@www.amuz.krakow.pl
SUMMARY:[:pl]Duettissimo! - Estrada Młodych[:]
DESCRIPTION:Free passes to all concerts! \nTo get the obligatory free pass to the concert on October 17 please send e-mail to agnieszka.stefanska@amuz.krakow.pl until Friday\, October 16 till 11 a.m. \nTo get the obligatory free pass to the concerts on October 27 and 28 please send e-mail to agnieszka.stefanska@amuz.krakow.pl until Monday\, October 26 till 11 a.m.
URL:https://www.amuz.krakow.pl/duettissimo/duettissimo-folder/duettissimo-iv/
LOCATION:Sala Koncertowa Akademii Muzycznej im. Krzysztofa Pendereckiego w Krakowie
ATTACH;FMTTYPE=image/jpeg:https://www.amuz.krakow.pl/wp-content/uploads/2020/02/duettisimo-2020-3-scaled.jpg
END:VEVENT
BEGIN:VEVENT
DTSTART;TZID=Europe/Warsaw:20201017T190000
DTEND;TZID=Europe/Warsaw:20201017T190000
DTSTAMP:20260425T230636
CREATED:20201012T212114Z
LAST-MODIFIED:20210630T091255Z
UID:42454-1602961200-1602961200@www.amuz.krakow.pl
SUMMARY:[:pl]Duettissimo - Koncert Inauguracyjny[:]
DESCRIPTION:Free passes to all concerts! \nTo get the obligatory free pass to the concert on October 17 please send e-mail to agnieszka.stefanska@amuz.krakow.pl until Friday\, October 16 till 11 a.m. \nTo get the obligatory free pass to the concerts on October 27 and 28 please send e-mail to agnieszka.stefanska@amuz.krakow.pl until Monday\, October 26 till 11 a.m.
URL:https://www.amuz.krakow.pl/duettissimo/duettissimo-folder/duettissimo-iv/
ATTACH;FMTTYPE=image/jpeg:https://www.amuz.krakow.pl/wp-content/uploads/2020/02/duettisimo-2020-2-scaled.jpg
END:VEVENT
BEGIN:VEVENT
DTSTART;VALUE=DATE:20201013
DTEND;VALUE=DATE:20201014
DTSTAMP:20260425T230636
CREATED:20201012T204605Z
LAST-MODIFIED:20210630T090029Z
UID:42448-1602547200-1602633599@www.amuz.krakow.pl
SUMMARY:[:pl]Konferencja SENSORIUM - Conference Online[:]
DESCRIPTION:Sensorium conference is a next part of academic events organised by SME in October every year since 2012. \nConference deals with issues integrating music with visual arts\, with particular emphasis on the phenomena of interactive art\, sensoric and tactile systems\, bio-art with biofeedback\, sensory deprivation\, net-art and multisensory structure of virtual reality (VR\, AR). The conference consists of 2 panels with papers and concert at evening. All events on 13.10.2020 will be webcasted live at www.sme.amuz.krakow.pl \nParticipation in a conference (questions after papers and final discussion) available at\nhttps://us02web.zoom.us/j/2611566959?pwd=MzdYbGxqTCsyYlhPd1BJZWFRTExa-QT09 \nProgram of past conferences organised by SME is available at www.sme.amuz.krakow.pl (recordings at the tab Koncerty) \ncontact:\nProf. Marek Choloniewski\nConference Coordinator\nmarek.choloniewski@amuz.krakow.pl\nMarek Chołoniewski (AM Kraków)
URL:https://www.amuz.krakow.pl/sensorium/
CATEGORIES:2020
ATTACH;FMTTYPE=image/jpeg:https://www.amuz.krakow.pl/wp-content/uploads/2020/10/Sensorium-2020.jpg
END:VEVENT
END:VCALENDAR